Workbook
Name Acciones_Categoría_3: '[1]Ponderaciones y parámetros'!$K$6:$N$6
Name EXCELENCIA_ACADÉMICA: IN.02.CI!$Q$2:$Q$3
Name GESTIÓN_DE_LA_CALIDAD: IN.02.CI!$Q$6:$Q$9
Name Nombre: #REF!
Name Nombre: #REF!
Name PROYECCIÓN_SOCIAL: IN.02.CI!$Q$4:$Q$5
Name Simulador: [1]Listas!$B$2:$B$4

Sheet IN.02.CI
P1: MODERNIZAR PEDAGÓGICA Y CURRICULARMENTE LOS PROGRAMAS ACADÉMICOS PARA EDUCAR PERSONAS ÍNTEGRAS, CONSCIENTES DE LA NECESIDAD DE LA SOCIEDAD Y DE CÓMO CONTRIBUIR A LA SOLUCIÓN DE PROBLEMAS.
N2: DIRECCIONAMIENTO ESTRATÉGICO | O2: ESTRATÉGICO | P2: ENFOCAR LAS INVESTIGACIONES A LAS NECESIDADES Y POTENCIALIDADES DE LA SOCIEDAD Y LA REGIÓN | Q2: 1. GESTION DE LA ALTA CALIDAD DE LA EDUCACIÓN
N3: PLANEACIÓN ESTRATÉGICA | O3: DE PROCESO | P3: FORMAR Y CAPACITAR EL RECURSO HUMANO CON ÉNFASIS EN LA INVESTIGACIÓN | Q3: 2. FOMENTO A LA INVESTIGACIÓN
N4: COMUNICACIÓN ESTRATÉGICA | O4: ESTRATÉGICO Y DE PROCESO | P4: ACREDITAR CON ALTA CALIDAD DE LA EDUCACIÓN LOS PROGRAMAS ACADÉMICOS Y LA INSTITUCIÓN | Q4: 3. ARTICULACIÓN CON EL ENTORNO
N5: DOCENCIA | P5: IDENTIFICAR LOS REQUISITOS Y EXPECTATIVAS DE LA SOCIEDAD PARA OFRECER SOLUCIONES QUE LOGREN SATISFACER SUS NECESIDADES | Q5: 4. INTERNACIONALIZACIÓN
N6: INVESTIGACIÓN | P6: INTERCAMBIAR SERVICIOS ACADÉMICOS DE CALIDAD A NIVEL INTERNACIONAL | Q6: 5. BIENESTAR Y CULTURA UNIQUINDIANA
C7: Código: | E7: E.GC.FTI.01 | G7: Versión: | H7: 3 | I7: Fecha: | J7: 41337 | N7: PROYECCIÓN SOCIAL | P7: CONSTRUIR LA IDENTIDAD UNIQUINDIANA | Q7: 6. PLANEACIÓN Y DESARROLLO ADMINISTRATIVO
N8: ADMINISTRACIÓN DEL CAMPUS | P8: PLANEAR LA EJECUCIÓN EFECTIVA DE LA MISIÓN INSTITUCIONAL | Q8: 7. DESARROLLO TECNOLÓGICO
B9: A. INFORMACIÓN DE IDENTIFICACIÓN | N9: GESTIÓN HUMANA | P9: MEJORAR EL DESEMPEÑO INSTITUCIONAL A TRAVÉS DE LA GESTIÓN EFICAZ, EFICIENTE Y EFECTIVA DE LOS PROCESOS INTERNOS | Q9: 8. INFRAESTRUCTURA FISICA DEL CAMPUS
C10: NOMBRE DEL INDICADOR: | E10: Nivel de implementación del nuevo Modelo Estándar de Control Interno | J10: CÓDIGO: | K10: IN.01.CI | N10: GESTION APOYO ACADÉMICO | P10: EXCELENCIA_ACADÉMICA
C11: FECHA DE CREACIÓN: | E11: 43683 | K11: VERSIÓN: | L11: 1 | N11: GESTIÓN FINANCIERA | P11: PROYECCIÓN_SOCIAL
C12: NOMBRE DEL MACROPROCESO | F12: CONTROL INTERNO | N12: GESTIÓN DE BIENESTAR INSTITUCIONAL | P12: GESTIÓN_DE_LA_CALIDAD
C13: NOMBRE DEL PROCESO: | I13: NIVEL: | J13: DE PROCESO | N13: GESTIÓN BIBLIOTECA
C14: OBJETIVO DEL MACROPROCESO | E14: Diseñar, implementar y evaluar el Sistema de Control Interno de la institución, asesorando a la Alta Dirección en la continuidad del proceso administrativo, la evaluación de los planes establecidos y en la introducción de los correctivos necesarios para el cumplimiento de las metas u objetivos previstos | N14: GESTIÓN RECURSOS ACADÉMICOS
N15: GESTIÓN JURÍDICA
B16: B. RESPONSABLES DE INFORMACIÓN | N16: CONTROL INTERNO
C17: ÁREAS O PROCESOS QUE SUMINISTRAN INFORMACIÓN Y DATOS AL INDICADOR: | E17: Oficina Asesora de Control Interno
C18: RESPONSABLE CALCULAR: | E18: Jefe Oficina Asesora de Control Interno y Equipo de trabajo
C19: RESPONSABLE DE ANALIZAR Y TOMAR DECISIONES: | E19: Comité de Coordinación de Control Interno
C20: USUARIOS : | E20: Direccionamiento Estratégico, Planeación estratégica
B22: C. CARACTERIZACIÓN
C23: OBJETIVO/DESCRIPCIÓN: | E23: Medir la eficacia del Sistema de Control Interno a través de la evaluación del nivel de adopción del nuevo Modelo Estándar de Control Interno dentro de la Universidad del Quindío.
C26: TIPO DE INDICADOR: | E26: Eficacia | O26: Eficiencia
O27: Eficacia
N28: Indirecto | O28: Efectividad
C29: COMPORTAMIENTO: | E29: Directo | N29: Directo
B31: D. MEDICIÓN
C32: FORMULA PARA CALCULAR EL INDICADOR | E32: A partir de la herramienta de autodiagnóstico de la política de control interno realizada por la Función Pública, el indicador corresponde al puntaje obtenido en dicha herramienta, el cual está en una escala de 0 a 100. | N32: ANUAL
N33: SEMESTRAL
C34: FRECUENCIA RECOLECCIÓN: | E34: ANUAL | H34: FRECUENCIA REVISIÓN: | J34: ANUAL | N34: TRIMESTRAL
C35: FUENTE DE DATOS Y MÉTODO PARA LA MEDICIÓN | E35: Formulario de Autodiagnóstico de la Política de Control Interno https://www.funcionpublica.gov.co/documents/28587410/28587917/7-controlinterno.xlsx/45703f31-8e9d-7180-4abf-faae3334b75c | J35: ESCALA: | K35: Porcentaje | N35: MENSUAL
N36: OTRO
C37: 11 | H37: =VLOOKUP(E37,#REF!,2) -> #REF! | K37: =#REF! -> #REF! | L37: =#REF! -> #REF!
C38: 12 | H38: =VLOOKUP(E38,#REF!,2) -> #REF! | K38: =#REF! -> #REF! | L38: =#REF! -> #REF!
C39: 13 | H39: =VLOOKUP(E39,#REF!,2) -> #REF! | K39: =#REF! -> #REF! | L39: =#REF! -> #REF!
C40: 14 | H40: =VLOOKUP(E40,#REF!,2) -> #REF! | K40: =#REF! -> #REF! | L40: =#REF! -> #REF!
C41: 15 | H41: =VLOOKUP(E41,#REF!,2) -> #REF! | K41: =#REF! -> #REF! | L41: =#REF! -> #REF!
C42: 16 | H42: =VLOOKUP(E42,#REF!,2) -> #REF! | K42: =#REF! -> #REF! | L42: =#REF! -> #REF!
C43: 17 | H43: =VLOOKUP(E43,#REF!,2) -> #REF! | K43: =#REF! -> #REF! | L43: =#REF! -> #REF!
C44: 18 | H44: =VLOOKUP(E44,#REF!,2) -> #REF! | K44: =#REF! -> #REF! | L44: =#REF! -> #REF!
C45: 19 | H45: =VLOOKUP(E45,#REF!,2) -> #REF! | K45: =#REF! -> #REF! | L45: =#REF! -> #REF!
C46: 20 | H46: =VLOOKUP(E46,#REF!,2) -> #REF! | K46: =#REF! -> #REF! | L46: =#REF! -> #REF!
C47: 21 | H47: =VLOOKUP(E47,#REF!,2) -> #REF! | K47: =#REF! -> #REF! | L47: =#REF! -> #REF!
C48: 22 | H48: =VLOOKUP(E48,#REF!,2) -> #REF! | K48: =#REF! -> #REF! | L48: =#REF! -> #REF!
... C51: 25 | H51: =VLOOKUP(E51,#REF!,2) -> #REF! | K51: =#REF! -> #REF! | L51: =#REF! -> #REF!
B52: E. REGISTRO Y CONTROL
A54: N° | B54: FECHA DE REGISTRO (dd/mm/aaaa) | C54: META DEL PERIODO | D54: JUSTIFICACIÓN DE LA META | E54: VALOR NUMERADOR | F54: VALOR DENOMINADOR | G54: RESULTADO | H54: ANÁLISIS Y OBSERVACIONES | J54: ACCIONES DE MEJORA
A55: 1 | B55: 43685 | C55: 0.8 | G55: 0.808 | H55: En la hoja adjunta se observa el análisis de este resultado por componentes del Sistema de Control Interno. - El componente que más se debe fortalecer es el de información y comunicación, lo cual evidencia que la institución cuenta con herramientas muy importantes de Control Interno, sin embargo debe trabajarse en su apropiación a través de estrategias de información y comunicación. | J55: *Se deberá actualizar el Sistema de Control Interno de la Universidad, adoptando el nuevo Modelo Integrado de Planeación y Gestión, en cuanto a la política de control Interno, el nuevo MECI. *Se establecerá una ruta de adopción del MIPG para las 7 dimensiones, iniciando por la de Talento Humano, esto en coordinación con la Vicerrectoría Administrativa y la Oficina de Planeación y Desarrollo.
A56: 2 | B56: 43819 | C56: 0.85 | G56: 0.828 | H56: A partir del sistema de medición implementado se logró identificar un avance de 80.8 a 82.2 en la calificación del nivel de madurez del Sistema de Control Interno, en el segundo semestre de 2019, lo anterior gracias al fortalecimiento en aspectos como el ambiente de control, la gestión de riesgos institucionales y la información y comunicación. Fuente: Informe seguimiento pormenorizado Sistema de Control Interno julio - diciembre de 2019 | J56: *Implementación del Modelo Integrado de Planeación y Gestión, entre las oficinas de Planeación y Control Interno, para fortalecimiento del Sistema de Control Interno. *Implementar la cátedra del Servidor Uniquindiano, proyecto articulador de formación para los funcionarios de la Universidad que ayudará a consolidar todos los componentes del MECI, en especial los de comunicaciones y ambiente de control. *Incluir dentro de los Planes Anuales de Gestión de la vigencia 2020 de las áreas involucradas, actividades que contribuyan al fortalecimiento del Sistema de Control Interno, las cuales ayudarán a su consolidación. Fuente: Informe seguimiento pormenorizado Sistema de Control Interno julio - diciembre de 2019
A57: 3 | B57: 44185 | C57: 0.9
A58: 4 | C58: 0.95
A59: 5
A60: 6
A61: 7
A62: 8
A63: 9
A64: 10
A65: 11
B66: Nota: Esta ficha técnica del indicador alimenta el Cuadro de Mando Integral de Indicadores de la Universidad del Quindío. Con frecuencia se requiere la disponibilidad de la información para realizar el reporte a la Alta Dirección. Para cualquier sugerencia sobre la ficha técnica del indicador favor comunicarse con el Área de Planeación y desarrollo.

Sheet soporte medición dic 2019
C3: RESULTADOS POLÍTICA CONTROL INTERNO
C6: 1. Calificación total:
J11: Niveles | K11: Calificación
I12: =[2]Inicio!C4 -> POLÍTICA CONTROL INTERNO | J12: 100 | K12: =+[2]Autodiagnóstico!G7 -> 82.184874
C28: 2. Calificación por componentes:
J33: Variable | K33: Rangos | L33: Puntaje actual
J34: =+[2]Autodiagnóstico!C11 -> Ambiente de Control | K34: 100 | L34: =+[2]Autodiagnóstico!D11 -> 80.8
J35: =+[2]Autodiagnóstico!C36 -> Gestión de los riesgos institucionales | K35: 100 | L35: =+[2]Autodiagnóstico!D36 -> 85.357143
J36: =+[2]Autodiagnóstico!C64 -> Actividades de Control | K36: 100 | L36: =+[2]Autodiagnóstico!D64 -> 78.695652
J37: =+[2]Autodiagnóstico!C87 -> Información y Comunicación | K37: 100 | L37: =+[2]Autodiagnóstico!D87 -> 83
J38: =+[2]Autodiagnóstico!C107 -> Monitoreo o supervisión continua | K38: 100 | L38: =+[2]Autodiagnóstico!D107 -> 82.608696
C49: 3. Calificación por categorías:
K51: Categorías del componente 1:
J52: =+[2]Autodiagnóstico!C11 -> Ambiente de Control
J56: Categorías | K56: Niveles | L56: Calificación
J57: =+[2]Autodiagnóstico!E11 -> Diseño adecuado y efectivo del componente Ambiente de Control | K57: 100 | L57: =+[2]Autodiagnóstico!F11 -> 80
J58: =+[2]Autodiagnóstico!E16 -> Responsabilidades de la Alta dirección y Comité Institucional de Coordinación de Control Interno (línea estratégica) | K58: 100 | L58: =+[2]Autodiagnóstico!F16 -> 85
J59: =+[2]Autodiagnóstico!E20 -> Responsabilidades gerentes públicos y líderes de proceso (primera Línea de defensa) | K59: 100 | L59: =+[2]Autodiagnóstico!F20 -> 76
J60: =+[2]Autodiagnóstico!E25 -> Responsabilidades de los servidores encargados del monitoreo y evaluación de controles y gestión del riesgo (segunda línea de defensa) | K60: 100 | L60: =+[2]Autodiagnóstico!F25 -> 83.333333
J61: =+[2]Autodiagnóstico!E31 -> Responsabilidades del área de control interno (tercera línea de defensa) | K61: 100 | L61: =+[2]Autodiagnóstico!F31 -> 80
K76: Categorías del componente 2
J77: =+[2]Autodiagnóstico!C36 -> Gestión de los riesgos institucionales
J80: Acciones | K80: Niveles | L80: Calificación
J81: =+[2]Autodiagnóstico!E36 -> Diseño adecuado y efectivo del componente Gestión de Riesgos | K81: 100 | L81: =+[2]Autodiagnóstico!F36 -> 84
J82: =+[2]Autodiagnóstico!E41 -> Responsabilidades de la Alta dirección y Comité Institucional de Coordinación de Control Interno (línea estratégica) | K82: 100 | L82: =+[2]Autodiagnóstico!F41 -> 88
J83: =+[2]Autodiagnóstico!E46 -> Responsabilidades gerentes públicos y líderes de proceso (primera Línea de defensa) | K83: 100 | L83: =+[2]Autodiagnóstico!F46 -> 80
J84: =+[2]Autodiagnóstico!E50 -> Responsabilidades de los servidores encargados del monitoreo y evaluación de controles y gestión del riesgo (segunda línea de defensa) | K84: 100 | L84: =+[2]Autodiagnóstico!F50 -> 84.444444
J85: =+[2]Autodiagnóstico!E59 -> Responsabilidades del área de control interno | K85: 100 | L85: =+[2]Autodiagnóstico!F59 -> 90
K101: Categorías del componente 3:
K102: =+[2]Autodiagnóstico!C64 -> Actividades de Control
J105: Categorías | K105: Niveles | L105: Calificación
J106: =+[2]Autodiagnóstico!E64 -> Diseño adecuado y efectivo del componente Actividades de Control | K106: 100 | L106: =+[2]Autodiagnóstico!F64 -> 90
J107: =+[2]Autodiagnóstico!E67 -> Responsabilidades de la Alta dirección y Comité Institucional de Coordinación de Control Interno (línea estratégica) | K107: 100 | L107: =+[2]Autodiagnóstico!F67 -> 80
J108: =+[2]Autodiagnóstico!E69 -> Responsabilidades gerentes públicos y líderes de proceso (primera Línea de defensa) | K108: 100 | L108: =+[2]Autodiagnóstico!F69 -> 80
J109: =+[2]Autodiagnóstico!E74 -> Responsabilidades de los servidores encargados del monitoreo y evaluación de controles y gestión del riesgo (segunda línea de defensa) | K109: 100 | L109: =+[2]Autodiagnóstico!F74 -> 75
J110: =+[2]Autodiagnóstico!E82 -> Responsabilidades del área de control interno | K110: 100 | L110: =+[2]Autodiagnóstico!F82 -> 76
K126: Categorías del componente 4:
K127: =+[2]Autodiagnóstico!C87 -> Información y Comunicación
J130: Categorías | K130: Niveles | L130: Calificación
J131: =+[2]Autodiagnóstico!E87 -> Diseño adecuado y efectivo del componente Información y Comunicación | K131: 100 | L131: =+[2]Autodiagnóstico!F87 -> 73.333333
J132: =+[2]Autodiagnóstico!E90 -> Responsabilidades de la Alta dirección y Comité Institucional de Coordinación de Control Interno (línea estratégica) | K132: 100 | L132: =+[2]Autodiagnóstico!F90 -> 70
J133: =+[2]Autodiagnóstico!E92 -> Responsabilidades gerentes públicos y líderes de proceso (primera Línea de defensa) | K133: 100 | L133: =+[2]Autodiagnóstico!F92 -> 93.333333
J134: =+[2]Autodiagnóstico!E98 -> Responsabilidades de los servidores encargados del monitoreo y evaluación de controles y gestión del riesgo (segunda línea de defensa) | K134: 100 | L134: =+[2]Autodiagnóstico!F98 -> 84
J135: =+[2]Autodiagnóstico!E103 -> Responsabilidades del área de control interno | K135: 100 | L135: =+[2]Autodiagnóstico!F103 -> 80
K150: Categorías del componente 5:
K151: =+[2]Autodiagnóstico!C107 -> Monitoreo o supervisión continua
K155: =+[2]Autodiagnóstico!E107 -> Diseño adecuado y efectivo del componente Monitoreo o Supervisión Continua | L155: 100 | M155: =+[2]Autodiagnóstico!F107 -> 83.333333
K156: =+[2]Autodiagnóstico!E116 -> Responsabilidades de la Alta dirección y Comité Institucional de Coordinación de Control Interno (línea estratégica) | L156: 100 | M156: =+[2]Autodiagnóstico!F116 -> 80
K157: =+[2]Autodiagnóstico!E119 -> Responsabilidades gerentes públicos y líderes de proceso (primera Línea de defensa) | L157: 100 | M157: =+[2]Autodiagnóstico!F119 -> 80
K158: =+[2]Autodiagnóstico!E122 -> Responsabilidades de los servidores encargados del monitoreo y evaluación de controles y gestión del riesgo (segunda línea de defensa) | L158: 100 | M158: =+[2]Autodiagnóstico!F122 -> 80
K159: =+[2]Autodiagnóstico!E126 -> Responsabilidades del área de control interno | L159: 100 | M159: =+[2]Autodiagnóstico!F126 -> 87.5
K181: INICIO

Sheet Soporte medición ago 2019
C3: RESULTADOS POLÍTICA CONTROL INTERNO
C6: 1. Calificación total:
J11: Niveles | K11: Calificación
I12: POLÍTICA CONTROL INTERNO | J12: 100 | K12: 80.756303
C28: 2. Calificación por componentes:
J33: Variable | K33: Rangos | L33: Puntaje actual
J34: Ambiente de Control | K34: 100 | L34: 80.8
J35: Gestión de los riesgos institucionales | K35: 100 | L35: 83.571429
J36: Actividades de Control | K36: 100 | L36: 79.565217
J37: Información y Comunicación | K37: 100 | L37: 78
J38: Monitoreo o supervisión continua | K38: 100 | L38: 80.869565
C49: 3. Calificación por categorías:
K51: Categorías del componente 1:
J52: Ambiente de Control
J56: Categorías | K56: Niveles | L56: Calificación
J57: Diseño adecuado y efectivo del componente Ambiente de Control | K57: 100 | L57: 82
J58: Responsabilidades de la Alta dirección y Comité Institucional de Coordinación de Control Interno (línea estratégica) | K58: 100 | L58: 85
J59: Responsabilidades gerentes públicos y líderes de proceso (primera Línea de defensa) | K59: 100 | L59: 78
J60: Responsabilidades de los servidores encargados del monitoreo y evaluación de controles y gestión del riesgo (segunda línea de defensa) | K60: 100 | L60: 83.333333
J61: Responsabilidades del área de control interno (tercera línea de defensa) | K61: 100 | L61: 76
K76: Categorías del componente 2
J77: Gestión de los riesgos institucionales
J80: Acciones | K80: Niveles | L80: Calificación
J81: Diseño adecuado y efectivo del componente Gestión de Riesgos | K81: 100 | L81: 84
J82: Responsabilidades de la Alta dirección y Comité Institucional de Coordinación de Control Interno (línea estratégica) | K82: 100 | L82: 88
J83: Responsabilidades gerentes públicos y líderes de proceso (primera Línea de defensa) | K83: 100 | L83: 85
J84: Responsabilidades de los servidores encargados del monitoreo y evaluación de controles y gestión del riesgo (segunda línea de defensa) | K84: 100 | L84: 84.444444
J85: Responsabilidades del área de control interno | K85: 100 | L85: 76
K101: Categorías del componente 3:
K102: Actividades de Control
J105: Categorías | K105: Niveles | L105: Calificación
J106: Diseño adecuado y efectivo del componente Actividades de Control | K106: 100 | L106: 93.333333
J107: Responsabilidades de la Alta dirección y Comité Institucional de Coordinación de Control Interno (línea estratégica) | K107: 100 | L107: 80
J108: Responsabilidades gerentes públicos y líderes de proceso (primera Línea de defensa) | K108: 100 | L108: 80
J109: Responsabilidades de los servidores encargados del monitoreo y evaluación de controles y gestión del riesgo (segunda línea de defensa) | K109: 100 | L109: 78.75
J110: Responsabilidades del área de control interno | K110: 100 | L110: 72
K126: Categorías del componente 4:
K127: Información y Comunicación
J130: Categorías | K130: Niveles | L130: Calificación
J131: Diseño adecuado y efectivo del componente Información y Comunicación | K131: 100 | L131: 60
J132: Responsabilidades de la Alta dirección y Comité Institucional de Coordinación de Control Interno (línea estratégica) | K132: 100 | L132: 70
J133: Responsabilidades gerentes públicos y líderes de proceso (primera Línea de defensa) | K133: 100 | L133: 83.333333
J134: Responsabilidades de los servidores encargados del monitoreo y evaluación de controles y gestión del riesgo (segunda línea de defensa) | K134: 100 | L134: 84
J135: Responsabilidades del área de control interno | K135: 100 | L135: 80
K150: Categorías del componente 5:
K151: Monitoreo o supervisión continua
K155: Diseño adecuado y efectivo del componente Monitoreo o Supervisión Continua | L155: 100 | M155: 82.222222
K156: Responsabilidades de la Alta dirección y Comité Institucional de Coordinación de Control Interno (línea estratégica) | L156: 100 | M156: 73.333333
K157: Responsabilidades gerentes públicos y líderes de proceso (primera Línea de defensa) | L157: 100 | M157: 80
K158: Responsabilidades de los servidores encargados del monitoreo y evaluación de controles y gestión del riesgo (segunda línea de defensa) | L158: 100 | M158: 80
K159: Responsabilidades del área de control interno | L159: 100 | M159: 85
K181: INICIO
