Workbook

Sheet Carta de Control 1
F4: CARTA DE CONTROL DEL MÉTODO
F5: CÓDIGO: M.EDS-04.LPAR.INT.03.F.01 | P5: Versión: 01 | X5: Fecha: 2019/02/22 | AF5: Hoja 1 de 1 | AN5: media | AO5: x+1s | AP5: x-1s | AQ5: lsa | AR5: lia | AS5: lsc | AT5: lic
A7: Mes: | M7: Año:
A9: Método: | N9: Patrón de Control: | AG9: Datos de esta carta | AM9: 1 | AN9: =$AI$17 -> 50.129355 | AO9: =$AI$23 -> 8.3146667 | AP9: =$AI$24 -> 6.6853333 | AQ9: =$AI$21 -> 9.1293333 | AR9: =$AI$22 -> 5.8706667 | AS9: =$AI$19 -> 10.094 | AT9: =$AI$20 -> 5.206
AM10: 2 | AN10: =$AI$17 -> 50.129355 | AO10: =$AI$23 -> 8.3146667 | AP10: =$AI$24 -> 6.6853333 | AQ10: =$AI$21 -> 9.1293333 | AR10: =$AI$22 -> 5.8706667 | AS10: =$AI$19 -> 10.094 | AT10: =$AI$20 -> 5.206
AG11: n: | AI11: =COUNT(B36:AF36) -> 0 | AM11: 3 | AN11: =$AI$17 -> 50.129355 | AO11: =$AI$23 -> 8.3146667 | AP11: =$AI$24 -> 6.6853333 | AQ11: =$AI$21 -> 9.1293333 | AR11: =$AI$22 -> 5.8706667 | AS11: =$AI$19 -> 10.094 | AT11: =$AI$20 -> 5.206
AI12: =AVERAGE(B36:AF36) -> #DIV/0! | AM12: 4 | AN12: =$AI$17 -> 50.129355 | AO12: =$AI$23 -> 8.3146667 | AP12: =$AI$24 -> 6.6853333 | AQ12: =$AI$21 -> 9.1293333 | AR12: =$AI$22 -> 5.8706667 | AS12: =$AI$19 -> 10.094 | AT12: =$AI$20 -> 5.206
AG13: s: | AI13: =STDEV(B36:AF36) -> #DIV/0! | AM13: 5 | AN13: =$AI$17 -> 50.129355 | AO13: =$AI$23 -> 8.3146667 | AP13: =$AI$24 -> 6.6853333 | AQ13: =$AI$21 -> 9.1293333 | AR13: =$AI$22 -> 5.8706667 | AS13: =$AI$19 -> 10.094 | AT13: =$AI$20 -> 5.206
AG14: Datos de la carta anterior | AM14: 6 | AN14: =$AI$17 -> 50.129355 | AO14: =$AI$23 -> 8.3146667 | AP14: =$AI$24 -> 6.6853333 | AQ14: =$AI$21 -> 9.1293333 | AR14: =$AI$22 -> 5.8706667 | AS14: =$AI$19 -> 10.094 | AT14: =$AI$20 -> 5.206
AM15: 7 | AN15: =$AI$17 -> 50.129355 | AO15: =$AI$23 -> 8.3146667 | AP15: =$AI$24 -> 6.6853333 | AQ15: =$AI$21 -> 9.1293333 | AR15: =$AI$22 -> 5.8706667 | AS15: =$AI$19 -> 10.094 | AT15: =$AI$20 -> 5.206
AG16: n: | AI16: =COUNT(B36:AF36) -> 0 | AM16: 8 | AN16: =$AI$17 -> 50.129355 | AO16: =$AI$23 -> 8.3146667 | AP16: =$AI$24 -> 6.6853333 | AQ16: =$AI$21 -> 9.1293333 | AR16: =$AI$22 -> 5.8706667 | AS16: =$AI$19 -> 10.094 | AT16: =$AI$20 -> 5.206
AI17: 50.129355 | AM17: 9 | AN17: =$AI$17 -> 50.129355 | AO17: =$AI$23 -> 8.3146667 | AP17: =$AI$24 -> 6.6853333 | AQ17: =$AI$21 -> 9.1293333 | AR17: =$AI$22 -> 5.8706667 | AS17: =$AI$19 -> 10.094 | AT17: =$AI$20 -> 5.206
AG18: s: | AI18: 0.1015459 | AM18: 10 | AN18: =$AI$17 -> 50.129355 | AO18: =$AI$23 -> 8.3146667 | AP18: =$AI$24 -> 6.6853333 | AQ18: =$AI$21 -> 9.1293333 | AR18: =$AI$22 -> 5.8706667 | AS18: =$AI$19 -> 10.094 | AT18: =$AI$20 -> 5.206
AI19: 10.094 | AM19: 11 | AN19: =$AI$17 -> 50.129355 | AO19: =$AI$23 -> 8.3146667 | AP19: =$AI$24 -> 6.6853333 | AQ19: =$AI$21 -> 9.1293333 | AR19: =$AI$22 -> 5.8706667 | AS19: =$AI$19 -> 10.094 | AT19: =$AI$20 -> 5.206
AI20: 5.206 | AM20: 12 | AN20: =$AI$17 -> 50.129355 | AO20: =$AI$23 -> 8.3146667 | AP20: =$AI$24 -> 6.6853333 | AQ20: =$AI$21 -> 9.1293333 | AR20: =$AI$22 -> 5.8706667 | AS20: =$AI$19 -> 10.094 | AT20: =$AI$20 -> 5.206
AI21: 9.1293333 | AM21: 13 | AN21: =$AI$17 -> 50.129355 | AO21: =$AI$23 -> 8.3146667 | AP21: =$AI$24 -> 6.6853333 | AQ21: =$AI$21 -> 9.1293333 | AR21: =$AI$22 -> 5.8706667 | AS21: =$AI$19 -> 10.094 | AT21: =$AI$20 -> 5.206
AI22: 5.8706667 | AM22: 14 | AN22: =$AI$17 -> 50.129355 | AO22: =$AI$23 -> 8.3146667 | AP22: =$AI$24 -> 6.6853333 | AQ22: =$AI$21 -> 9.1293333 | AR22: =$AI$22 -> 5.8706667 | AS22: =$AI$19 -> 10.094 | AT22: =$AI$20 -> 5.206
AI23: 8.3146667 | AM23: 15 | AN23: =$AI$17 -> 50.129355 | AO23: =$AI$23 -> 8.3146667 | AP23: =$AI$24 -> 6.6853333 | AQ23: =$AI$21 -> 9.1293333 | AR23: =$AI$22 -> 5.8706667 | AS23: =$AI$19 -> 10.094 | AT23: =$AI$20 -> 5.206
AI24: 6.6853333 | AM24: 16 | AN24: =$AI$17 -> 50.129355 | AO24: =$AI$23 -> 8.3146667 | AP24: =$AI$24 -> 6.6853333 | AQ24: =$AI$21 -> 9.1293333 | AR24: =$AI$22 -> 5.8706667 | AS24: =$AI$19 -> 10.094 | AT24: =$AI$20 -> 5.206
AG25: LSA: Limite superior de alerta. LSC: Limite superior de control. LIA: Limite infierior de alerta LIC: Limite inferior de control | AM25: 17 | AN25: =$AI$17 -> 50.129355 | AO25: =$AI$23 -> 8.3146667 | AP25: =$AI$24 -> 6.6853333 | AQ25: =$AI$21 -> 9.1293333 | AR25: =$AI$22 -> 5.8706667 | AS25: =$AI$19 -> 10.094 | AT25: =$AI$20 -> 5.206
AM26: 18 | AN26: =$AI$17 -> 50.129355 | AO26: =$AI$23 -> 8.3146667 | AP26: =$AI$24 -> 6.6853333 | AQ26: =$AI$21 -> 9.1293333 | AR26: =$AI$22 -> 5.8706667 | AS26: =$AI$19 -> 10.094 | AT26: =$AI$20 -> 5.206
AM27: 19 | AN27: =$AI$17 -> 50.129355 | AO27: =$AI$23 -> 8.3146667 | AP27: =$AI$24 -> 6.6853333 | AQ27: =$AI$21 -> 9.1293333 | AR27: =$AI$22 -> 5.8706667 | AS27: =$AI$19 -> 10.094 | AT27: =$AI$20 -> 5.206
AM28: 20 | AN28: =$AI$17 -> 50.129355 | AO28: =$AI$23 -> 8.3146667 | AP28: =$AI$24 -> 6.6853333 | AQ28: =$AI$21 -> 9.1293333 | AR28: =$AI$22 -> 5.8706667 | AS28: =$AI$19 -> 10.094 | AT28: =$AI$20 -> 5.206
AM29: 21 | AN29: =$AI$17 -> 50.129355 | AO29: =$AI$23 -> 8.3146667 | AP29: =$AI$24 -> 6.6853333 | AQ29: =$AI$21 -> 9.1293333 | AR29: =$AI$22 -> 5.8706667 | AS29: =$AI$19 -> 10.094 | AT29: =$AI$20 -> 5.206
AM30: 22 | AN30: =$AI$17 -> 50.129355 | AO30: =$AI$23 -> 8.3146667 | AP30: =$AI$24 -> 6.6853333 | AQ30: =$AI$21 -> 9.1293333 | AR30: =$AI$22 -> 5.8706667 | AS30: =$AI$19 -> 10.094 | AT30: =$AI$20 -> 5.206
AM31: 23 | AN31: =$AI$17 -> 50.129355 | AO31: =$AI$23 -> 8.3146667 | AP31: =$AI$24 -> 6.6853333 | AQ31: =$AI$21 -> 9.1293333 | AR31: =$AI$22 -> 5.8706667 | AS31: =$AI$19 -> 10.094 | AT31: =$AI$20 -> 5.206
AM32: 24 | AN32: =$AI$17 -> 50.129355 | AO32: =$AI$23 -> 8.3146667 | AP32: =$AI$24 -> 6.6853333 | AQ32: =$AI$21 -> 9.1293333 | AR32: =$AI$22 -> 5.8706667 | AS32: =$AI$19 -> 10.094 | AT32: =$AI$20 -> 5.206
AM33: 25 | AN33: =$AI$17 -> 50.129355 | AO33: =$AI$23 -> 8.3146667 | AP33: =$AI$24 -> 6.6853333 | AQ33: =$AI$21 -> 9.1293333 | AR33: =$AI$22 -> 5.8706667 | AS33: =$AI$19 -> 10.094 | AT33: =$AI$20 -> 5.206
AM34: 26 | AN34: =$AI$17 -> 50.129355 | AO34: =$AI$23 -> 8.3146667 | AP34: =$AI$24 -> 6.6853333 | AQ34: =$AI$21 -> 9.1293333 | AR34: =$AI$22 -> 5.8706667 | AS34: =$AI$19 -> 10.094 | AT34: =$AI$20 -> 5.206
A35: No. | B35: 1 | C35: 2 | D35: 3 | E35: 4 | F35: 5 | G35: 6 | H35: 7 | I35: 8 | J35: 9 | K35: 10 | L35: 11 | M35: 12 | N35: 13 | O35: 14 | P35: 15 | Q35: 16 | R35: 17 | S35: 18 | T35: 19 | U35: 20 | W35: Observaciones: | AM35: 27 | AN35: =$AI$17 -> 50.129355 | AO35: =$AI$23 -> 8.3146667 | AP35: =$AI$24 -> 6.6853333 | AQ35: =$AI$21 -> 9.1293333 | AR35: =$AI$22 -> 5.8706667 | AS35: =$AI$19 -> 10.094 | AT35: =$AI$20 -> 5.206
A36: Dato | AM36: 28 | AN36: =$AI$17 -> 50.129355 | AO36: =$AI$23 -> 8.3146667 | AP36: =$AI$24 -> 6.6853333 | AQ36: =$AI$21 -> 9.1293333 | AR36: =$AI$22 -> 5.8706667 | AS36: =$AI$19 -> 10.094 | AT36: =$AI$20 -> 5.206
A37: Día | AM37: 29 | AN37: =$AI$17 -> 50.129355 | AO37: =$AI$23 -> 8.3146667 | AP37: =$AI$24 -> 6.6853333 | AQ37: =$AI$21 -> 9.1293333 | AR37: =$AI$22 -> 5.8706667 | AS37: =$AI$19 -> 10.094 | AT37: =$AI$20 -> 5.206
A38: Resp. | AM38: 30 | AN38: =$AI$17 -> 50.129355 | AO38: =$AI$23 -> 8.3146667 | AP38: =$AI$24 -> 6.6853333 | AQ38: =$AI$21 -> 9.1293333 | AR38: =$AI$22 -> 5.8706667 | AS38: =$AI$19 -> 10.094 | AT38: =$AI$20 -> 5.206
AM39: 31 | AN39: =$AI$17 -> 50.129355 | AO39: =$AI$23 -> 8.3146667 | AP39: =$AI$24 -> 6.6853333 | AQ39: =$AI$21 -> 9.1293333 | AR39: =$AI$22 -> 5.8706667 | AS39: =$AI$19 -> 10.094 | AT39: =$AI$20 -> 5.206
A40: Revisó y Aprobó | F40: Cargo: | X40: Firma: | AM40: 37 | AN40: =$AI$17 -> 50.129355 | AO40: =$AI$23 -> 8.3146667 | AP40: =$AI$24 -> 6.6853333 | AQ40: =$AI$21 -> 9.1293333 | AR40: =$AI$22 -> 5.8706667 | AS40: =$AI$19 -> 10.094 | AT40: =$AI$20 -> 5.206
F41: Nombre: | AM41: 38 | AN41: =$AI$17 -> 50.129355 | AO41: =$AI$23 -> 8.3146667 | AP41: =$AI$24 -> 6.6853333 | AQ41: =$AI$21 -> 9.1293333 | AR41: =$AI$22 -> 5.8706667 | AS41: =$AI$19 -> 10.094 | AT41: =$AI$20 -> 5.206

Sheet Carta Base
F4: CARTA DE CONTROL DEL MÉTODO
F5: CÓDIGO: M.EDS-04.LA.02 | N5: Versión: 01 | V5: Fecha: 2016/12/15 | AF5: Hoja 1 de 1 | AN5: media | AO5: x+1s | AP5: x-1s | AQ5: lsa | AR5: lia | AS5: lsc | AT5: lic
A7: Mes: | M7: Año: | U7: Parámetro:
A9: Método: | N9: Patrón de Control: | AG9: Datos de esta carta | AM9: 1 | AN9: =$AI$17 -> 50.129355 | AO9: =$AI$23 -> 8.3146667 | AP9: =$AI$24 -> 6.6853333 | AQ9: =$AI$21 -> 9.1293333 | AR9: =$AI$22 -> 5.8706667 | AS9: =$AI$19 -> 10.094 | AT9: =$AI$20 -> 5.206
AM10: 2 | AN10: =$AI$17 -> 50.129355 | AO10: =$AI$23 -> 8.3146667 | AP10: =$AI$24 -> 6.6853333 | AQ10: =$AI$21 -> 9.1293333 | AR10: =$AI$22 -> 5.8706667 | AS10: =$AI$19 -> 10.094 | AT10: =$AI$20 -> 5.206
AG11: n: | AI11: =COUNT(B36:AF36) -> 21 | AM11: 3 | AN11: =$AI$17 -> 50.129355 | AO11: =$AI$23 -> 8.3146667 | AP11: =$AI$24 -> 6.6853333 | AQ11: =$AI$21 -> 9.1293333 | AR11: =$AI$22 -> 5.8706667 | AS11: =$AI$19 -> 10.094 | AT11: =$AI$20 -> 5.206
AI12: =AVERAGE(B36:AF36) -> 7.6666667 | AM12: 4 | AN12: =$AI$17 -> 50.129355 | AO12: =$AI$23 -> 8.3146667 | AP12: =$AI$24 -> 6.6853333 | AQ12: =$AI$21 -> 9.1293333 | AR12: =$AI$22 -> 5.8706667 | AS12: =$AI$19 -> 10.094 | AT12: =$AI$20 -> 5.206
AG13: s: | AI13: =STDEV(B36:AF36) -> 1.2382784 | AM13: 5 | AN13: =$AI$17 -> 50.129355 | AO13: =$AI$23 -> 8.3146667 | AP13: =$AI$24 -> 6.6853333 | AQ13: =$AI$21 -> 9.1293333 | AR13: =$AI$22 -> 5.8706667 | AS13: =$AI$19 -> 10.094 | AT13: =$AI$20 -> 5.206
AG14: Datos de la carta anterior | AM14: 6 | AN14: =$AI$17 -> 50.129355 | AO14: =$AI$23 -> 8.3146667 | AP14: =$AI$24 -> 6.6853333 | AQ14: =$AI$21 -> 9.1293333 | AR14: =$AI$22 -> 5.8706667 | AS14: =$AI$19 -> 10.094 | AT14: =$AI$20 -> 5.206
AM15: 7 | AN15: =$AI$17 -> 50.129355 | AO15: =$AI$23 -> 8.3146667 | AP15: =$AI$24 -> 6.6853333 | AQ15: =$AI$21 -> 9.1293333 | AR15: =$AI$22 -> 5.8706667 | AS15: =$AI$19 -> 10.094 | AT15: =$AI$20 -> 5.206
AG16: n: | AI16: =COUNT(B36:AF36) -> 21 | AM16: 8 | AN16: =$AI$17 -> 50.129355 | AO16: =$AI$23 -> 8.3146667 | AP16: =$AI$24 -> 6.6853333 | AQ16: =$AI$21 -> 9.1293333 | AR16: =$AI$22 -> 5.8706667 | AS16: =$AI$19 -> 10.094 | AT16: =$AI$20 -> 5.206
AI17: =[1]JULIO2015!AH14 -> 50.129355 | AM17: 9 | AN17: =$AI$17 -> 50.129355 | AO17: =$AI$23 -> 8.3146667 | AP17: =$AI$24 -> 6.6853333 | AQ17: =$AI$21 -> 9.1293333 | AR17: =$AI$22 -> 5.8706667 | AS17: =$AI$19 -> 10.094 | AT17: =$AI$20 -> 5.206
AG18: s: | AI18: =[1]JULIO2015!AH15 -> 0.1015459 | AM18: 10 | AN18: =$AI$17 -> 50.129355 | AO18: =$AI$23 -> 8.3146667 | AP18: =$AI$24 -> 6.6853333 | AQ18: =$AI$21 -> 9.1293333 | AR18: =$AI$22 -> 5.8706667 | AS18: =$AI$19 -> 10.094 | AT18: =$AI$20 -> 5.206
AI19: =(B82) -> 10.094 | AM19: 11 | AN19: =$AI$17 -> 50.129355 | AO19: =$AI$23 -> 8.3146667 | AP19: =$AI$24 -> 6.6853333 | AQ19: =$AI$21 -> 9.1293333 | AR19: =$AI$22 -> 5.8706667 | AS19: =$AI$19 -> 10.094 | AT19: =$AI$20 -> 5.206
AI20: =(B88) -> 5.206 | AM20: 12 | AN20: =$AI$17 -> 50.129355 | AO20: =$AI$23 -> 8.3146667 | AP20: =$AI$24 -> 6.6853333 | AQ20: =$AI$21 -> 9.1293333 | AR20: =$AI$22 -> 5.8706667 | AS20: =$AI$19 -> 10.094 | AT20: =$AI$20 -> 5.206
AI21: =(B83) -> 9.1293333 | AM21: 13 | AN21: =$AI$17 -> 50.129355 | AO21: =$AI$23 -> 8.3146667 | AP21: =$AI$24 -> 6.6853333 | AQ21: =$AI$21 -> 9.1293333 | AR21: =$AI$22 -> 5.8706667 | AS21: =$AI$19 -> 10.094 | AT21: =$AI$20 -> 5.206
AI22: =(B87) -> 5.8706667 | AM22: 14 | AN22: =$AI$17 -> 50.129355 | AO22: =$AI$23 -> 8.3146667 | AP22: =$AI$24 -> 6.6853333 | AQ22: =$AI$21 -> 9.1293333 | AR22: =$AI$22 -> 5.8706667 | AS22: =$AI$19 -> 10.094 | AT22: =$AI$20 -> 5.206
AI23: =(B84) -> 8.3146667 | AM23: 15 | AN23: =$AI$17 -> 50.129355 | AO23: =$AI$23 -> 8.3146667 | AP23: =$AI$24 -> 6.6853333 | AQ23: =$AI$21 -> 9.1293333 | AR23: =$AI$22 -> 5.8706667 | AS23: =$AI$19 -> 10.094 | AT23: =$AI$20 -> 5.206
AI24: =(B86) -> 6.6853333 | AM24: 16 | AN24: =$AI$17 -> 50.129355 | AO24: =$AI$23 -> 8.3146667 | AP24: =$AI$24 -> 6.6853333 | AQ24: =$AI$21 -> 9.1293333 | AR24: =$AI$22 -> 5.8706667 | AS24: =$AI$19 -> 10.094 | AT24: =$AI$20 -> 5.206
AG25: LSA: Limite superior de alerta. LSC: Limite superior de control. LIA: Limite infierior de alerta LIC: Limite inferior de control | AM25: 17 | AN25: =$AI$17 -> 50.129355 | AO25: =$AI$23 -> 8.3146667 | AP25: =$AI$24 -> 6.6853333 | AQ25: =$AI$21 -> 9.1293333 | AR25: =$AI$22 -> 5.8706667 | AS25: =$AI$19 -> 10.094 | AT25: =$AI$20 -> 5.206
AM26: 18 | AN26: =$AI$17 -> 50.129355 | AO26: =$AI$23 -> 8.3146667 | AP26: =$AI$24 -> 6.6853333 | AQ26: =$AI$21 -> 9.1293333 | AR26: =$AI$22 -> 5.8706667 | AS26: =$AI$19 -> 10.094 | AT26: =$AI$20 -> 5.206
AM27: 19 | AN27: =$AI$17 -> 50.129355 | AO27: =$AI$23 -> 8.3146667 | AP27: =$AI$24 -> 6.6853333 | AQ27: =$AI$21 -> 9.1293333 | AR27: =$AI$22 -> 5.8706667 | AS27: =$AI$19 -> 10.094 | AT27: =$AI$20 -> 5.206
AM28: 20 | AN28: =$AI$17 -> 50.129355 | AO28: =$AI$23 -> 8.3146667 | AP28: =$AI$24 -> 6.6853333 | AQ28: =$AI$21 -> 9.1293333 | AR28: =$AI$22 -> 5.8706667 | AS28: =$AI$19 -> 10.094 | AT28: =$AI$20 -> 5.206
AM29: 21 | AN29: =$AI$17 -> 50.129355 | AO29: =$AI$23 -> 8.3146667 | AP29: =$AI$24 -> 6.6853333 | AQ29: =$AI$21 -> 9.1293333 | AR29: =$AI$22 -> 5.8706667 | AS29: =$AI$19 -> 10.094 | AT29: =$AI$20 -> 5.206
AM30: 22 | AN30: =$AI$17 -> 50.129355 | AO30: =$AI$23 -> 8.3146667 | AP30: =$AI$24 -> 6.6853333 | AQ30: =$AI$21 -> 9.1293333 | AR30: =$AI$22 -> 5.8706667 | AS30: =$AI$19 -> 10.094 | AT30: =$AI$20 -> 5.206
AM31: 23 | AN31: =$AI$17 -> 50.129355 | AO31: =$AI$23 -> 8.3146667 | AP31: =$AI$24 -> 6.6853333 | AQ31: =$AI$21 -> 9.1293333 | AR31: =$AI$22 -> 5.8706667 | AS31: =$AI$19 -> 10.094 | AT31: =$AI$20 -> 5.206
AM32: 24 | AN32: =$AI$17 -> 50.129355 | AO32: =$AI$23 -> 8.3146667 | AP32: =$AI$24 -> 6.6853333 | AQ32: =$AI$21 -> 9.1293333 | AR32: =$AI$22 -> 5.8706667 | AS32: =$AI$19 -> 10.094 | AT32: =$AI$20 -> 5.206
AG33: Observaciones: | AM33: 25 | AN33: =$AI$17 -> 50.129355 | AO33: =$AI$23 -> 8.3146667 | AP33: =$AI$24 -> 6.6853333 | AQ33: =$AI$21 -> 9.1293333 | AR33: =$AI$22 -> 5.8706667 | AS33: =$AI$19 -> 10.094 | AT33: =$AI$20 -> 5.206
AM34: 26 | AN34: =$AI$17 -> 50.129355 | AO34: =$AI$23 -> 8.3146667 | AP34: =$AI$24 -> 6.6853333 | AQ34: =$AI$21 -> 9.1293333 | AR34: =$AI$22 -> 5.8706667 | AS34: =$AI$19 -> 10.094 | AT34: =$AI$20 -> 5.206
A35: No. | B35: 1 | C35: 2 | D35: 3 | E35: 4 | F35: 5 | G35: 6 | H35: 7 | I35: 8 | J35: 9 | K35: 10 | L35: 11 | M35: 12 | N35: 13 | O35: 14 | P35: 15 | Q35: 16 | R35: 17 | S35: 18 | T35: 19 | U35: 20 | V35: 21 | W35: 22 | X35: 23 | Y35: 24 | Z35: 25 | AA35: 26 | AB35: 27 | AC35: 28 | AD35: 29 | AE35: 30 | AF35: 31 | AM35: 27 | AN35: =$AI$17 -> 50.129355 | AO35: =$AI$23 -> 8.3146667 | AP35: =$AI$24 -> 6.6853333 | AQ35: =$AI$21 -> 9.1293333 | AR35: =$AI$22 -> 5.8706667 | AS35: =$AI$19 -> 10.094 | AT35: =$AI$20 -> 5.206
A36: Dato | B36: 8 | C36: 7 | D36: 9 | E36: 10 | F36: 8 | G36: 7 | H36: 6 | I36: 6 | J36: 9 | K36: 8 | L36: 7 | M36: 9 | N36: 8 | O36: 6 | P36: 5 | Q36: 8 | R36: 9 | S36: 8 | T36: 8 | U36: 7 | V36: 8 | AM36: 28 | AN36: =$AI$17 -> 50.129355 | AO36: =$AI$23 -> 8.3146667 | AP36: =$AI$24 -> 6.6853333 | AQ36: =$AI$21 -> 9.1293333 | AR36: =$AI$22 -> 5.8706667 | AS36: =$AI$19 -> 10.094 | AT36: =$AI$20 -> 5.206
A37: Día | AM37: 29 | AN37: =$AI$17 -> 50.129355 | AO37: =$AI$23 -> 8.3146667 | AP37: =$AI$24 -> 6.6853333 | AQ37: =$AI$21 -> 9.1293333 | AR37: =$AI$22 -> 5.8706667 | AS37: =$AI$19 -> 10.094 | AT37: =$AI$20 -> 5.206
A38: Resp. | AM38: 30 | AN38: =$AI$17 -> 50.129355 | AO38: =$AI$23 -> 8.3146667 | AP38: =$AI$24 -> 6.6853333 | AQ38: =$AI$21 -> 9.1293333 | AR38: =$AI$22 -> 5.8706667 | AS38: =$AI$19 -> 10.094 | AT38: =$AI$20 -> 5.206
AM39: 31 | AN39: =$AI$17 -> 50.129355 | AO39: =$AI$23 -> 8.3146667 | AP39: =$AI$24 -> 6.6853333 | AQ39: =$AI$21 -> 9.1293333 | AR39: =$AI$22 -> 5.8706667 | AS39: =$AI$19 -> 10.094 | AT39: =$AI$20 -> 5.206
A40: No. | B40: 32 | C40: 33 | D40: 34 | E40: 35 | F40: 36 | G40: 37 | H40: 38 | I40: 39 | J40: 40 | K40: 41 | L40: 42 | M40: 43 | N40: 44 | O40: 45 | P40: 46 | Q40: 47 | R40: 48 | S40: 49 | T40: 50 | U40: 51 | V40: 52 | W40: 53 | X40: 54 | Y40: 55 | Z40: 56 | AA40: 57 | AB40: 58 | AC40: 59 | AD40: 60 | AE40: 61 | AF40: 62 | AM40: 32 | AN40: =$AI$17 -> 50.129355 | AO40: =$AI$23 -> 8.3146667 | AP40: =$AI$24 -> 6.6853333 | AQ40: =$AI$21 -> 9.1293333 | AR40: =$AI$22 -> 5.8706667 | AS40: =$AI$19 -> 10.094 | AT40: =$AI$20 -> 5.206
A41: Dato | AM41: 33 | AN41: =$AI$17 -> 50.129355 | AO41: =$AI$23 -> 8.3146667 | AP41: =$AI$24 -> 6.6853333 | AQ41: =$AI$21 -> 9.1293333 | AR41: =$AI$22 -> 5.8706667 | AS41: =$AI$19 -> 10.094 | AT41: =$AI$20 -> 5.206
A42: Día | AM42: 34 | AN42: =$AI$17 -> 50.129355 | AO42: =$AI$23 -> 8.3146667 | AP42: =$AI$24 -> 6.6853333 | AQ42: =$AI$21 -> 9.1293333 | AR42: =$AI$22 -> 5.8706667 | AS42: =$AI$19 -> 10.094 | AT42: =$AI$20 -> 5.206
A43: Resp. | AM43: 35 | AN43: =$AI$17 -> 50.129355 | AO43: =$AI$23 -> 8.3146667 | AP43: =$AI$24 -> 6.6853333 | AQ43: =$AI$21 -> 9.1293333 | AR43: =$AI$22 -> 5.8706667 | AS43: =$AI$19 -> 10.094 | AT43: =$AI$20 -> 5.206
AM44: 36 | AN44: =$AI$17 -> 50.129355 | AO44: =$AI$23 -> 8.3146667 | AP44: =$AI$24 -> 6.6853333 | AQ44: =$AI$21 -> 9.1293333 | AR44: =$AI$22 -> 5.8706667 | AS44: =$AI$19 -> 10.094 | AT44: =$AI$20 -> 5.206
A45: Revisó y Aprobó | D45: Cargo: | T45: Firma: | AM45: 37 | AN45: =$AI$17 -> 50.129355 | AO45: =$AI$23 -> 8.3146667 | AP45: =$AI$24 -> 6.6853333 | AQ45: =$AI$21 -> 9.1293333 | AR45: =$AI$22 -> 5.8706667 | AS45: =$AI$19 -> 10.094 | AT45: =$AI$20 -> 5.206
D46: Nombre: | AM46: 38 | AN46: =$AI$17 -> 50.129355 | AO46: =$AI$23 -> 8.3146667 | AP46: =$AI$24 -> 6.6853333 | AQ46: =$AI$21 -> 9.1293333 | AR46: =$AI$22 -> 5.8706667 | AS46: =$AI$19 -> 10.094 | AT46: =$AI$20 -> 5.206
AM47: 39 | AN47: =$AI$17 -> 50.129355 | AO47: =$AI$23 -> 8.3146667 | AP47: =$AI$24 -> 6.6853333 | AQ47: =$AI$21 -> 9.1293333 | AR47: =$AI$22 -> 5.8706667 | AS47: =$AI$19 -> 10.094 | AT47: =$AI$20 -> 5.206
AM48: 40 | AN48: =$AI$17 -> 50.129355 | AO48: =$AI$23 -> 8.3146667 | AP48: =$AI$24 -> 6.6853333 | AQ48: =$AI$21 -> 9.1293333 | AR48: =$AI$22 -> 5.8706667 | AS48: =$AI$19 -> 10.094 | AT48: =$AI$20 -> 5.206
A49: No. | B49: 1 | C49: 2 | D49: 3 | E49: 4 | F49: 5 | G49: 6 | H49: 7 | I49: 8 | J49: 9 | K49: 10 | L49: 11 | M49: 12 | N49: 13 | O49: 14 | P49: 15 | Q49: 16 | R49: 17 | S49: 18 | T49: 19 | U49: 20 | V49: 21 | W49: 22 | X49: 23 | Y49: 24 | Z49: 25 | AA49: 26 | AB49: 27 | AC49: 28 | AD49: 29 | AE49: 30 | AF49: 31 | AM49: 41 | AN49: =$AI$17 -> 50.129355 | AO49: =$AI$23 -> 8.3146667 | AP49: =$AI$24 -> 6.6853333 | AQ49: =$AI$21 -> 9.1293333 | AR49: =$AI$22 -> 5.8706667 | AS49: =$AI$19 -> 10.094 | AT49: =$AI$20 -> 5.206
A50: Dato | B50: 8 | C50: 7 | D50: 9 | E50: 10 | F50: 8 | G50: 7 | H50: 6 | I50: 6 | J50: 9 | K50: 8 | L50: 7 | M50: 9 | N50: 8 | O50: 6 | P50: 5 | Q50: 8 | R50: 9 | S50: 8 | T50: 8 | U50: 7 | V50: 8 | AM50: 42 | AN50: =$AI$17 -> 50.129355 | AO50: =$AI$23 -> 8.3146667 | AP50: =$AI$24 -> 6.6853333 | AQ50: =$AI$21 -> 9.1293333 | AR50: =$AI$22 -> 5.8706667 | AS50: =$AI$19 -> 10.094 | AT50: =$AI$20 -> 5.206
B51: =(C50) -> 7 | C51: =(D50) -> 9 | D51: =(E50) -> 10 | E51: =(F50) -> 8 | F51: =(G50) -> 7 | G51: =(H50) -> 6 | H51: =(I50) -> 6 | I51: =(J50) -> 9 | ... U51: =(V50) -> 8 | AM51: 43 | AN51: =$AI$17 -> 50.129355 | AO51: =$AI$23 -> 8.3146667 | AP51: =$AI$24 -> 6.6853333 | AQ51: =$AI$21 -> 9.1293333 | AR51: =$AI$22 -> 5.8706667 | AS51: =$AI$19 -> 10.094 | AT51: =$AI$20 -> 5.206
AM52: 44 | AN52: =$AI$17 -> 50.129355 | AO52: =$AI$23 -> 8.3146667 | AP52: =$AI$24 -> 6.6853333 | AQ52: =$AI$21 -> 9.1293333 | AR52: =$AI$22 -> 5.8706667 | AS52: =$AI$19 -> 10.094 | AT52: =$AI$20 -> 5.206
A53: Promedio | B53: =AVERAGE(B50:B51) -> 7.5 | C53: =AVERAGE(C50:C51) -> 8 | D53: =AVERAGE(D50:D51) -> 9.5 | E53: =AVERAGE(E50:E51) -> 9 | F53: =AVERAGE(F50:F51) -> 7.5 | G53: =AVERAGE(G50:G51) -> 6.5 | H53: =AVERAGE(H50:H51) -> 6 | I53: =AVERAGE(I50:I51) -> 7.5 | ... U53: =AVERAGE(U50:U51) -> 7.5 | AM53: 45 | AN53: =$AI$17 -> 50.129355 | AO53: =$AI$23 -> 8.3146667 | AP53: =$AI$24 -> 6.6853333 | AQ53: =$AI$21 -> 9.1293333 | AR53: =$AI$22 -> 5.8706667 | AS53: =$AI$19 -> 10.094 | AT53: =$AI$20 -> 5.206
A54: Rango | B54: =(MAX(B50:B51)-MIN(B50:B51)) -> 1 | C54: =(MAX(C50:C51)-MIN(C50:C51)) -> 2 | D54: =(MAX(D50:D51)-MIN(D50:D51)) -> 1 | E54: =(MAX(E50:E51)-MIN(E50:E51)) -> 2 | F54: =(MAX(F50:F51)-MIN(F50:F51)) -> 1 | G54: =(MAX(G50:G51)-MIN(G50:G51)) -> 1 | H54: =(MAX(H50:H51)-MIN(H50:H51)) -> 0 | I54: =(MAX(I50:I51)-MIN(I50:I51)) -> 3 | ... U54: =(MAX(U50:U51)-MIN(U50:U51)) -> 1 | AM54: 46 | AN54: =$AI$17 -> 50.129355 | AO54: =$AI$23 -> 8.3146667 | AP54: =$AI$24 -> 6.6853333 | AQ54: =$AI$21 -> 9.1293333 | AR54: =$AI$22 -> 5.8706667 | AS54: =$AI$19 -> 10.094 | AT54: =$AI$20 -> 5.206
A55: Carta R
A56: No. | B56: 1 | C56: 2 | D56: 3 | E56: 4 | F56: 5 | G56: 6 | H56: 7 | I56: 8 | J56: 9 | K56: 10 | L56: 11 | M56: 12 | N56: 13 | O56: 14 | P56: 15 | Q56: 16 | R56: 17 | S56: 18 | T56: 19 | U56: 20 | V56: 21 | W56: 22 | X56: 23 | Y56: 24 | Z56: 25 | AA56: 26 | AB56: 27 | AC56: 28 | AD56: 29 | AE56: 30 | AF56: 31 | AM56: 47 | AN56: =$AI$17 -> 50.129355 | AO56: =$AI$23 -> 8.3146667 | AP56: =$AI$24 -> 6.6853333 | AQ56: =$AI$21 -> 9.1293333 | AR56: =$AI$22 -> 5.8706667 | AS56: =$AI$19 -> 10.094 | AT56: =$AI$20 -> 5.206
A57: Rango medio | B57: =AVERAGE(B54:AF54) -> 1.3 | C57: =(B57) -> 1.3 | D57: =(C57) -> 1.3 | E57: =(D57) -> 1.3 | F57: =(E57) -> 1.3 | G57: =(F57) -> 1.3 | H57: =(G57) -> 1.3 | I57: =(H57) -> 1.3 | J57: =(I57) -> 1.3 | ... AF57: =(AE57) -> 1.3 | AM57: 48 | AN57: =$AI$17 -> 50.129355 | AO57: =$AI$23 -> 8.3146667 | AP57: =$AI$24 -> 6.6853333 | AQ57: =$AI$21 -> 9.1293333 | AR57: =$AI$22 -> 5.8706667 | AS57: =$AI$19 -> 10.094 | AT57: =$AI$20 -> 5.206
A58: LCSR | B58: =(Hoja2!D3*'Carta Base'!B57) -> 4.2471 | C58: =(B58) -> 4.2471 | D58: =(C58) -> 4.2471 | E58: =(D58) -> 4.2471 | F58: =(E58) -> 4.2471 | G58: =(F58) -> 4.2471 | H58: =(G58) -> 4.2471 | I58: =(H58) -> 4.2471 | J58: =(I58) -> 4.2471 | ... AF58: =(AE58) -> 4.2471 | AM58: 49 | AN58: =$AI$17 -> 50.129355 | AO58: =$AI$23 -> 8.3146667 | AP58: =$AI$24 -> 6.6853333 | AQ58: =$AI$21 -> 9.1293333 | AR58: =$AI$22 -> 5.8706667 | AS58: =$AI$19 -> 10.094 | AT58: =$AI$20 -> 5.206
A59: LCIR | B59: =(Hoja2!C3*'Carta Base'!B57) -> 0 | C59: =(B59) -> 0 | D59: =(C59) -> 0 | E59: =(D59) -> 0 | F59: =(E59) -> 0 | G59: =(F59) -> 0 | H59: =(G59) -> 0 | I59: =(H59) -> 0 | J59: =(I59) -> 0 | ... AF59: =(AE59) -> 0 | AM59: 50 | AN59: =$AI$17 -> 50.129355 | AO59: =$AI$23 -> 8.3146667 | AP59: =$AI$24 -> 6.6853333 | AQ59: =$AI$21 -> 9.1293333 | AR59: =$AI$22 -> 5.8706667 | AS59: =$AI$19 -> 10.094 | AT59: =$AI$20 -> 5.206
A60: Rango | B60: =(B54) -> 1 | C60: =(C54) -> 2 | D60: =(D54) -> 1 | E60: =(E54) -> 2 | F60: =(F54) -> 1 | G60: =(G54) -> 1 | H60: =(H54) -> 0 | I60: =(I54) -> 3 | ... U60: =(U54) -> 1 | AM60: 51 | AN60: =$AI$17 -> 50.129355 | AO60: =$AI$23 -> 8.3146667 | AP60: =$AI$24 -> 6.6853333 | AQ60: =$AI$21 -> 9.1293333 | AR60: =$AI$22 -> 5.8706667 | AS60: =$AI$19 -> 10.094 | AT60: =$AI$20 -> 5.206
AM61: 52 | AN61: =$AI$17 -> 50.129355 | AO61: =$AI$23 -> 8.3146667 | AP61: =$AI$24 -> 6.6853333 | AQ61: =$AI$21 -> 9.1293333 | AR61: =$AI$22 -> 5.8706667 | AS61: =$AI$19 -> 10.094 | AT61: =$AI$20 -> 5.206
AM62: 53 | AN62: =$AI$17 -> 50.129355 | AO62: =$AI$23 -> 8.3146667 | AP62: =$AI$24 -> 6.6853333 | AQ62: =$AI$21 -> 9.1293333 | AR62: =$AI$22 -> 5.8706667 | AS62: =$AI$19 -> 10.094 | AT62: =$AI$20 -> 5.206
AM63: 54 | AN63: =$AI$17 -> 50.129355 | AO63: =$AI$23 -> 8.3146667 | AP63: =$AI$24 -> 6.6853333 | AQ63: =$AI$21 -> 9.1293333 | AR63: =$AI$22 -> 5.8706667 | AS63: =$AI$19 -> 10.094 | AT63: =$AI$20 -> 5.206
AM64: 55 | AN64: =$AI$17 -> 50.129355 | AO64: =$AI$23 -> 8.3146667 | AP64: =$AI$24 -> 6.6853333 | AQ64: =$AI$21 -> 9.1293333 | AR64: =$AI$22 -> 5.8706667 | AS64: =$AI$19 -> 10.094 | AT64: =$AI$20 -> 5.206
AM65: 56 | AN65: =$AI$17 -> 50.129355 | AO65: =$AI$23 -> 8.3146667 | AP65: =$AI$24 -> 6.6853333 | AQ65: =$AI$21 -> 9.1293333 | AR65: =$AI$22 -> 5.8706667 | AS65: =$AI$19 -> 10.094 | AT65: =$AI$20 -> 5.206
AM66: 57 | AN66: =$AI$17 -> 50.129355 | AO66: =$AI$23 -> 8.3146667 | AP66: =$AI$24 -> 6.6853333 | AQ66: =$AI$21 -> 9.1293333 | AR66: =$AI$22 -> 5.8706667 | AS66: =$AI$19 -> 10.094 | AT66: =$AI$20 -> 5.206
AM67: 58 | AN67: =$AI$17 -> 50.129355 | AO67: =$AI$23 -> 8.3146667 | AP67: =$AI$24 -> 6.6853333 | AQ67: =$AI$21 -> 9.1293333 | AR67: =$AI$22 -> 5.8706667 | AS67: =$AI$19 -> 10.094 | AT67: =$AI$20 -> 5.206
AM68: 59 | AN68: =$AI$17 -> 50.129355 | AO68: =$AI$23 -> 8.3146667 | AP68: =$AI$24 -> 6.6853333 | AQ68: =$AI$21 -> 9.1293333 | AR68: =$AI$22 -> 5.8706667 | AS68: =$AI$19 -> 10.094 | AT68: =$AI$20 -> 5.206
AM69: 60 | AN69: =$AI$17 -> 50.129355 | AO69: =$AI$23 -> 8.3146667 | AP69: =$AI$24 -> 6.6853333 | AQ69: =$AI$21 -> 9.1293333 | AR69: =$AI$22 -> 5.8706667 | AS69: =$AI$19 -> 10.094 | AT69: =$AI$20 -> 5.206
AM70: 61 | AN70: =$AI$17 -> 50.129355 | AO70: =$AI$23 -> 8.3146667 | AP70: =$AI$24 -> 6.6853333 | AQ70: =$AI$21 -> 9.1293333 | AR70: =$AI$22 -> 5.8706667 | AS70: =$AI$19 -> 10.094 | AT70: =$AI$20 -> 5.206
AM71: 62 | AN71: =$AI$17 -> 50.129355 | AO71: =$AI$23 -> 8.3146667 | AP71: =$AI$24 -> 6.6853333 | AQ71: =$AI$21 -> 9.1293333 | AR71: =$AI$22 -> 5.8706667 | AS71: =$AI$19 -> 10.094 | AT71: =$AI$20 -> 5.206
A79: A2R | B79: =(B57*Hoja2!E3) -> 2.444 | D79: A2R/3 | F79: =(B79/3) -> 0.81466667
A80: No. | B80: 1 | C80: 2 | D80: 3 | E80: 4 | F80: 5 | G80: 6 | H80: 7 | I80: 8 | J80: 9 | K80: 10 | L80: 11 | M80: 12 | N80: 13 | O80: 14 | P80: 15 | Q80: 16 | R80: 17 | S80: 18 | T80: 19 | U80: 20 | V80: 21 | W80: 22 | X80: 23 | Y80: 24 | Z80: 25 | AA80: 26 | AB80: 27 | AC80: 28 | AD80: 29 | AE80: 30 | AF80: 31
A81: Promedio | B81: =AVERAGE(B53:AF53) -> 7.65 | C81: =(B81) -> 7.65 | D81: =(C81) -> 7.65 | E81: =(D81) -> 7.65 | F81: =(E81) -> 7.65 | G81: =(F81) -> 7.65 | H81: =(G81) -> 7.65 | I81: =(H81) -> 7.65 | J81: =(I81) -> 7.65 | ... AF81: =(AE81) -> 7.65
A82: LCSX | B82: =(B81+(B57*Hoja2!E3)) -> 10.094 | C82: =(B82) -> 10.094 | D82: =(C82) -> 10.094 | E82: =(D82) -> 10.094 | F82: =(E82) -> 10.094 | G82: =(F82) -> 10.094 | H82: =(G82) -> 10.094 | I82: =(H82) -> 10.094 | J82: =(I82) -> 10.094 | ... AF82: =(AE82) -> 10.094
A83: X + 2s | B83: =(B84+F79) -> 9.1293333 | C83: =(B83) -> 9.1293333 | D83: =(C83) -> 9.1293333 | E83: =(D83) -> 9.1293333 | F83: =(E83) -> 9.1293333 | G83: =(F83) -> 9.1293333 | H83: =(G83) -> 9.1293333 | I83: =(H83) -> 9.1293333 | J83: =(I83) -> 9.1293333 | ... AF83: =(AE83) -> 9.1293333
A84: X + s | B84: =(B85+F79) -> 8.3146667 | C84: =(B84) -> 8.3146667 | D84: =(C84) -> 8.3146667 | E84: =(D84) -> 8.3146667 | F84: =(E84) -> 8.3146667 | G84: =(F84) -> 8.3146667 | H84: =(G84) -> 8.3146667 | I84: =(H84) -> 8.3146667 | J84: =(I84) -> 8.3146667 | ... AF84: =(AE84) -> 8.3146667
A85: Meidias | B85: =(B53) -> 7.5 | C85: =(C53) -> 8 | D85: =(D53) -> 9.5 | E85: =(E53) -> 9 | F85: =(F53) -> 7.5 | G85: =(G53) -> 6.5 | H85: =(H53) -> 6 | I85: =(I53) -> 7.5 | ... U85: =(U53) -> 7.5
A86: X - s | B86: =(B85-F79) -> 6.6853333 | C86: =(B86) -> 6.6853333 | D86: =(C86) -> 6.6853333 | E86: =(D86) -> 6.6853333 | F86: =(E86) -> 6.6853333 | G86: =(F86) -> 6.6853333 | H86: =(G86) -> 6.6853333 | I86: =(H86) -> 6.6853333 | J86: =(I86) -> 6.6853333 | ... AF86: =(AE86) -> 6.6853333
A87: X - 2s | B87: =(B86-F79) -> 5.8706667 | C87: =(B87) -> 5.8706667 | D87: =(C87) -> 5.8706667 | E87: =(D87) -> 5.8706667 | F87: =(E87) -> 5.8706667 | G87: =(F87) -> 5.8706667 | H87: =(G87) -> 5.8706667 | I87: =(H87) -> 5.8706667 | J87: =(I87) -> 5.8706667 | ... AF87: =(AE87) -> 5.8706667
A88: LCIX | B88: =(B81-(B57*Hoja2!E3)) -> 5.206 | C88: =(B88) -> 5.206 | D88: =(C88) -> 5.206 | E88: =(D88) -> 5.206 | F88: =(E88) -> 5.206 | G88: =(F88) -> 5.206 | H88: =(G88) -> 5.206 | I88: =(H88) -> 5.206 | J88: =(I88) -> 5.206 | ... AF88: =(AE88) -> 5.206

Sheet Hoja2
A2: n | B2: d2 | C2: D3 | D2: D4 | E2: A2 | G2: B3 | H2: B4 | I2: A3
A3: 2 | B3: 1.128 | C3: 0 | D3: 3.267 | E3: 1.88 | G3: 0 | H3: 3.267 | I3: 2.659
A4: 3 | B4: 1.693 | C4: 0 | D4: 2.575 | E4: 1.023 | G4: 0 | H4: 2.568 | I4: 1.954
A5: 4 | B5: 2.059 | C5: 0 | D5: 2.282 | E5: 0.729 | G5: 0 | H5: 2.266 | I5: 1.628
A6: 5 | B6: 2.326 | C6: 0 | D6: 2.114 | E6: 0.577 | G6: 0 | H6: 2.089 | I6: 1.427
A7: 6 | B7: 2.534 | C7: 0 | D7: 2.004 | E7: 0.483 | G7: 0.03 | H7: 1.97 | I7: 1.287
A8: 7 | B8: 2.704 | C8: 0.076 | D8: 1.924 | E8: 0.419 | G8: 0.118 | H8: 1.882 | I8: 1.182
A9: 8 | B9: 2.847 | C9: 0.136 | D9: 1.864 | E9: 0.373 | G9: 0.185 | H9: 1.815 | I9: 1.099
A10: 9 | B10: 2.97 | C10: 0.184 | D10: 1.816 | E10: 0.337 | G10: 0.239 | H10: 1.761 | I10: 1.032
A11: 10 | B11: 3.078 | C11: 0.223 | D11: 1.777 | E11: 0.308 | G11: 0.284 | H11: 1.716 | I11: 0.975
A12: 11 | B12: 3.173 | C12: 0.256 | D12: 1.744 | E12: 0.285 | G12: 0.321 | H12: 1.679 | I12: 0.927
A13: 12 | B13: 3.258 | C13: 0.284 | D13: 1.717 | E13: 0.266 | G13: 0.354 | H13: 1.646 | I13: 0.886
A14: 13 | B14: 3.336 | C14: 0.308 | D14: 1.692 | E14: 0.249 | G14: 0.382 | H14: 1.618 | I14: 0.85
... A16: 15 | B16: 3.472 | C16: 0.348 | D16: 1.652 | E16: 0.223 | G16: 0.428 | H16: 1.572 | I16: 0.789
A19: LCIx | B19: X - A2R
A20: LCSx | B20: X + A2R
A22: LCIR | B22: D3R
A23: LCSR | B23: D4R
A25: s | B25: R / d2
