Workbook

Sheet Carta de Control 1
F4: CARTA DE CONTROL DEL MÉTODO
F5: CÓDIGO: M.EDS-04.LPAR.INT.03.F.01 | P5: Versión: 01 | X5: Fecha: 2019/02/22 | AF5: Hoja 1 de 1 | AN5: media | AO5: x+1s | AP5: x-1s | AQ5: lsa | AR5: lia | AS5: lsc | AT5: lic
A7: Mes: | M7: Año:
A9: Método: | N9: Patrón de Control: | AG9: Datos de esta carta | AM9: 1 | AN9: =$AI$17 -> 50.129355 | AO9: =$AI$23 -> 8.3146667 | AP9: =$AI$24 -> 6.6853333 | AQ9: =$AI$21 -> 9.1293333 | AR9: =$AI$22 -> 5.8706667 | AS9: =$AI$19 -> 10.094 | AT9: =$AI$20 -> 5.206
AM10: 2 | AN10: =$AI$17 -> 50.129355 | AO10: =$AI$23 -> 8.3146667 | AP10: =$AI$24 -> 6.6853333 | AQ10: =$AI$21 -> 9.1293333 | AR10: =$AI$22 -> 5.8706667 | AS10: =$AI$19 -> 10.094 | AT10: =$AI$20 -> 5.206
AG11: n: | AI11: =COUNT(B36:AF36) -> 0 | AM11: 3 | AN11: =$AI$17 -> 50.129355 | AO11: =$AI$23 -> 8.3146667 | AP11: =$AI$24 -> 6.6853333 | AQ11: =$AI$21 -> 9.1293333 | AR11: =$AI$22 -> 5.8706667 | AS11: =$AI$19 -> 10.094 | AT11: =$AI$20 -> 5.206
AI12: =AVERAGE(B36:AF36) -> #DIV/0! | AM12: 4 | AN12: =$AI$17 -> 50.129355 | AO12: =$AI$23 -> 8.3146667 | AP12: =$AI$24 -> 6.6853333 | AQ12: =$AI$21 -> 9.1293333 | AR12: =$AI$22 -> 5.8706667 | AS12: =$AI$19 -> 10.094 | AT12: =$AI$20 -> 5.206
AG13: s: | AI13: =STDEV(B36:AF36) -> #DIV/0! | AM13: 5 | AN13: =$AI$17 -> 50.129355 | AO13: =$AI$23 -> 8.3146667 | AP13: =$AI$24 -> 6.6853333 | AQ13: =$AI$21 -> 9.1293333 | AR13: =$AI$22 -> 5.8706667 | AS13: =$AI$19 -> 10.094 | AT13: =$AI$20 -> 5.206
AG14: Datos de la carta anterior | AM14: 6 | AN14: =$AI$17 -> 50.129355 | AO14: =$AI$23 -> 8.3146667 | AP14: =$AI$24 -> 6.6853333 | AQ14: =$AI$21 -> 9.1293333 | AR14: =$AI$22 -> 5.8706667 | AS14: =$AI$19 -> 10.094 | AT14: =$AI$20 -> 5.206
AM15: 7 | AN15: =$AI$17 -> 50.129355 | AO15: =$AI$23 -> 8.3146667 | AP15: =$AI$24 -> 6.6853333 | AQ15: =$AI$21 -> 9.1293333 | AR15: =$AI$22 -> 5.8706667 | AS15: =$AI$19 -> 10.094 | AT15: =$AI$20 -> 5.206
AG16: n: | AI16: =COUNT(B36:AF36) -> 0 | AM16: 8 | AN16: =$AI$17 -> 50.129355 | AO16: =$AI$23 -> 8.3146667 | AP16: =$AI$24 -> 6.6853333 | AQ16: =$AI$21 -> 9.1293333 | AR16: =$AI$22 -> 5.8706667 | AS16: =$AI$19 -> 10.094 | AT16: =$AI$20 -> 5.206
AI17: 50.129355 | AM17: 9 | AN17: =$AI$17 -> 50.129355 | AO17: =$AI$23 -> 8.3146667 | AP17: =$AI$24 -> 6.6853333 | AQ17: =$AI$21 -> 9.1293333 | AR17: =$AI$22 -> 5.8706667 | AS17: =$AI$19 -> 10.094 | AT17: =$AI$20 -> 5.206
AG18: s: | AI18: 0.1015459 | AM18: 10 | AN18: =$AI$17 -> 50.129355 | AO18: =$AI$23 -> 8.3146667 | AP18: =$AI$24 -> 6.6853333 | AQ18: =$AI$21 -> 9.1293333 | AR18: =$AI$22 -> 5.8706667 | AS18: =$AI$19 -> 10.094 | AT18: =$AI$20 -> 5.206
AI19: 10.094 | AM19: 11 | AN19: =$AI$17 -> 50.129355 | AO19: =$AI$23 -> 8.3146667 | AP19: =$AI$24 -> 6.6853333 | AQ19: =$AI$21 -> 9.1293333 | AR19: =$AI$22 -> 5.8706667 | AS19: =$AI$19 -> 10.094 | AT19: =$AI$20 -> 5.206
AI20: 5.206 | AM20: 12 | AN20: =$AI$17 -> 50.129355 | AO20: =$AI$23 -> 8.3146667 | AP20: =$AI$24 -> 6.6853333 | AQ20: =$AI$21 -> 9.1293333 | AR20: =$AI$22 -> 5.8706667 | AS20: =$AI$19 -> 10.094 | AT20: =$AI$20 -> 5.206
AI21: 9.1293333 | AM21: 13 | AN21: =$AI$17 -> 50.129355 | AO21: =$AI$23 -> 8.3146667 | AP21: =$AI$24 -> 6.6853333 | AQ21: =$AI$21 -> 9.1293333 | AR21: =$AI$22 -> 5.8706667 | AS21: =$AI$19 -> 10.094 | AT21: =$AI$20 -> 5.206
AI22: 5.8706667 | AM22: 14 | AN22: =$AI$17 -> 50.129355 | AO22: =$AI$23 -> 8.3146667 | AP22: =$AI$24 -> 6.6853333 | AQ22: =$AI$21 -> 9.1293333 | AR22: =$AI$22 -> 5.8706667 | AS22: =$AI$19 -> 10.094 | AT22: =$AI$20 -> 5.206
AI23: 8.3146667 | AM23: 15 | AN23: =$AI$17 -> 50.129355 | AO23: =$AI$23 -> 8.3146667 | AP23: =$AI$24 -> 6.6853333 | AQ23: =$AI$21 -> 9.1293333 | AR23: =$AI$22 -> 5.8706667 | AS23: =$AI$19 -> 10.094 | AT23: =$AI$20 -> 5.206
AI24: 6.6853333 | AM24: 16 | AN24: =$AI$17 -> 50.129355 | AO24: =$AI$23 -> 8.3146667 | AP24: =$AI$24 -> 6.6853333 | AQ24: =$AI$21 -> 9.1293333 | AR24: =$AI$22 -> 5.8706667 | AS24: =$AI$19 -> 10.094 | AT24: =$AI$20 -> 5.206
AG25: LSA: Limite superior de alerta. LSC: Limite superior de control. LIA: Limite infierior de alerta LIC: Limite inferior de control | AM25: 17 | AN25: =$AI$17 -> 50.129355 | AO25: =$AI$23 -> 8.3146667 | AP25: =$AI$24 -> 6.6853333 | AQ25: =$AI$21 -> 9.1293333 | AR25: =$AI$22 -> 5.8706667 | AS25: =$AI$19 -> 10.094 | AT25: =$AI$20 -> 5.206
AM26: 18 | AN26: =$AI$17 -> 50.129355 | AO26: =$AI$23 -> 8.3146667 | AP26: =$AI$24 -> 6.6853333 | AQ26: =$AI$21 -> 9.1293333 | AR26: =$AI$22 -> 5.8706667 | AS26: =$AI$19 -> 10.094 | AT26: =$AI$20 -> 5.206
AM27: 19 | AN27: =$AI$17 -> 50.129355 | AO27: =$AI$23 -> 8.3146667 | AP27: =$AI$24 -> 6.6853333 | AQ27: =$AI$21 -> 9.1293333 | AR27: =$AI$22 -> 5.8706667 | AS27: =$AI$19 -> 10.094 | AT27: =$AI$20 -> 5.206
AM28: 20 | AN28: =$AI$17 -> 50.129355 | AO28: =$AI$23 -> 8.3146667 | AP28: =$AI$24 -> 6.6853333 | AQ28: =$AI$21 -> 9.1293333 | AR28: =$AI$22 -> 5.8706667 | AS28: =$AI$19 -> 10.094 | AT28: =$AI$20 -> 5.206
AM29: 21 | AN29: =$AI$17 -> 50.129355 | AO29: =$AI$23 -> 8.3146667 | AP29: =$AI$24 -> 6.6853333 | AQ29: =$AI$21 -> 9.1293333 | AR29: =$AI$22 -> 5.8706667 | AS29: =$AI$19 -> 10.094 | AT29: =$AI$20 -> 5.206
AM30: 22 | AN30: =$AI$17 -> 50.129355 | AO30: =$AI$23 -> 8.3146667 | AP30: =$AI$24 -> 6.6853333 | AQ30: =$AI$21 -> 9.1293333 | AR30: =$AI$22 -> 5.8706667 | AS30: =$AI$19 -> 10.094 | AT30: =$AI$20 -> 5.206
AM31: 23 | AN31: =$AI$17 -> 50.129355 | AO31: =$AI$23 -> 8.3146667 | AP31: =$AI$24 -> 6.6853333 | AQ31: =$AI$21 -> 9.1293333 | AR31: =$AI$22 -> 5.8706667 | AS31: =$AI$19 -> 10.094 | AT31: =$AI$20 -> 5.206
AM32: 24 | AN32: =$AI$17 -> 50.129355 | AO32: =$AI$23 -> 8.3146667 | AP32: =$AI$24 -> 6.6853333 | AQ32: =$AI$21 -> 9.1293333 | AR32: =$AI$22 -> 5.8706667 | AS32: =$AI$19 -> 10.094 | AT32: =$AI$20 -> 5.206
AM33: 25 | AN33: =$AI$17 -> 50.129355 | AO33: =$AI$23 -> 8.3146667 | AP33: =$AI$24 -> 6.6853333 | AQ33: =$AI$21 -> 9.1293333 | AR33: =$AI$22 -> 5.8706667 | AS33: =$AI$19 -> 10.094 | AT33: =$AI$20 -> 5.206
AM34: 26 | AN34: =$AI$17 -> 50.129355 | AO34: =$AI$23 -> 8.3146667 | AP34: =$AI$24 -> 6.6853333 | AQ34: =$AI$21 -> 9.1293333 | AR34: =$AI$22 -> 5.8706667 | AS34: =$AI$19 -> 10.094 | AT34: =$AI$20 -> 5.206
A35: No. | B35: 1 | C35: 2 | D35: 3 | E35: 4 | F35: 5 | G35: 6 | H35: 7 | I35: 8 | J35: 9 | K35: 10 | L35: 11 | M35: 12 | N35: 13 | O35: 14 | P35: 15 | Q35: 16 | R35: 17 | S35: 18 | T35: 19 | U35: 20 | W35: Observaciones: | AM35: 27 | AN35: =$AI$17 -> 50.129355 | AO35: =$AI$23 -> 8.3146667 | AP35: =$AI$24 -> 6.6853333 | AQ35: =$AI$21 -> 9.1293333 | AR35: =$AI$22 -> 5.8706667 | AS35: =$AI$19 -> 10.094 | AT35: =$AI$20 -> 5.206
A36: Dato | AM36: 28 | AN36: =$AI$17 -> 50.129355 | AO36: =$AI$23 -> 8.3146667 | AP36: =$AI$24 -> 6.6853333 | AQ36: =$AI$21 -> 9.1293333 | AR36: =$AI$22 -> 5.8706667 | AS36: =$AI$19 -> 10.094 | AT36: =$AI$20 -> 5.206
A37: Día | AM37: 29 | AN37: =$AI$17 -> 50.129355 | AO37: =$AI$23 -> 8.3146667 | AP37: =$AI$24 -> 6.6853333 | AQ37: =$AI$21 -> 9.1293333 | AR37: =$AI$22 -> 5.8706667 | AS37: =$AI$19 -> 10.094 | AT37: =$AI$20 -> 5.206
A38: Resp. | AM38: 30 | AN38: =$AI$17 -> 50.129355 | AO38: =$AI$23 -> 8.3146667 | AP38: =$AI$24 -> 6.6853333 | AQ38: =$AI$21 -> 9.1293333 | AR38: =$AI$22 -> 5.8706667 | AS38: =$AI$19 -> 10.094 | AT38: =$AI$20 -> 5.206
AM39: 31 | AN39: =$AI$17 -> 50.129355 | AO39: =$AI$23 -> 8.3146667 | AP39: =$AI$24 -> 6.6853333 | AQ39: =$AI$21 -> 9.1293333 | AR39: =$AI$22 -> 5.8706667 | AS39: =$AI$19 -> 10.094 | AT39: =$AI$20 -> 5.206
A40: Revisó y Aprobó | F40: Cargo: | X40: Firma: | AM40: 37 | AN40: =$AI$17 -> 50.129355 | AO40: =$AI$23 -> 8.3146667 | AP40: =$AI$24 -> 6.6853333 | AQ40: =$AI$21 -> 9.1293333 | AR40: =$AI$22 -> 5.8706667 | AS40: =$AI$19 -> 10.094 | AT40: =$AI$20 -> 5.206
F41: Nombre: | AM41: 38 | AN41: =$AI$17 -> 50.129355 | AO41: =$AI$23 -> 8.3146667 | AP41: =$AI$24 -> 6.6853333 | AQ41: =$AI$21 -> 9.1293333 | AR41: =$AI$22 -> 5.8706667 | AS41: =$AI$19 -> 10.094 | AT41: =$AI$20 -> 5.206

Sheet Carta Base
F4: CARTA DE CONTROL DEL MÉTODO
F5: CÓDIGO: M.EDS-04.LA.02 | N5: Versión: 01 | V5: Fecha: 2016/12/15 | AF5: Hoja 1 de 1 | AN5: media | AO5: x+1s | AP5: x-1s | AQ5: lsa | AR5: lia | AS5: lsc | AT5: lic
A7: Mes: | M7: Año: | U7: Parámetro:
A9: Método: | N9: Patrón de Control: | AG9: Datos de esta carta | AM9: 1 | AN9: =$AI$17 -> 50.129355 | AO9: =$AI$23 -> 8.3146667 | AP9: =$AI$24 -> 6.6853333 | AQ9: =$AI$21 -> 9.1293333 | AR9: =$AI$22 -> 5.8706667 | AS9: =$AI$19 -> 10.094 | AT9: =$AI$20 -> 5.206
AM10: 2 | AN10: =$AI$17 -> 50.129355 | AO10: =$AI$23 -> 8.3146667 | AP10: =$AI$24 -> 6.6853333 | AQ10: =$AI$21 -> 9.1293333 | AR10: =$AI$22 -> 5.8706667 | AS10: =$AI$19 -> 10.094 | AT10: =$AI$20 -> 5.206
AG11: n: | AI11: =COUNT(B36:AF36) -> 21 | AM11: 3 | AN11: =$AI$17 -> 50.129355 | AO11: =$AI$23 -> 8.3146667 | AP11: =$AI$24 -> 6.6853333 | AQ11: =$AI$21 -> 9.1293333 | AR11: =$AI$22 -> 5.8706667 | AS11: =$AI$19 -> 10.094 | AT11: =$AI$20 -> 5.206
AI12: =AVERAGE(B36:AF36) -> 7.6666667 | AM12: 4 | AN12: =$AI$17 -> 50.129355 | AO12: =$AI$23 -> 8.3146667 | AP12: =$AI$24 -> 6.6853333 | AQ12: =$AI$21 -> 9.1293333 | AR12: =$AI$22 -> 5.8706667 | AS12: =$AI$19 -> 10.094 | AT12: =$AI$20 -> 5.206
AG13: s: | AI13: =STDEV(B36:AF36) -> 1.2382784 | AM13: 5 | AN13: =$AI$17 -> 50.129355 | AO13: =$AI$23 -> 8.3146667 | AP13: =$AI$24 -> 6.6853333 | AQ13: =$AI$21 -> 9.1293333 | AR13: =$AI$22 -> 5.8706667 | AS13: =$AI$19 -> 10.094 | AT13: =$AI$20 -> 5.206
AG14: Datos de la carta anterior | AM14: 6 | AN14: =$AI$17 -> 50.129355 | AO14: =$AI$23 -> 8.3146667 | AP14: =$AI$24 -> 6.6853333 | AQ14: =$AI$21 -> 9.1293333 | AR14: =$AI$22 -> 5.8706667 | AS14: =$AI$19 -> 10.094 | AT14: =$AI$20 -> 5.206
AM15: 7 | AN15: =$AI$17 -> 50.129355 | AO15: =$AI$23 -> 8.3146667 | AP15: =$AI$24 -> 6.6853333 | AQ15: =$AI$21 -> 9.1293333 | AR15: =$AI$22 -> 5.8706667 | AS15: =$AI$19 -> 10.094 | AT15: =$AI$20 -> 5.206
AG16: n: | AI16: =COUNT(B36:AF36) -> 21 | AM16: 8 | AN16: =$AI$17 -> 50.129355 | AO16: =$AI$23 -> 8.3146667 | AP16: =$AI$24 -> 6.6853333 | AQ16: =$AI$21 -> 9.1293333 | AR16: =$AI$22 -> 5.8706667 | AS16: =$AI$19 -> 10.094 | AT16: =$AI$20 -> 5.206
AI17: =[1]JULIO2015!AH14 -> 50.129355 | AM17: 9 | AN17: =$AI$17 -> 50.129355 | AO17: =$AI$23 -> 8.3146667 | AP17: =$AI$24 -> 6.6853333 | AQ17: =$AI$21 -> 9.1293333 | AR17: =$AI$22 -> 5.8706667 | AS17: =$AI$19 -> 10.094 | AT17: =$AI$20 -> 5.206
AG18: s: | AI18: =[1]JULIO2015!AH15 -> 0.1015459 | AM18: 10 | AN18: =$AI$17 -> 50.129355 | AO18: =$AI$23 -> 8.3146667 | AP18: =$AI$24 -> 6.6853333 | AQ18: =$AI$21 -> 9.1293333 | AR18: =$AI$22 -> 5.8706667 | AS18: =$AI$19 -> 10.094 | AT18: =$AI$20 -> 5.206
AI19: =(B82) -> 10.094 | AM19: 11 | AN19: =$AI$17 -> 50.129355 | AO19: =$AI$23 -> 8.3146667 | AP19: =$AI$24 -> 6.6853333 | AQ19: =$AI$21 -> 9.1293333 | AR19: =$AI$22 -> 5.8706667 | AS19: =$AI$19 -> 10.094 | AT19: =$AI$20 -> 5.206
AI20: =(B88) -> 5.206 | AM20: 12 | AN20: =$AI$17 -> 50.129355 | AO20: =$AI$23 -> 8.3146667 | AP20: =$AI$24 -> 6.6853333 | AQ20: =$AI$21 -> 9.1293333 | AR20: =$AI$22 -> 5.8706667 | AS20: =$AI$19 -> 10.094 | AT20: =$AI$20 -> 5.206
AI21: =(B83) -> 9.1293333 | AM21: 13 | AN21: =$AI$17 -> 50.129355 | AO21: =$AI$23 -> 8.3146667 | AP21: =$AI$24 -> 6.6853333 | AQ21: =$AI$21 -> 9.1293333 | AR21: =$AI$22 -> 5.8706667 | AS21: =$AI$19 -> 10.094 | AT21: =$AI$20 -> 5.206
AI22: =(B87) -> 5.8706667 | AM22: 14 | AN22: =$AI$17 -> 50.129355 | AO22: =$AI$23 -> 8.3146667 | AP22: =$AI$24 -> 6.6853333 | AQ22: =$AI$21 -> 9.1293333 | AR22: =$AI$22 -> 5.8706667 | AS22: =$AI$19 -> 10.094 | AT22: =$AI$20 -> 5.206
AI23: =(B84) -> 8.3146667 | AM23: 15 | AN23: =$AI$17 -> 50.129355 | AO23: =$AI$23 -> 8.3146667 | AP23: =$AI$24 -> 6.6853333 | AQ23: =$AI$21 -> 9.1293333 | AR23: =$AI$22 -> 5.8706667 | AS23: =$AI$19 -> 10.094 | AT23: =$AI$20 -> 5.206
AI24: =(B86) -> 6.6853333 | AM24: 16 | AN24: =$AI$17 -> 50.129355 | AO24: =$AI$23 -> 8.3146667 | AP24: =$AI$24 -> 6.6853333 | AQ24: =$AI$21 -> 9.1293333 | AR24: =$AI$22 -> 5.8706667 | AS24: =$AI$19 -> 10.094 | AT24: =$AI$20 -> 5.206
AG25: LSA: Limite superior de alerta. LSC: Limite superior de control. LIA: Limite infierior de alerta LIC: Limite inferior de control | AM25: 17 | AN25: =$AI$17 -> 50.129355 | AO25: =$AI$23 -> 8.3146667 | AP25: =$AI$24 -> 6.6853333 | AQ25: =$AI$21 -> 9.1293333 | AR25: =$AI$22 -> 5.8706667 | AS25: =$AI$19 -> 10.094 | AT25: =$AI$20 -> 5.206
AM26: 18 | AN26: =$AI$17 -> 50.129355 | AO26: =$AI$23 -> 8.3146667 | AP26: =$AI$24 -> 6.6853333 | AQ26: =$AI$21 -> 9.1293333 | AR26: =$AI$22 -> 5.8706667 | AS26: =$AI$19 -> 10.094 | AT26: =$AI$20 -> 5.206
AM27: 19 | AN27: =$AI$17 -> 50.129355 | AO27: =$AI$23 -> 8.3146667 | AP27: =$AI$24 -> 6.6853333 | AQ27: =$AI$21 -> 9.1293333 | AR27: =$AI$22 -> 5.8706667 | AS27: =$AI$19 -> 10.094 | AT27: =$AI$20 -> 5.206
AM28: 20 | AN28: =$AI$17 -> 50.129355 | AO28: =$AI$23 -> 8.3146667 | AP28: =$AI$24 -> 6.6853333 | AQ28: =$AI$21 -> 9.1293333 | AR28: =$AI$22 -> 5.8706667 | AS28: =$AI$19 -> 10.094 | AT28: =$AI$20 -> 5.206
AM29: 21 | AN29: =$AI$17 -> 50.129355 | AO29: =$AI$23 -> 8.3146667 | AP29: =$AI$24 -> 6.6853333 | AQ29: =$AI$21 -> 9.1293333 | AR29: =$AI$22 -> 5.8706667 | AS29: =$AI$19 -> 10.094 | AT29: =$AI$20 -> 5.206
AM30: 22 | AN30: =$AI$17 -> 50.129355 | AO30: =$AI$23 -> 8.3146667 | AP30: =$AI$24 -> 6.6853333 | AQ30: =$AI$21 -> 9.1293333 | AR30: =$AI$22 -> 5.8706667 | AS30: =$AI$19 -> 10.094 | AT30: =$AI$20 -> 5.206
AM31: 23 | AN31: =$AI$17 -> 50.129355 | AO31: =$AI$23 -> 8.3146667 | AP31: =$AI$24 -> 6.6853333 | AQ31: =$AI$21 -> 9.1293333 | AR31: =$AI$22 -> 5.8706667 | AS31: =$AI$19 -> 10.094 | AT31: =$AI$20 -> 5.206
AM32: 24 | AN32: =$AI$17 -> 50.129355 | AO32: =$AI$23 -> 8.3146667 | AP32: =$AI$24 -> 6.6853333 | AQ32: =$AI$21 -> 9.1293333 | AR32: =$AI$22 -> 5.8706667 | AS32: =$AI$19 -> 10.094 | AT32: =$AI$20 -> 5.206
AG33: Observaciones: | AM33: 25 | AN33: =$AI$17 -> 50.129355 | AO33: =$AI$23 -> 8.3146667 | AP33: =$AI$24 -> 6.6853333 | AQ33: =$AI$21 -> 9.1293333 | AR33: =$AI$22 -> 5.8706667 | AS33: =$AI$19 -> 10.094 | AT33: =$AI$20 -> 5.206
AM34: 26 | AN34: =$AI$17 -> 50.129355 | AO34: =$AI$23 -> 8.3146667 | AP34: =$AI$24 -> 6.6853333 | AQ34: =$AI$21 -> 9.1293333 | AR34: =$AI$22 -> 5.8706667 | AS34: =$AI$19 -> 10.094 | AT34: =$AI$20 -> 5.206
A35: No. | B35: 1 | C35: 2 | D35: 3 | E35: 4 | F35: 5 | G35: 6 | H35: 7 | I35: 8 | J35: 9 | K35: 10 | L35: 11 | M35: 12 | N35: 13 | O35: 14 | P35: 15 | Q35: 16 | R35: 17 | S35: 18 | T35: 19 | U35: 20 | V35: 21 | W35: 22 | X35: 23 | Y35: 24 | Z35: 25 | AA35: 26 | AB35: 27 | AC35: 28 | AD35: 29 | AE35: 30 | AF35: 31 | AM35: 27 | AN35: =$AI$17 -> 50.129355 | AO35: =$AI$23 -> 8.3146667 | AP35: =$AI$24 -> 6.6853333 | AQ35: =$AI$21 -> 9.1293333 | AR35: =$AI$22 -> 5.8706667 | AS35: =$AI$19 -> 10.094 | AT35: =$AI$20 -> 5.206
A36: Dato | B36: 8 | C36: 7 | D36: 9 | E36: 10 | F36: 8 | G36: 7 | H36: 6 | I36: 6 | J36: 9 | K36: 8 | L36: 7 | M36: 9 | N36: 8 | O36: 6 | P36: 5 | Q36: 8 | R36: 9 | S36: 8 | T36: 8 | U36: 7 | V36: 8 | AM36: 28 | AN36: =$AI$17 -> 50.129355 | AO36: =$AI$23 -> 8.3146667 | AP36: =$AI$24 -> 6.6853333 | AQ36: =$AI$21 -> 9.1293333 | AR36: =$AI$22 -> 5.8706667 | AS36: =$AI$19 -> 10.094 | AT36: =$AI$20 -> 5.206
A37: Día | AM37: 29 | AN37: =$AI$17 -> 50.129355 | AO37: =$AI$23 -> 8.3146667 | AP37: =$AI$24 -> 6.6853333 | AQ37: =$AI$21 -> 9.1293333 | AR37: =$AI$22 -> 5.8706667 | AS37: =$AI$19 -> 10.094 | AT37: =$AI$20 -> 5.206
A38: Resp. | AM38: 30 | AN38: =$AI$17 -> 50.129355 | AO38: =$AI$23 -> 8.3146667 | AP38: =$AI$24 -> 6.6853333 | AQ38: =$AI$21 -> 9.1293333 | AR38: =$AI$22 -> 5.8706667 | AS38: =$AI$19 -> 10.094 | AT38: =$AI$20 -> 5.206
AM39: 31 | AN39: =$AI$17 -> 50.129355 | AO39: =$AI$23 -> 8.3146667 | AP39: =$AI$24 -> 6.6853333 | AQ39: =$AI$21 -> 9.1293333 | AR39: =$AI$22 -> 5.8706667 | AS39: =$AI$19 -> 10.094 | AT39: =$AI$20 -> 5.206
A40: No. | B40: 32 | C40: 33 | D40: 34 | E40: 35 | F40: 36 | G40: 37 | H40: 38 | I40: 39 | J40: 40 | K40: 41 | L40: 42 | M40: 43 | N40: 44 | O40: 45 | P40: 46 | Q40: 47 | R40: 48 | S40: 49 | T40: 50 | U40: 51 | V40: 52 | W40: 53 | X40: 54 | Y40: 55 | Z40: 56 | AA40: 57 | AB40: 58 | AC40: 59 | AD40: 60 | AE40: 61 | AF40: 62 | AM40: 32 | AN40: =$AI$17 -> 50.129355 | AO40: =$AI$23 -> 8.3146667 | AP40: =$AI$24 -> 6.6853333 | AQ40: =$AI$21 -> 9.1293333 | AR40: =$AI$22 -> 5.8706667 | AS40: =$AI$19 -> 10.094 | AT40: =$AI$20 -> 5.206
A41: Dato | AM41: 33 | AN41: =$AI$17 -> 50.129355 | AO41: =$AI$23 -> 8.3146667 | AP41: =$AI$24 -> 6.6853333 | AQ41: =$AI$21 -> 9.1293333 | AR41: =$AI$22 -> 5.8706667 | AS41: =$AI$19 -> 10.094 | AT41: =$AI$20 -> 5.206
A42: Día | AM42: 34 | AN42: =$AI$17 -> 50.129355 | AO42: =$AI$23 -> 8.3146667 | AP42: =$AI$24 -> 6.6853333 | AQ42: =$AI$21 -> 9.1293333 | AR42: =$AI$22 -> 5.8706667 | AS42: =$AI$19 -> 10.094 | AT42: =$AI$20 -> 5.206
A43: Resp. | AM43: 35 | AN43: =$AI$17 -> 50.129355 | AO43: =$AI$23 -> 8.3146667 | AP43: =$AI$24 -> 6.6853333 | AQ43: =$AI$21 -> 9.1293333 | AR43: =$AI$22 -> 5.8706667 | AS43: =$AI$19 -> 10.094 | AT43: =$AI$20 -> 5.206
AM44: 36 | AN44: =$AI$17 -> 50.129355 | AO44: =$AI$23 -> 8.3146667 | AP44: =$AI$24 -> 6.6853333 | AQ44: =$AI$21 -> 9.1293333 | AR44: =$AI$22 -> 5.8706667 | AS44: =$AI$19 -> 10.094 | AT44: =$AI$20 -> 5.206
A45: Revisó y Aprobó | D45: Cargo: | T45: Firma: | AM45: 37 | AN45: =$AI$17 -> 50.129355 | AO45: =$AI$23 -> 8.3146667 | AP45: =$AI$24 -> 6.6853333 | AQ45: =$AI$21 -> 9.1293333 | AR45: =$AI$22 -> 5.8706667 | AS45: =$AI$19 -> 10.094 | AT45: =$AI$20 -> 5.206
...

Sheet Hoja2
A2: n | B2: d2 | C2: D3 | D2: D4 | E2: A2 | G2: B3 | H2: B4 | I2: A3
A3: 2 | B3: 1.128 | C3: 0 | D3: 3.267 | E3: 1.88 | G3: 0 | H3: 3.267 | I3: 2.659
A4: 3 | B4: 1.693 | C4: 0 | D4: 2.575 | E4: 1.023 | G4: 0 | H4: 2.568 | I4: 1.954
A5: 4 | B5: 2.059 | C5: 0 | D5: 2.282 | E5: 0.729 | G5: 0 | H5: 2.266 | I5: 1.628
A6: 5 | B6: 2.326 | C6: 0 | D6: 2.114 | E6: 0.577 | G6: 0 | H6: 2.089 | I6: 1.427
A7: 6 | B7: 2.534 | C7: 0 | D7: 2.004 | E7: 0.483 | G7: 0.03 | H7: 1.97 | I7: 1.287
A8: 7 | B8: 2.704 | C8: 0.076 | D8: 1.924 | E8: 0.419 | G8: 0.118 | H8: 1.882 | I8: 1.182
A9: 8 | B9: 2.847 | C9: 0.136 | D9: 1.864 | E9: 0.373 | G9: 0.185 | H9: 1.815 | I9: 1.099
A10: 9 | B10: 2.97 | C10: 0.184 | D10: 1.816 | E10: 0.337 | G10: 0.239 | H10: 1.761 | I10: 1.032
A11: 10 | B11: 3.078 | C11: 0.223 | D11: 1.777 | E11: 0.308 | G11: 0.284 | H11: 1.716 | I11: 0.975
A12: 11 | B12: 3.173 | C12: 0.256 | D12: 1.744 | E12: 0.285 | G12: 0.321 | H12: 1.679 | I12: 0.927
A13: 12 | B13: 3.258 | C13: 0.284 | D13: 1.717 | E13: 0.266 | G13: 0.354 | H13: 1.646 | I13: 0.886
A14: 13 | B14: 3.336 | C14: 0.308 | D14: 1.692 | E14: 0.249 | G14: 0.382 | H14: 1.618 | I14: 0.85
... A16: 15 | B16: 3.472 | C16: 0.348 | D16: 1.652 | E16: 0.223 | G16: 0.428 | H16: 1.572 | I16: 0.789
A19: LCIx | B19: X - A2R
A20: LCSx | B20: X + A2R
A22: LCIR | B22: D3R
A23: LCSR | B23: D4R
A25: s | B25: R / d2
