Workbook

Sheet Concertacion 
B2: CONCERTACION COMPROMISOS ESTRATEGICOS Y/O INSTITUCIONALES
B3: 1. Identificacion
C4: 1.1. Nombre de la Entidad: | D4: Departamento Administrativo de la Funcion Publica
C5: 1.2. Dependencia | D5: Direccion de Empleo Publico
C6: 1.3. Nombre Gerente Publico | D6: Alex Rios
C7: 1.4. Nombre Superior Jerarquio | D7: Daniel Gomez
C8: 1.5. Fecha Sucripcion Acuerdo de Gestion | D8: 41656
C9: 1.6.Vigencia del Acuerdo de Gestion | D9: desde: 17/01/2014
D10: hasta: 31/12/2014
A12: 2. Concertacion
A13: Componentes
H14: 2.7. Observaciones
A15: N° | B15: 2.1. Peso | C15: 2.2. Compromisos Estrategicos y/o Institucionales | D15: 2.3. Actividades | E15: 2.4. Meta | F15: 2.5. Indicador | G15: 2.6. Fecha inicio-fin | H15: Gerente Publico | I15: Superior Jerarquico
A16: 1. | B16: 0.3 | C16: Elaboracion de los componentes a incluir en el PND 2015-2018 en materia de Empleo Publico | D16: 1. Evaluar los proyectos y metas establecidos en el PND 2010-2014 | E16: 4 | F16: N° de actividades realizadas en el periodo establecido/N° de actividades programadas en el periodo establecido | G16: 01/03/2014 - 03/06/2014
D17: 2. Realizar reuniones con los lideres de proyecto para definir metodologia y seguimiento a las propuestas
D18: 3. Definir y evaluar las propuestas presentadas
D19: 4. Elaborar el documento propuesta para presentar la Direccion General
A20: 2. | B20: 0.3 | C20: Seguimiento al cumplimiento de las metas establecidas para la implementacion del SIGEP a nivel nacional y territorial | D20: Definir las metas de capacitacion, asesoria y seguimiento para la vigencia 2014, nivel ncional y territorial | E20: 20 | F20: Porcentaje de cumplimiento de cronograma de actividades, proyecto SIGEP | G20: 02/02/2014-02/03/2014
D21: realizar reuniones con los coordinadores asignados para el seguimiento al cronograma de actividades | G21: 02/03/2014-28/11/2014
D22: seguimiento al indicador de crecimiento de hojas de vida y vinculacion de subsistema de recursos humanos | G22: 02/03/2014- 28/11/2014
A23: 3. | B23: 0.4 | C23: Definicion del modelo estrategico de planeacion del recurso humano | D23: Seguimiento al diagnostico de aplicabilidad del modelo estrategico de planeacion del recurso humano | E23: 15 | F23: N° de actividades realizadas en el periodo establecido/N° de actividades programadas en el periodo establecido | G23: 02/03/2014- 28/11/2014
D24: reuniones periodicas con el equipo de trabajo para definir metodologia de revision
D25: acompañamiento y seguimiento a la prueba piloto de implementacion
A26: Total | B26: =SUM(B16:B25) -> 1
C29: Firma del Superior Jerarquico | F29: Firma del Gerente Publico

Sheet MANUAL
L4: ANEXO 2
L8: Para llevar a cabo el ejercicio de valoración de las competencias se dispone del Anexo 2: Evaluación de competencias, se incluyen los campos cuyo alcance es el siguiente: Las competencias se valorarán en una escala de 1 a 5 que mide el desarrollo de las conductas esperadas, de acuerdo a los siguientes criterios de valoración:
B9: Guía metodológica para la Gestión del Rendimiento de los Directivos Universitarios - Acuerdos de Gestión
B11: Manual de diligenciamiento Anexos 1 y 2 | M11: Criterio de valoración | Q11: Puntaje
M12: Es consistente en su comportamiento, da ejemplo e influye en otros, es un referente en su organización y trasciende su entorno de gestión. | Q12: 5
B13: ANEXO 1 | M13: Es consistente en su comportamiento y se destaca entre sus pares y en los entornos donde se desenvuelve. Puede afianzar. | Q13: 4
B15: Objetivos institucionales | C15: Son los definidos en la planeación institucional en concordancia con lo establecido con el Plan de Desarrollo Institucional y el Plan Estratégico Institucional y que deberán estar relacionados con los compromisos de cada directivo universitario. | M15: Su comportamiento se evidencia de manera regular en los entornos en los que se desenvuelve. Puede mejorar. | Q15: 3
B16: Compromisos Directivos | C16: Comprenden los resultados a ser medidos, cuantificados y verificados que adelantará el directivo universitario para el cumplimiento efectivo de los objetivos de la Universidad, de acuerdo con las metas anuales y el Plan Anual de Gestión. Se sugiere que los compromisos acordados en el ejercicio de la concertación deban ser mínimo tres (3) por cada directivo (por ejemplo: Tener acreditados el 30% de los programas académicos que cumplen con las condiciones del CNA o quien haga sus veces; Mejorar en otro 3% la cantidad de Estudiantes con los resultados por encima de la media nacional en las pruebas saber-pro en los diferentes componentes; entre otros).
M17: No es consistente en su comportamiento, requiere de acompañamiento. Puede mejorar. | Q17: 2
M18: Su comportamiento no se manifiesta, requiere de retroalimentación directa y acompañamiento. Puede mejorar. | Q18: 1
B19: Indicador | C19: Es la representación cuantitativa en número o porcentaje que debe ser verificable objetivamente y mediante el cual se determina el cumplimiento de los compromisos directivos. (Por ejemplo: Cantidad de programas académicos acreditados; número de Estudiantes con los resultados por encima de la media nacional en las pruebas saber-pro en los diferentes componentes; entre otros) | L19: Esta valoración contempla la percepción que el superior jerárquico, el par y los subalternos tienen sobre las competencias comunes y directivas del Directivo Universitario.
B20: Fecha inicio – fin | C20: Corresponde al lapso de ejecución del compromiso concertado en el cual deberán adelantarse las acciones necesarias para su cumplimiento. | L20: Competencias y conductas asociadas | M20: Son las establecidas en el manual de funciones y competencias de la Universidad del Quindío.
B22: Actividades | C22: Corresponden a las principales acciones definidas por el directivo universitario que harán posible el logro de los compromisos directivos y que generan las evidencias que permitan el seguimiento a la gestión. Estas no deberán ser menos de tres (3) ni más de cinco (5) por cada compromiso directivo. | L22: Evaluación anterior | M22: Se registra la información de la última valoración disponible, resultado de la valoración de competencias de la vigencia anterior. En caso de no contar con información se deja en blanco la casilla en mención. Esta permitirá tener una referencia del desarrollo de las competencias del directivo universitario.
L24: Evaluación actual | M24: Este resultado se obtiene de la valoración de cada una de las conductas asociadas a todas las competencias en una escala de 1 a 5, obteniendo por cada competencia un promedio simple.
B25: Peso ponderado | C25: Corresponde al porcentaje de cada compromiso concertado con el superior jerárquico, en función de las metas de la Universidad. La asignación del peso porcentual por cada compromiso directivo, estará de acuerdo con los resultados de las ponderaciones realizadas por la Oficina de Gestión y Aseguramiento de la Calidad dentro del proceso de autoevaluación con fines de la acreditación de alta calidad. | L25: Comentarios para la retroalimentación | M25: El superior jerárquico visualiza la totalidad de la valoración integral de competencias e identifica y registra las fortalezas y oportunidades de mejora del directivo universitario que acompañan su gestión.
L27: Evaluación final | M27: Es el resultado final de la valoración realizada por su superior jerárquico, el par y sus subalternos de las competencias comunes y directivas.
B29: Porcentaje de cumplimiento programado al primer periodo (Mayo - octubre) | C29: Se registra el porcentaje programado de cumplimiento de cada compromiso directivo para este periodo.
B30: Porcentaje de cumplimiento de indicador primer periodo (Mayo - octubre) | C30: Se verifica el avance de los compromisos e indicadores definidos en la etapa de concertación y se registra el resultado del indicador asociado al compromiso con corte al primer periodo del año. Este deberá expresarse en términos porcentuales reflejando lo ejecutado frente a lo programado durante este periodo.
B31: Observaciones del avance y Oportunidades de mejora | C31: Se establecen las causas del no cumplimiento de los porcentajes establecidos, que permitan identificar y registrar los aspectos de mejora para el cumplimiento de los compromisos concertados que se encuentren retrasados conforme a lo programado.
B32: Porcentaje de cumplimiento programado al segundo periodo (Noviembre - abril) | C32: Se registra el porcentaje programado de cumplimiento de cada compromiso directivo durante este periodo.
B33: Porcentaje de cumplimiento de indicador segundo periodo (Noviembre - abril) | C33: Se verifica el avance de los compromisos e indicadores definidos en la etapa de concertación y se registra el resultado del indicador asociado al compromiso con corte al segundo periodo del año (no acumulado). Este deberá expresarse en términos porcentuales reflejando lo ejecutado frente a lo programado durante este periodo.
B34: Porcentaje de cumplimiento del año | C34: Se refiere al resultado final alcanzado, que se obtiene de la sumatoria entre el cumplimiento del primer y segundo periodo de acuerdo con lo concertado.
B35: Resultado | C35: Será el porcentaje de cumplimiento de los compromisos directivos del año de acuerdo con el peso ponderado que se asignó al compromiso institucional.
B36: Evidencias | C36: Comprende los soportes que acompañan la ejecución de los compromisos directivos y que pueden encontrarse de forma física y/o virtual. Para ello se deberá consignar una breve descripción del producto o actividad indicada como evidencia, así como la ubicación de la misma ya sea en medios físicos o electrónicos.
A37: Documento y Formatos Adaptados de: Guía metodológica para la Gestión del Rendimiento de los Gerentes Públicos. Acuerdos de Gestión. Departamento Administrativo de la Función Pública. Enero de 2017.

Sheet ANEXO 1
D2: UNIVERSIDAD DEL QUINDÍO
D3: SISTEMA INTEGRADO DE GESTIÓN
D4: Código: E.PE-01.01.IN.01.F.01 | G4: VERSIÓN 01 | L4: FECHA 2017/06/13
B5: Acuerdos de Gestión. Anexo 1: Concertación, Seguimiento, Retroalimentación y Evaluación de Compromisos Directivos
B7: Concertación | O7: Evaluación
B8: N° | C8: Objetivos institucionales | D8: Compromisos directivos | E8: Indicador | F8: Fecha inicio-fin dd/mm/aa | G8: Actividades | H8: Peso ponderado | J8: Avance | O8: % Cumplimiento año | P8: Resultado | Q8: Evidencias
J9: % cumplimiento programado a 1er periodo (Mayo - octubre) | K9: % cumplimiento de Indicador 1er periodo (Mayo - octubre). | L9: Observaciones del avance y oportunidad de mejora. | M9: % cumplimiento programado a 2° periodo (Noviembre - abril) | N9: % Cumplimiento de indicador 2° periodo (Noviembre - abril) | Q9: Descripción | R9: Ubicación
B10: 1 | O10: =SUM(K10+N10) -> 0 | P10: =H10*O10/100% -> 0
B15: 2 | O15: =SUM(K17+N17) -> 0 | P15: =H17*O15/100% -> 0
B20: 3 | O20: =SUM(K22+N22) -> 0 | P20: =H23*O23/100% -> 0
B25: 4 | O25: =SUM(K27+N27) -> 0 | P25: =H28*O28/100% -> 0
B30: 5 | O30: =SUM(K32+N32) -> 0 | P30: =H33*O33/100% -> 0
B35: Total | H35: =IF(SUM(H10:H34)>100%,"supera el 100%",SUM(H10:H34)) -> 0 | P35: =SUM(P10:P34) -> 0
P36: 0
P37: =SUM(P35:P36) -> 0
C40: FECHA
C41: VIGENCIA | G41: Firma del Supervidor Jerárquico | L41: Firma del Directivo Universitario

Sheet Seguimiento 2
B2: SEGUIMIENTO COMPROMISOS ESTRATEGICOS Y/O INSTITUCIONALES
B3: 1. Identificacion
C4: 1.1. Nombre de la Entidad: | D4: ='Concertacion '!D4 -> Departamento Administrativo de la Funcion Publica
C5: 1.2. Dependencia | D5: ='Concertacion '!D5 -> Direccion de Empleo Publico
C6: 1.3. Nombre Gerente Publico | D6: ='Concertacion '!D6 -> Alex Rios
C7: 1.4. Nombre Superior Jerarquio | D7: ='Concertacion '!D7 -> Daniel Gomez
C8: 1.5 Fecha Sucripcion Acuerdo de Gestion | D8: 41715
C9: 1.6. Vigencia del Acuerdo de Gestion | D9: desde: 17/03/2014
D10: hasta: 31/12/2014
C11: 1.7. Periodo de seguimiento | D11: desde: 17/03/2014
D12: hasta: 17/06/2014
A15: 2. Concertacion | H15: 3. Evaluacion
A16: N° | B16: 2.1. Peso | C16: 2.2. Compromisos Estrategicos y/o Institucionales | D16: 2.3. Actividades | E16: 2.4 Meta | F16: 2.5. Indicador | G16: 2.6. Fecha inicio-fin | H16: 3.1. Resultado | L16: 3.2. Acumulado | M16: 3.3. Resultado peso POA | N16: 3.4. Analisis | O16: 3.5. Evidencias | Q16: 2.7. Observaciones
A17: 1. | B17: 0.3 | C17: Elaboracion de los componentes a incluir en el PND 2015-2018 en materia de Empleo Publico | D17: 1. Evaluar los proyectos y metas establecidos en el PND 2010-2014 | E17: 4 | F17: N° de actividades realizadas en el periodo establecido/N° de actividades programadas en el periodo establecido | G17: 01/03/2014 - 03/06/2014 | H17: I trimestre | I17: II trimestre | J17: III trimestre | K17: IV trimestre | L17: % Avance | O17: Descripcion | P17: Ubicación | Q17: Gerente Publico | R17: Superior Jerarquico
D18: 2. Realizar reuniones con los lideres de proyecto para definir metodologia y seguimiento a las propuestas | H18: 0.25 | I18: =1/E17 -> 0.25 | L18: =SUM(H18:K18) -> 0.5 | M18: =2*B17/E17 -> 0.15 | N18: en los primeros tres meses de gestion se cumplieron todas las actividades propuestas, teniendo como producto final el documento de los programas y proyectos aprobado por la Direccion General para incluir en el PND 2015-2018 | O18: Listas de asistencia de reuniones y mesas de trabajo para definir programas y proyectos. Doumento de propuestas y aprobacion por la Direccion General | P18: las evidencias se encuentran en la ruta dep_documentos_DEP2014_PND 2015-2018 | Q18: El compromiso estrategico se cumple al 100% en los primeros tres meses ya que es una actividad planeada para este periodo, por lo tanto no se tienen resultados de II a IV trimestre
D19: 3. Definir y evaluar las propuestas presentadas
D20: 4. Elaborar el documento propuesta para presentar la Direccion General
A21: 2. | B21: 0.4 | C21: Seguimiento al cumplimiento de las metas establecidas para la implementacion del SIGEP a nivel nacional y territorial | D21: Definir las metas de capacitacion, asesoria y seguimiento para la vigencia 2014, nivel nacional y territorial | E21: 20 | F21: Porcentaje de cumplimiento de cronograma de actividades, proyecto SIGEP | G21: 02/02/2014-28/11/2014 | H21: 0.08 | I21: =7/E21 -> 0.35 | L21: =+H21+I21+J21+K21 -> 0.43 | M21: =9*B21/E21 -> 0.18
D22: realizar reuniones con los coordinadores asignados para el seguimiento al cronograma de actividades
D23: seguimiento al indicador de crecimiento de hojas de vida y vinculacion de subsistema de recursos humanos
A24: 3. | B24: 0.3 | C24: Definicion del modelo estrategico de planeacion del recurso humano | D24: Seguimiento al diagnostico de aplicabilidad del modelo estrategico de planeacion del recurso humano | E24: 15 | F24: N° de actividades realizadas en el periodo establecido/N° de actividades programadas en el periodo establecido | G24: 02/03/2014- 28/11/2014 | H24: 0.1 | I24: =5/E24 -> 0.33333333 | L24: =+H24+I24+J24+K24 -> 0.43333333 | M24: =8*B24/E24 -> 0.16
D25: reuniones periodicas con el equipo de trabajo para definir metodologia de revision
D26: acompañamiento y seguimiento a la prueba piloto de implementacion
A27: Total | B27: =SUM(B17:B26) -> 1 | H27: =SUM(H18:H26) -> 0.43 | I27: =SUM(I18:I26) -> 0.93333333 | L27: =SUM(L18:L26)/3 -> 0.45444444 | M27: =SUM(M18:M26) -> 0.49
D30: Firma del Superior Jerarquico | G30: Firma del Gerente Publico
B32: 4. Control de Cambios
B33: 4.1. Componente | C33: 4.2. Ajuste/Cambio | D33: 4.3. Control de Cambios | E33: 4.4. Fecha de Cambio | F33: 4.5. Evidencia | G33: 4.6. Firma del Superior Jerarquico | H33: 4.7. Firma del Gerente Publico
B34: Peso | C34: el peso actual del proyeto SIGEP es de 30%, sin embargo se aumenta al 40% | D34: De acuerdo al peso establecido, es necesario aumentar el peso de el compromiso estrategico y/o institucional al proyecto SIGEP y disminuyendo el peso a la definicion del modelo estrategico de planeacion de recurso humano, debido a que el alcance del proyecto SIGEP tiene una cobertura mas amplia | E34: 41807 | F34: la evidencia que soporta el cambio es el plan de proyecto de SIGEP, donde se especifica el alcance del mismo y se encuentra en la ruta xxx
B35: Compromiso Estrategico y/o Institucional
B36: Actividades
B37: Indicador
B38: Fecha de Inicio - fin

Sheet Seguimiento 3
B2: SEGUIMIENTO COMPROMISOS ESTRATEGICOS Y/O INSTITUCIONALES
B3: 1. Identificacion
C4: 1.1. Nombre de la Entidad: | D4: ='Concertacion '!D4 -> Departamento Administrativo de la Funcion Publica
C5: 1.2. Dependencia | D5: ='Concertacion '!D5 -> Direccion de Empleo Publico
C6: 1.3. Nombre Gerente Publico | D6: ='Concertacion '!D6 -> Alex Rios
C7: 1.4. Nombre Superior Jerarquio | D7: ='Concertacion '!D7 -> Daniel Gomez
C8: 1.5 Fecha Sucripcion Acuerdo de Gestion | D8: 41715
C9: 1.6. Vigencia del Acuerdo de Gestion | D9: desde: 17/03/2014
D10: hasta: 31/12/2014
C11: 1.7. Periodo de seguimiento | D11: desde: 17/06/2014
D12: hasta: 17/09/2014
A15: 2. Concertacion | H15: 3. Evaluacion
A16: N° | B16: 2.1. Peso | C16: 2.2. Compromisos Estrategicos y/o Institucionales | D16: 2.3. Actividades | E16: 2.4 Meta | F16: 2.5. Indicador | G16: 2.6. Fecha inicio-fin | H16: 3.1. Resultado | L16: 3.2. Acumulado | M16: 3.3. Resultado peso POA | N16: 3.4. Analisis | O16: 3.5. Evidencias | Q16: 2.7. Observaciones
A17: 1. | B17: 0.3 | C17: Elaboracion de los componentes a incluir en el PND 2015-2018 en materia de Empleo Publico | D17: 1. Evaluar los proyectos y metas establecidos en el PND 2010-2014 | E17: 4 | F17: N° de actividades realizadas en el periodo establecido/N° de actividades programadas en el periodo establecido | G17: 01/03/2014 - 03/06/2014 | H17: I trimestre | I17: II trimestre | J17: III trimestre | K17: IV trimestre | L17: % Avance | O17: Descripcion | P17: Ubicación | Q17: Gerente Publico | R17: Superior Jerarquico
D18: 2. Realizar reuniones con los lideres de proyecto para definir metodologia y seguimiento a las propuestas | H18: =1/E17 -> 0.25 | I18: =+'Seguimiento 2'!I18:I20 -> 0.25 | J18: =2/E17 -> 0.5 | L18: =+H18+I18+J18 -> 1 | M18: =4*B17/E17 -> 0.3 | N18: en los primeros tres meses de gestion se cumplieron todas las actividades propuestas, teniendo como producto final el documento de los programas y proyectos aprobado por la Direccion General para incluir en el PND 2015-2018 | O18: Listas de asistencia de reuniones y mesas de trabajo para definir programas y proyectos. Doumento de propuestas y aprobacion por la Direccion General | P18: las evidencias se encuentran en la ruta dep_documentos_DEP2014_PND 2015-2018 | Q18: El compromiso estrategico se cumple al 100% en los primeros tres meses ya que es una actividad planeada para este periodo, por lo tanto no se tienen resultados de II a IV trimestre
D19: 3. Definir y evaluar las propuestas presentadas
D20: 4. Elaborar el documento propuesta para presentar la Direccion General
A21: 2. | B21: 0.4 | C21: Seguimiento al cumplimiento de las metas establecidas para la implementacion del SIGEP a nivel nacional y territorial | D21: Definir las metas de capacitacion, asesoria y seguimiento para la vigencia 2014, nivel nacional y territorial | E21: 20 | F21: Porcentaje de cumplimiento de cronograma de actividades, proyecto SIGEP | G21: 02/02/2014-28/11/2014 | H21: =7/25 -> 0.28 | I21: =+'Seguimiento 2'!I21:I23 -> 0.35 | J21: =5/E21 -> 0.25 | L21: =+H21+I21+J21+K21 -> 0.88 | M21: =+L21*B21 -> 0.352
D22: realizar reuniones con los coordinadores asignados para el seguimiento al cronograma de actividades
D23: seguimiento al indicador de crecimiento de hojas de vida y vinculacion de subsistema de recursos humanos
A24: 3. | B24: 0.3 | C24: Definicion del modelo estrategico de planeacion del recurso humano | D24: Seguimiento al diagnostico de aplicabilidad del modelo estrategico de planeacion del recurso humano | E24: 15 | F24: N° de actividades realizadas en el periodo establecido/N° de actividades programadas en el periodo establecido | G24: 02/03/2014- 28/11/2014 | H24: =3/30 -> 0.1 | I24: =+'Seguimiento 2'!I24:I26 -> 0.33333333 | J24: =6/E24 -> 0.4 | L24: =+H24+I24+J24+K24 -> 0.83333333 | M24: =14*B24/E24 -> 0.28
D25: reuniones periodicas con el equipo de trabajo para definir metodologia de revision
D26: acompañamiento y seguimiento a la prueba piloto de implementacion
A27: Total | B27: =SUM(B17:B26) -> 1 | H27: =SUM(H18:H26) -> 0.63 | I27: =SUM(I18:I26) -> 0.93333333 | J27: =SUM(J18:J26) -> 1.15 | L27: =SUM(L18:L26)/3 -> 0.90444444 | M27: =SUM(M18:M26) -> 0.932
D30: Firma del Superior Jerarquico | G30: Firma del Gerente Publico
B32: 4. Control de Cambios
B33: 4.1. Componente | C33: 4.2. Ajuste/Cambio | D33: 4.3. Control de Cambios | E33: 4.4. Fecha de Cambio | F33: 4.5. Evidencia | G33: 4.6. Firma del Superior Jerarquico | H33: 4.7. Firma del Gerente Publico
B34: Peso | C34: el peso actual del proyeto SIGEP es de 30%, sin embargo se aumenta al 40% | D34: De acuerdo al peso establecido, es necesario aumentar el peso de el compromiso estrategico y/o institucional al proyecto SIGEP y disminuyendo el peso a la definicion del modelo estrategico de planeacion de recurso humano, debido a que el alcance del proyecto SIGEP tiene una cobertura mas amplia | E34: 41807 | F34: la evidencia que soporta el cambio es el plan de proyecto de SIGEP, donde se especifica el alcance del mismo y se encuentra en la ruta xxx
B35: Compromiso Estrategico y/o Institucional
B36: Actividades
B37: Indicador
B38: Fecha de Inicio - fin

Sheet Seguimiento 4
B2: SEGUIMIENTO COMPROMISOS ESTRATEGICOS Y/O INSTITUCIONALES
B3: 1. Identificacion
C4: 1.1. Nombre de la Entidad: | D4: ='Concertacion '!D4 -> Departamento Administrativo de la Funcion Publica
C5: 1.2. Dependencia | D5: ='Concertacion '!D5 -> Direccion de Empleo Publico
C6: 1.3. Nombre Gerente Publico | D6: ='Concertacion '!D6 -> Alex Rios
C7: 1.4. Nombre Superior Jerarquio | D7: ='Concertacion '!D7 -> Daniel Gomez
C8: 1.5 Fecha Sucripcion Acuerdo de Gestion | D8: 41715
C9: 1.6. Vigencia del Acuerdo de Gestion | D9: desde: 17/03/2014
D10: hasta: 31/12/2014
C11: 1.7. Periodo de seguimiento | D11: desde: 17/09/2014
D12: hasta: 31/12/2014
A15: 2. Concertacion | H15: 3. Evaluacion
A16: N° | B16: 2.1. Peso | C16: 2.2. Compromisos Estrategicos y/o Institucionales | D16: 2.3. Actividades | E16: 2.4 Meta | F16: 2.5. Indicador | G16: 2.6. Fecha inicio-fin | H16: 3.1. Resultado | L16: 3.2. Acumulado | M16: 3.3. Resultado peso POA | N16: 3.4. Analisis | O16: 3.5. Evidencias | Q16: 2.7. Observaciones
A17: 1. | B17: 0.3 | C17: Elaboracion de los componentes a incluir en el PND 2015-2018 en materia de Empleo Publico | D17: 1. Evaluar los proyectos y metas establecidos en el PND 2010-2014 | E17: 4 | F17: N° de actividades realizadas en el periodo establecido/N° de actividades programadas en el periodo establecido | G17: 01/03/2014 - 03/06/2014 | H17: I trimestre | I17: II trimestre | J17: III trimestre | K17: IV trimestre | L17: % Avance | O17: Descripcion | P17: Ubicación | Q17: Gerente Publico | R17: Superior Jerarquico
D18: 2. Realizar reuniones con los lideres de proyecto para definir metodologia y seguimiento a las propuestas | H18: =1/E17 -> 0.25 | I18: =+'Seguimiento 2'!I18:I20 -> 0.25 | J18: =+'Seguimiento 3'!J18:J20 -> 0.5 | K18: 0 | L18: =+H18+I18+J18+K18 -> 1 | M18: =4*B17/E17 -> 0.3 | N18: en los primeros tres meses de gestion se cumplieron todas las actividades propuestas, teniendo como producto final el documento de los programas y proyectos aprobado por la Direccion General para incluir en el PND 2015-2018 | O18: Listas de asistencia de reuniones y mesas de trabajo para definir programas y proyectos. Doumento de propuestas y aprobacion por la Direccion General | P18: las evidencias se encuentran en la ruta dep_documentos_DEP2014_PND 2015-2018 | Q18: El compromiso estrategico se cumple al 100% en los primeros tres meses ya que es una actividad planeada para este periodo, por lo tanto no se tienen resultados de II a IV trimestre
D19: 3. Definir y evaluar las propuestas presentadas
D20: 4. Elaborar el documento propuesta para presentar la Direccion General
A21: 2. | B21: 0.4 | C21: Seguimiento al cumplimiento de las metas establecidas para la implementacion del SIGEP a nivel nacional y territorial | D21: Definir las metas de capacitacion, asesoria y seguimiento para la vigencia 2014, nivel nacional y territorial | E21: 20 | F21: Porcentaje de cumplimiento de cronograma de actividades, proyecto SIGEP | G21: 02/02/2014-28/11/2014 | H21: =7/25 -> 0.28 | I21: =+'Seguimiento 2'!I21:I23 -> 0.35 | J21: =+'Seguimiento 3'!J21:J23 -> 0.25 | K21: =8/E21 -> 0.4 | L21: =+H21+I21+J21+K21 -> 1.28 | M21: =22*B21/E21 -> 0.44
D22: realizar reuniones con los coordinadores asignados para el seguimiento al cronograma de actividades
D23: seguimiento al indicador de crecimiento de hojas de vida y vinculacion de subsistema de recursos humanos
A24: 3. | B24: 0.3 | C24: Definicion del modelo estrategico de planeacion del recurso humano | D24: Seguimiento al diagnostico de aplicabilidad del modelo estrategico de planeacion del recurso humano | E24: 15 | F24: N° de actividades realizadas en el periodo establecido/N° de actividades programadas en el periodo establecido | G24: 02/03/2014- 28/11/2014 | H24: =3/30 -> 0.1 | I24: =+'Seguimiento 2'!I24:I26 -> 0.33333333 | J24: =+'Seguimiento 3'!J24:J26 -> 0.4 | K24: =1/E24 -> 0.066666667 | L24: =+H24+I24+J24+K24 -> 0.9 | M24: =15*B24/E24 -> 0.3
D25: reuniones periodicas con el equipo de trabajo para definir metodologia de revision
D26: acompañamiento y seguimiento a la prueba piloto de implementacion
A27: Total | B27: =SUM(B17:B26) -> 1 | H27: =SUM(H18:H26) -> 0.63 | I27: =SUM(I18:I26) -> 0.93333333 | J27: =SUM(J18:J26) -> 1.15 | K27: =SUM(K18:K26) -> 0.46666667 | L27: =SUM(L18:L26)/3 -> 1.06 | M27: =SUM(M18:M26) -> 1.04
D30: Firma del Superior Jerarquico | G30: Firma del Gerente Publico
B32: 4. Control de Cambios
B33: 4.1. Componente | C33: 4.2. Ajuste/Cambio | D33: 4.3. Control de Cambios | E33: 4.4. Fecha de Cambio | F33: 4.5. Evidencia | G33: 4.6. Firma del Superior Jerarquico | H33: 4.7. Firma del Gerente Publico
B34: Peso | C34: el peso actual del proyeto SIGEP es de 30%, sin embargo se aumenta al 40% | D34: De acuerdo al peso establecido, es necesario aumentar el peso de el compromiso estrategico y/o institucional al proyecto SIGEP y disminuyendo el peso a la definicion del modelo estrategico de planeacion de recurso humano, debido a que el alcance del proyecto SIGEP tiene una cobertura mas amplia | E34: 41807 | F34: la evidencia que soporta el cambio es el plan de proyecto de SIGEP, donde se especifica el alcance del mismo y se encuentra en la ruta xxx
B35: Compromiso Estrategico y/o Institucional
B36: Actividades
B37: Indicador
B38: Fecha de Inicio - fin

Sheet Final
B2: SEGUIMIENTO COMPROMISOS ESTRATEGICOS Y/O INSTITUCIONALES
A4: 2. Concertacion | H4: 3. Evaluacion
A5: N° | B5: 2.1. Peso | C5: 2.2. Compromisos Estrategicos y/o Institucionales | D5: 2.3. Actividades | E5: 2.4 Meta | F5: 2.5. Indicador | G5: 2.6. Fecha inicio-fin | H5: 3.1. Resultado | L5: 3.2. Acumulado | M5: 3.3. Resultado peso POA
A6: 1. | B6: 0.3 | C6: Elaboracion de los componentes a incluir en el PND 2015-2018 en materia de Empleo Publico | D6: 1. Evaluar los proyectos y metas establecidos en el PND 2010-2014 | E6: 4 | F6: N° de actividades realizadas en el periodo establecido/N° de actividades programadas en el periodo establecido | G6: 01/03/2014 - 03/06/2014 | H6: I trimestre | I6: II trimestre | J6: III trimestre | K6: IV trimestre | L6: % Avance
D7: 2. Realizar reuniones con los lideres de proyecto para definir metodologia y seguimiento a las propuestas | H7: =1/E6 -> 0.25 | I7: 0.25 | J7: 0.5 | K7: 0 | L7: =+H7+I7+J7+K7 -> 1 | M7: =4*B6/E6 -> 0.3
D8: 3. Definir y evaluar las propuestas presentadas
D9: 4. Elaborar el documento propuesta para presentar la Direccion General
A10: 2. | B10: 0.4 | C10: Seguimiento al cumplimiento de las metas establecidas para la implementacion del SIGEP a nivel nacional y territorial | D10: Definir las metas de capacitacion, asesoria y seguimiento para la vigencia 2014, nivel nacional y territorial | E10: 20 | F10: Porcentaje de cumplimiento de cronograma de actividades, proyecto SIGEP | G10: 02/02/2014-28/11/2014 | H10: =7/25 -> 0.28 | I10: 0.35 | J10: 0.25 | K10: =8/E10 -> 0.4 | L10: =+H10+I10+J10+K10 -> 1.28 | M10: =22*B10/E10 -> 0.44
D11: realizar reuniones con los coordinadores asignados para el seguimiento al cronograma de actividades
D12: seguimiento al indicador de crecimiento de hojas de vida y vinculacion de subsistema de recursos humanos
A13: 3. | B13: 0.3 | C13: Definicion del modelo estrategico de planeacion del recurso humano | D13: Seguimiento al diagnostico de aplicabilidad del modelo estrategico de planeacion del recurso humano | E13: 15 | F13: N° de actividades realizadas en el periodo establecido/N° de actividades programadas en el periodo establecido | G13: 02/03/2014- 28/11/2014 | H13: =3/30 -> 0.1 | I13: 0.33 | J13: 0.4 | K13: =1/E13 -> 0.066666667 | L13: =+H13+I13+J13+K13 -> 0.89666667 | M13: =15*B13/E13 -> 0.3
D14: reuniones periodicas con el equipo de trabajo para definir metodologia de revision
D15: acompañamiento y seguimiento a la prueba piloto de implementacion
A16: Total | B16: =SUM(B6:B15) -> 1 | H16: =SUM(H7:H15) -> 0.63 | I16: =SUM(I7:I15) -> 0.93 | J16: =SUM(J7:J15) -> 1.15 | K16: =SUM(K7:K15) -> 0.46666667 | L16: =SUM(L7:L15)/3 -> 1.0588889 | M16: =SUM(M7:M15) -> 1.04

Sheet Componente de Gestion Adicional
B3: Compromisos administrativos
B4: Aportes adicionales | E4: Puntaje de aporte | H4: Acción de mejora
E5: 1 | F5: 2 | G5: 3
B6: 1 | C6: MECI y Sistema de Gestión de Calidad
B7: 2 | C7: Política de Salud y Seguridad en el Trabajo
B8: 3 | C8: Plan Institucional de Capacitación.
B9: 4 | C9: Sistema de Estimulos para servidores públicos
B10: 5 | C10: Facilitar la Participación Ciudadana en la gestión
B11: 6 | C11: Promover espacios de Rendición de Cuentas de su gestión a la ciudadanía
B12: 7 | C12: Desarrollo y uso de tecnologías de la información
B13: 8 | C13: Actualización permanente del Sistema de Información para la Gestión del Empleo Público-SIGEP
B14: 9 | C14: Apropiación de los valores de la entidad
B15: 10
B16: 11
B17: 12
B19: El superior gerarquico evalúa una vez al final de cada vigencia.

Sheet ANEXO 2
D1: UNIVERSIDAD DEL QUINDÍO
D2: SISTEMA INTEGRADO DE GESTIÓN
D3: Código: E.PE-01.01.IN.01.F.01 | E3: Versión: 01 | H3: Fecha: 2017/06/13
C4: Acuerdos de Gestión. Anexo 2: Valoración de Competencias
B6: Criterios de valoracion
C7: Es consistente en su comportamiento, da ejemplo e influye en otros, es un referente en su organización y trasciende su entorno de gestión. | H7: 5
C8: Es consistente en su comportamiento y se destaca entre sus pares y en los entornos donde se desenvuelve. Puede afianzar. | H8: 4
C9: Su comportamiento se evidencia de manera regular en los entornos en los que se desenvuelve. Puede mejorar. | H9: 3
C10: No es consistente en su comportamiento, requiere de acompañamiento. Puede mejorar. | H10: 2
C11: Su comportamiento no se manifiesta, requiere de retroalimentación directa y acompañamiento. Puede mejorar. | H11: 1
B13: Competencias comunes y directivas | D13: Conductas asociadas | E13: Valoracion Superior Jerárquico [1-5] | F13: Valoracion anterior | G13: Valoracion actual | H13: Comentarios para la retroalimentación
B14: 1 | C14: Orientación a resultados | D14: Cumple con oportunidad en función de estándares, objetivos y metas establecidas por la Universidad, las funciones que le son asignadas | G14: =AVERAGE(E18:E18) -> 0
D15: Asume responsabilidad por sus resultados
D16: Compromete recursos y tiempos para mejorar la productividad tomando las medidas necesarias para minimizar los riesgos.
D17: Realiza todas las acciones necesarias para alcanzar los objetivos propuestos enfrentando los obstáculos que se presenta
B18: Total Puntaje Evaluador | E18: =SUM(E14:E17)/4 -> 0
B19: 2 | C19: Orientación al ciudadano | D19: Atiende y valora las necesidades y peticiones de los usuarios y de ciudadanos en general | G19: =AVERAGE(E24:E24) -> 0
D20: Considera las necesidades de los usuarios al diseñar proyectos o servicios.
D21: Da respuesta oportuna a las necesidades de los usuarios de conformidad con el servicio que ofrece la Universidad.
D22: Establece diferentes canales de comunicación con el usuario para conocer sus necesidades y propuestas y responde a las mismas.
D23: Reconoce la interdependencia entre su trabajo y el de otros
B24: Total Puntaje Evaluador | E24: =SUM(E19:E23)/5 -> 0
B25: 3 | C25: Transparencia | D25: Proporciona información veraz, objetiva y basada en hechos. | G25: =AVERAGE(E30:E30) -> 0
D26: Facilita el acceso a la información relacionada con sus responsabilidades y con el servicio a cargo de la entidad en que labora.
D27: Demuestra imparcialidad en sus decisiones.
D28: Ejecuta funciones con base en las normas y criterios aplicables.
D29: Utiliza los recursos de la Universidad para el desarrollo de las labores y prestación del servicio.
B30: Total Puntaje Evaluador | E30: =SUM(E25:E29)/5 -> 0
B31: 4 | C31: Compromiso con la organización | D31: Promueve las metas de la Universidad y respeta sus normas. | G31: =AVERAGE(E35:E35) -> 0
D32: Antepone las necesidades de la organización a sus propias necesidades
D33: Apoya a la organización en situaciones difíciles.
D34: Demuestra sentido de pertenencia en todas sus actuaciones
B35: Total Puntaje Evaluador | E35: =SUM(E31:E34)/4 -> 0
B36: 5 | C36: Liderazgo | D36: Mantiene a sus colaboradores motivados | G36: =AVERAGE(E41:E41) -> 0
D37: Fomenta la comunicación clara, directa y concreta
D38: Constituye y mantiene grupos de trabajo con un desempeño conforme a los estándares. Promueve la eficacia del equipo.
D39: Genera un clima positivo y de seguridad en sus colaboradores.
D40: Fomenta la participación de todos en los que unifica esfuerzos hacia objetivos y metas institucionales.
B41: Total Puntaje Evaluador | E41: =SUM(E36:E40)/5 -> 0
B42: 6 | C42: Planeación | D42: Anticipa situaciones y escenarios futuros con acierto. | G42: =AVERAGE(E48:E48) -> 0
...

Sheet ANEXO 3
C2: UNIVERSIDAD DEL QUINDÍO
C3: SISTEMA INTEGRADO DE GESTIÓN
C4: Código: E.PE-01.01.IN.01.F.01 | D4: Versión: 01 | E4: Fecha: 2017/06/13
B5: Acuerdos de Gestión. Anexo 3: Consolidación de Evaluación del Acuerdo de Gestión
C7: Nombre del Directivo Universitario:
C8: Área en la que se desempeña:
C9: Fecha:
C12: CONCERTACIÓN, SEGUIMIENTO, RETROALIMENTACIÓN Y EVALUACIÓN DE COMPROMISOS GERENCIALES (Anexo 1) | D12: ='ANEXO 1'!P35 -> 0 | E12: =(D12*D13)/100% -> 0
C13: PONDERADO | D13: 0.8
C14: VALORACION DE COMPETENCIAS (Anexo 2) | D14: ='ANEXO 2'!G68 -> 0 | E14: =(D14*D15)/5 -> 0
C15: PONDERADO | D15: 0.2
C16: NOTA FINAL | E16: =SUM(E12:E15) -> 0
D21: CUMPLIMIENTO FINAL | E21: =E16 -> 0
B27: Firma del Supervidor Jerárquico | D27: Firma del Directivo Universitario.
D31: FECHA:
D32: VIGENCIA:

Sheet Instructivo
B2: 1. Identificacion | C2: 1.1. Nombre de la Entidad:
C3: 1.2. Nombre Gerente Publico
C4: 1.3. Nombre Superior Jerarquio
C5: 1.3. Fecha Sucripcion Acuerdo de Gestion
C6: 1.4.Vigencia del Acuerdo de Gestion
B8: 2. Concertacion | C8: 2.1. Peso | D8: Asigne el puntaje de importancia que se le da a cada compromiso respecto a los demás, teniendo en cuenta la planeación estratégica de la Entidad, si el compromiso es de mayor importancia, entonces su peso será mayor, siendo la totalidad de los mismos 100%.
C9: 2.2. Compromisos Estrategicos y/o Institucionales | D9: Se entienden por compromisos institucionales los adquiridos para llevar a cabo el cumplimiento de los objetivos y metas estratégicas. Todo ello se concreta en el “Plan Operativo de Acción” (POA) de cada entidad pública.
C10: 2.3. Actividades | D10: son las acciones que se realizan para ejecutar el compromiso estratégico/institucional. Estas actividades coinciden con las establecidas en la planeación institucional.
C11: 2.4. Meta | D11: escriba el numero asignado para la meta a la que corresponde el compromiso en el “Plan Operativo de Acción” (POA).
C12: 2.5. Indicador | D12: Son el mecanismo para valorar el cumplimiento de las metas establecidas y el progreso de los compromisos institucionales. Se recomienda que la definición de los indicadores se realice con el apoyo de la oficina de planeación.
C13: 2.6. Fecha inicio-fin | D13: Se debe establecer el periodo en el que se ejecutará el compromiso institucional.
C14: 2.7 Obervaciones /Gerente Publico
C15: 2.7 Obervaciones /Superior Jerarquio
B16: 3. Evaluacion | C16: 3.1. Resultado
C17: 3.2. Acumulado/ % Avance
C18: 3.3. Resultado peso POA
C19: 3.4. Analisis
C20: 3.5. Evidencias/Descripcion
C21: 3.5. Evidencias/Ubicación
