Workbook
Name Eje_1_Universidad_Pertinente: 'Formulación - Segumiento'!$AQ$3:$AQ$5
Name Eje_2_Universidad_Creativa: 'Formulación - Segumiento'!$AQ$6:$AQ$7
Name Eje_3_Universidad_Integradora: 'Formulación - Segumiento'!$AQ$8:$AQ$10
Name Objetivo_1_Consolidar_una_oferta_académica_pertinente_y_de_alta_calidad__mediante_el_aseguramiento_de_los_procesos_académicos__de_investigación_y_extensión__para_garantizar_la_formación_desde_el_ser__el_saber_y_el_hacer.: 'Formulación - Segumiento'!#REF!
Name Objetivo_2_Posicionar_la_investigación_y_la_innovación_pertinente_como_referente_institucional__a_través_de_grupos_y_programas_de_investigación__consolidados__fortaleciendo_su_impacto_en_la_transformación_de_la_sociedad_desde_lo_humano__lo_económico__lo_i: 'Formulación - Segumiento'!#REF!
Name Objetivo_3_Fortalecer_los_procesos_de_extensión_para_satisfacer_las_exigencias_y_necesidades_del_entorno__aportando_a_la_solución_de_problemáticas_del_desarrollo_social.: 'Formulación - Segumiento'!#REF!
Name Objetivo_4_Fortalecer_la_gestión_universitaria_y_el_mejoramiento_continuo__a_través_de_la_innovación_y_la_creatividad_para_alcanzar_y_sostener_la_acreditación_institucional.: 'Formulación - Segumiento'!#REF!
Name Objetivo_5_Asegurar_un_enfoque_humano_multidimensional_en_todos_los_procesos_de_bienestar__mediante_su_transversalización__para_consolidar_la_formación_integral_y_el_mejoramiento_del_clima_organizacional.: 'Formulación - Segumiento'!#REF!
Name Objetivo_6_Generar_impacto_social_mediante_la_participación_activa_de_los_egresados_en_la_región_y_el_país__para_el_mejoramiento_de_su_posicionamiento_en_el_entorno.: 'Formulación - Segumiento'!#REF!
Name Objetivo_7_Articular_los_procesos_académicos__de_investigación__extensión_y_de_cultura__mediante_convenios_y_redes_a_nivel_mundial__con_el_fin_de_visibilizar_la_Universidad_en_el_entorno_internacional.: 'Formulación - Segumiento'!#REF!
Name Objetivo_8_Contribuir_a_la_construcción_de_una_sociedad_sostenible_y_resiliente__educando_para_la_paz_en_el_posconflicto_con__sensibilidad_estética_y_ambiental__la_cultura__la_formación_académica_y_científica_para__tener_un_papel_protagónico_e_influyente: 'Formulación - Segumiento'!#REF!
Name P_1_Calidad_Académica_Pertinente: 'Evaluación Final'!$E$4
Name P_2_Investigación_Pertinente: 'Evaluación Final'!$E$5
Name P_3_Extensión_y_Proyección_Social_Pertinente: 'Evaluación Final'!$E$6
Name P_4_Gestión_Creativa: 'Evaluación Final'!$E$7
Name P_5_Bienestar_y_Cultura_Creativa: 'Evaluación Final'!$E$8
Name P_6_Integradora_con_el_Egresado: 'Evaluación Final'!$E$9
Name P_7_Integradora_con_la_Internacionalización_y_Movilidad: 'Evaluación Final'!$E$10
Name P_8_Integradora_con_el_Entorno: 'Evaluación Final'!$E$11
Name Pilar_1_Calidad_Académica_Pertinente: 'Formulación - Segumiento'!$AR$3
Name Pilar_2_Investigación_Pertinente: 'Formulación - Segumiento'!$AR$4
Name Pilar_3_Extensión_y_Proyección_Social_Pertinente: 'Formulación - Segumiento'!$AR$5
Name Pilar_4_Gestión_Creativa: 'Formulación - Segumiento'!$AR$6
Name Pilar_5_Bienestar_y_Cultura_Creativa: 'Formulación - Segumiento'!$AR$7
Name Pilar_6_Integradora_con_el_Egresado: 'Formulación - Segumiento'!$AR$8
Name Pilar_7_Integradora_con_la_Internacionalización_y_Movilidad: 'Formulación - Segumiento'!$AR$9
Name Pilar_8_Integradora_con_el_Entorno: 'Formulación - Segumiento'!$AR$10

Sheet Instructivo
C3: UNIVERSIDAD DEL QUINDIO
C4: SISTEMA INTEGRADO DE GESTION
C5: Código: E.PE-01.01.F.06 | F5: Versión: 01 | G5: Fecha: 2017/03/01
C6: Plan Anual de Gestión
A8: Campo | C8: Descripción
A9: Eje Estratégico | C9: Constituyen las líneas estratégica y sistemática institucionales, es decir, las grandes líneas de acción para operativizar la visión y misión de la Universidad, se encuentra establecidas en el Plan de Desarrollo Institucional.
A10: Pilar Estratégico | C10: Se convierten en el soporte del accionar institucional que permita la interacción de las funciones misionales de la Universidad, con el logro de la misión y visión institucional, se encuentran establecidos en el Plan de Desarrollo Institucional.
A11: Objetivos institucionales o de Calidad | C11: Se encuentran definidos en el Plan de Desarrollo Institucional y el Plan Estratégico Institucional y que deberán estar relacionados con los las acciones estratégicas a desarrollar para lograr la visión y misión institucional.
A12: Meta del Año | C12: Están establecidas en el plan de desarrollo institucional y son el fundamento operativo de la estrategia institucional, varían cada año.
A13: Actividades | C13: Corresponden a las principales acciones definidas por las facultades y las áreas que harán posible el logro de los compromisos y que generan las evidencias que permitan el seguimiento a la gestión.
A14: Responsable Ejecución | C14: En este espacio se específica el área responsable de ejecutar las acciones que permitan responder por el logro de las actividad propuesta.
A15: Resultados Esperados | C15: Se establece los productos a entregar una vez se desarrolle la actividad, debe ser clara y estar cuantificada, es decir, determinar un valor que me permita ser medido.
A16: Indicador | C16: Es la representación cuantitativa en número o porcentaje del cumplimiento de las actividades ejecutadas, debe ser verificable y estar alineados con los indicadores estratégicos institucionales.
A17: Peso Ponderado Actividades | C17: Es asignación del peso porcentual por cada actividad, la sumatoria de los diferentes pesos es del 100%.
A18: Fecha Inicio | C18: Corresponde a la fecha en que comienza la ejecución de cada una de las actividades concertado en el cual deberán adelantarse las acciones necesarias para el cumplimiento de esta.
A19: Fecha Finalización | C19: Corresponde a la fecha en que termina la ejecución de cada una de las actividades concertado en el cual deberán finalizar las acciones necesarias para el cumplimiento de esta.
... A29: Peso Ponderado Pilar Estratégico | C29: La asignación del peso porcentual por cada pilar estratégico, estará de acuerdo con los resultados de las ponderaciones realizadas por la Oficina de Gestión y Aseguramiento de la Calidad dentro del proceso de autoevaluación con fines de la acreditación de alta calidad institucional. La sumatoria de todos los pilares debe dar el 100%.

Sheet Formulación - Segumiento
AP2: Ejes Estratégicos | AQ2: Pilares Estratégicos | AR2: Objetivos Estratégicos y de Calidad
AP3: Eje_1_Universidad_Pertinente | AQ3: Pilar_1_Calidad_Académica_Pertinente | AR3: Objetivo_1_Consolidar una oferta académica pertinente y de alta calidad, mediante el aseguramiento de los procesos académicos, de investigación y extensión, para garantizar la formación desde el ser, el saber y el hacer.
AP4: Eje_2_Universidad_Creativa | AQ4: Pilar_2_Investigación_Pertinente | AR4: Objetivo_2_Posicionar la investigación y la innovación pertinente como referente institucional, a través de grupos y programas de investigación, consolidados; fortaleciendo su impacto en la transformación de la sociedad desde lo humano, lo económico, lo industrial, lo ambiental, lo cultural y lo político.
AP5: Eje_3_Universidad_Integradora | AQ5: Pilar_3_Extensión_y_Proyección_Social_Pertinente | AR5: Objetivo_3_Fortalecer los procesos de extensión para satisfacer las exigencias y necesidades del entorno, aportando a la solución de problemáticas del desarrollo social.
AQ6: Pilar_4_Gestión_Creativa | AR6: Objetivo_4_Fortalecer la gestión universitaria y el mejoramiento continuo, a través de la innovación y la creatividad para alcanzar y sostener la acreditación institucional.
AQ7: Pilar_5_Bienestar_y_Cultura_Creativa | AR7: Objetivo_5_Asegurar un enfoque humano multidimensional en todos los procesos de bienestar, mediante su transversalización, para consolidar la formación integral y el mejoramiento del clima organizacional.
AQ8: Pilar_6_Integradora_con_el_Egresado | AR8: Objetivo_6_Generar impacto social mediante la participación activa de los egresados en la región y el país, para el mejoramiento de su posicionamiento en el entorno.
AQ9: Pilar_7_Integradora_con_la_Internacionalización_y_Movilidad | AR9: Objetivo_7_Articular los procesos académicos, de investigación, extensión y de cultura, mediante convenios y redes a nivel mundial, con el fin de visibilizar la Universidad en el entorno internacional.
AQ10: Pilar_8_Integradora_con_el_Entorno | AR10: Objetivo_8_Contribuir a la construcción de una sociedad sostenible y resiliente, educando para la paz en el posconflicto con sensibilidad estética y ambiental, la cultura, la formación académica y científica para tener un papel protagónico e influyente en la sociedad.
B13: UNIVERSIDAD DEL QUINDIO
B14: SISTEMA INTEGRADO DE GESTION
B15: Código: E.PE-01.01.F.06 | C15: Versión: 05 | E15: Fecha: 2017/03/01
B16: Plan Anual de Gestión
A18: Facultad / Macroproceso / Área
A19: Responsable | C19: Cargo
A20: Periodo Fiscal del Plan | B20: 2017
A22: Eje Estratégico | B22: Pilar | C22: Objetivo Institucional | D22: Meta del Año | E22: Acciones Estratégicas a Desarrollar | F22: Responsables Ejecución | G22: Resultados Esperados (Impacto) | H22: Indicador Medir Resultados | I22: Peso Ponderado Actividad | J22: Fecha | L22: % programado a cumplir en el 1er semestre | M22: % cumplimiento de Indicador 1er Semestre | N22: Observaciones Avance 1er semestre | O22: % programado a cumplir en el 2do semestre | P22: % cumplimiento de Indicador 2do Semestre | Q22: Cumplimiento Año | R22: Resultados | S22: Evidencia | T22: Ubicación
J23: Inicio | K23: Finalización
A24: Eje_1_Universidad_Pertinente | B24: Pilar_1_Calidad_Académica_Pertinente | C24: Objetivo_1_Consolidar una oferta académica pertinente y de alta calidad, mediante el aseguramiento de los procesos académicos, de investigación y extensión, para garantizar la formación desde el ser, el saber y el hacer. | Q24: =M24+P24 -> 0 | R24: =Q24*I24 -> 0
Q25: =M25+P25 -> 0 | R25: =Q25*I25 -> 0
Q26: =M26+P26 -> 0 | R26: =Q26*I26 -> 0
Q27: =M27+P27 -> 0 | R27: =Q27*I27 -> 0
Q28: =M28+P28 -> 0 | R28: =Q28*I28 -> 0
B29: Pilar_2_Investigación_Pertinente | C29: Objetivo_2_Posicionar la investigación y la innovación pertinente como referente institucional, a través de grupos y programas de investigación, consolidados; fortaleciendo su impacto en la transformación de la sociedad desde lo humano, lo económico, lo industrial, lo ambiental, lo cultural y lo político. | Q29: =M29+P29 -> 0 | R29: =Q29*I29 -> 0
Q30: =M30+P30 -> 0 | R30: =Q30*I30 -> 0
Q31: =M31+P31 -> 0 | R31: =Q31*I31 -> 0
Q32: =M32+P32 -> 0 | R32: =Q32*I32 -> 0
Q33: =M33+P33 -> 0 | R33: =Q33*I33 -> 0
B34: Pilar_3_Extensión_y_Proyección_Social_Pertinente | C34: Objetivo_3_Fortalecer los procesos de extensión para satisfacer las exigencias y necesidades del entorno, aportando a la solución de problemáticas del desarrollo social. | Q34: =M34+P34 -> 0 | R34: =Q34*I34 -> 0
Q35: =M35+P35 -> 0 | R35: =Q35*I35 -> 0
Q36: =M36+P36 -> 0 | R36: =Q36*I36 -> 0
Q37: =M37+P37 -> 0 | R37: =Q37*I37 -> 0
Q38: =M38+P38 -> 0 | R38: =Q38*I38 -> 0
A39: Eje_2_Universidad_Creativa | B39: Pilar_4_Gestión_Creativa | C39: Objetivo_4_Fortalecer la gestión universitaria y el mejoramiento continuo, a través de la innovación y la creatividad para alcanzar y sostener la acreditación institucional. | Q39: =M39+P39 -> 0 | R39: =Q39*I39 -> 0
Q40: =M40+P40 -> 0 | R40: =Q40*I40 -> 0
Q41: =M41+P41 -> 0 | R41: =Q41*I41 -> 0
Q42: =M42+P42 -> 0 | R42: =Q42*I42 -> 0
Q43: =M43+P43 -> 0 | R43: =Q43*I43 -> 0
B44: Pilar_5_Bienestar_y_Cultura_Creativa | C44: Objetivo_5_Asegurar un enfoque humano multidimensional en todos los procesos de bienestar, mediante su transversalización, para consolidar la formación integral y el mejoramiento del clima organizacional. | Q44: =M44+P44 -> 0 | R44: =Q44*I44 -> 0
Q45: =M45+P45 -> 0 | R45: =Q45*I45 -> 0
Q46: =M46+P46 -> 0 | R46: =Q46*I46 -> 0
Q47: =M47+P47 -> 0 | R47: =Q47*I47 -> 0
Q48: =M48+P48 -> 0 | R48: =Q48*I48 -> 0
A49: Eje_3_Universidad_Integradora | B49: Pilar_6_Integradora_con_el_Egresado | C49: Objetivo_6_Generar impacto social mediante la participación activa de los egresados en la región y el país, para el mejoramiento de su posicionamiento en el entorno. | D49: Contar con una bolsa de empleo en permanente actividad. | Q49: =M49+P49 -> 0 | R49: =Q49*I49 -> 0
Q50: =M50+P50 -> 0 | R50: =Q50*I50 -> 0
Q51: =M51+P51 -> 0 | R51: =Q51*I51 -> 0
Q52: =M52+P52 -> 0 | R52: =Q52*I52 -> 0
Q53: =M53+P53 -> 0 | R53: =Q53*I53 -> 0
B54: Pilar_7_Integradora_con_la_Internacionalización_y_Movilidad | C54: Objetivo_7_Articular los procesos académicos, de investigación, extensión y de cultura, mediante convenios y redes a nivel mundial, con el fin de visibilizar la Universidad en el entorno internacional. | Q54: =M54+P54 -> 0 | R54: =Q54*I54 -> 0
Q55: =M55+P55 -> 0 | R55: =Q55*I55 -> 0
Q56: =M56+P56 -> 0 | R56: =Q56*I56 -> 0
Q57: =M57+P57 -> 0 | R57: =Q57*I57 -> 0
Q58: =M58+P58 -> 0 | R58: =Q58*I58 -> 0
B59: Pilar_8_Integradora_con_el_Entorno | C59: Objetivo_8_Contribuir a la construcción de una sociedad sostenible y resiliente, educando para la paz en el posconflicto con sensibilidad estética y ambiental, la cultura, la formación académica y científica para tener un papel protagónico e influyente en la sociedad. | Q59: =M59+P59 -> 0 | R59: =Q59*I59 -> 0
Q60: =M60+P60 -> 0 | R60: =Q60*I60 -> 0
Q61: =M61+P61 -> 0 | R61: =Q61*I61 -> 0
Q62: =M62+P62 -> 0 | R62: =Q62*I62 -> 0
Q63: =M63+P63 -> 0 | R63: =Q63*I63 -> 0

Sheet Evaluación Final
C3: Eje | D3: Pilar | E3: Ponderado Característica | F3: Ponderado Eje
C4: Pertinente | D4: P_1_Calidad_Académica_Pertinente | E4: 0.43333 | F4: 0.57833
D5: P_2_Investigación_Pertinente | E5: 0.12
D6: P_3_Extensión_y_Proyección_Social_Pertinente | E6: 0.025
C7: Creativa | D7: P_4_Gestión_Creativa | E7: 0.22 | F7: 0.3
D8: P_5_Bienestar_y_Cultura_Creativa | E8: 0.08
C9: Integradora | D9: P_6_Integradora_con_el_Egresado | E9: 0.03 | F9: 0.12167
D10: P_7_Integradora_con_la_Internacionalización_y_Movilidad | E10: 0.06667
D11: P_8_Integradora_con_el_Entorno | E11: 0.025
B14: UNIVERSIDAD DEL QUINDIO
B15: SISTEMA INTEGRADO DE GESTION
B16: Código: E.PE-01.01.F.06 | D16: Versión: 05 | G16: Fecha: 2017/03/01
B17: Plan Anual de Gestión
A20: Eje Estratégico | B20: Cumplimiento Eje Estretégico | C20: Resultados Eje Estretégico | D20: Pilar | E20: Peso Ponderado Pilar | F20: Cumplimiento Pilar Estretégico | G20: Resultados Pilar Estretégico
A21: Eje 1 Universidad Pertinente | B21: =F21+F22+F23 -> 0 | C21: =G21+G22+G23 -> 0 | D21: P_1_Calidad_Académica_Pertinente | E21: 0.43333 | F21: =AVERAGEIFS('Formulación - Segumiento'!$Q$24:$Q$63,'Formulación - Segumiento'!$B$24:$B$63,"Pilar_1_Calidad_Académica_Pertinente") -> 0 | G21: =E21*F21 -> 0
D22: P_2_Investigación_Pertinente | E22: 0.12 | F22: =AVERAGEIFS('Formulación - Segumiento'!$Q$24:$Q$63,'Formulación - Segumiento'!$B$24:$B$63,"Pilar_2_Investigación_Pertinente") -> 0 | G22: =E22*F22 -> 0
D23: P_3_Extensión_y_Proyección_Social_Pertinente | E23: 0.025 | F23: =AVERAGEIFS('Formulación - Segumiento'!$Q$24:$Q$63,'Formulación - Segumiento'!$B$24:$B$63,"Pilar_3_Extensión_y_Proyección_Social_Pertinente") -> 0 | G23: =E23*F23 -> 0
A24: Eje 2 Universidad Creativa | B24: =F24+F25 -> 0 | C24: =G24+G25 -> 0 | D24: P_4_Gestión_Creativa | E24: 0.22 | F24: =AVERAGEIFS('Formulación - Segumiento'!$Q$24:$Q$63,'Formulación - Segumiento'!$B$24:$B$63,"Pilar_4_Gestión_Creativa") -> 0 | G24: =E24*F24 -> 0
D25: P_5_Bienestar_y_Cultura_Creativa | E25: 0.08 | F25: =AVERAGEIFS('Formulación - Segumiento'!$Q$24:$Q$63,'Formulación - Segumiento'!$B$24:$B$63,"Pilar_5_Bienestar_y_Cultura_Creativa") -> 0 | G25: =E25*F25 -> 0
A26: Eje 3 Universidad Integradora | B26: =F26+F27+F28 -> 0 | C26: =G26+G27+G28 -> 0 | D26: P_6_Integradora_con_el_Egresado | E26: 0.03 | F26: =AVERAGEIFS('Formulación - Segumiento'!$Q$24:$Q$63,'Formulación - Segumiento'!$B$24:$B$63,"Pilar_6_Integradora_con_el_Egresado") -> 0 | G26: =E26*F26 -> 0
D27: P_7_Integradora_con_la_Internacionalización_y_Movilidad | E27: 0.06667 | F27: =AVERAGEIFS('Formulación - Segumiento'!$Q$24:$Q$63,'Formulación - Segumiento'!$B$24:$B$63,"Pilar_7_Integradora_con_la_Internacionalización_y_Movilidad") -> 0 | G27: =E27*F27 -> 0
D28: P_8_Integradora_con_el_Entorno | E28: 0.025 | F28: =AVERAGEIFS('Formulación - Segumiento'!$Q$24:$Q$63,'Formulación - Segumiento'!$B$24:$B$63,"Pilar_8_Integradora_con_el_Entorno") -> 0 | G28: =E28*F28 -> 0
A29: Resultado Total | B29: =B21+B24+B26 -> 0 | C29: =C21+C24+C26 -> 0
