Workbook

Sheet matriz_riesgos_macroprocesos
G1: PERSONAS | J1: Riesgo Estratégico | O1: 1 | P1: RARO | Q1: El evento puede ocurrir solo en circunstancias excepcionales. | R1: No se ha presentado en los últimos 5 años | U1: 1 | V1: Insignificante | W1: Si el hecho llegara a presentarse, tendría consecuencias o efectos mínimos sobre la entidad | AN1: Confidencialidad de la información | AS1: Insignificante | AT1: Menor | AU1: Moderado | AV1: Mayor | AW1: Catastrófico
C2: DIRECCIONAMIENTO ESTRATÉGICO | E2: Objetivo Estratégico 1: Mejorar la capacidad en cantidad y calidad de la planta de profesores. | G2: MATERIALES | J2: Riesgo de imagen | O2: 2 | P2: IMPROBABLE | Q2: El evento puede ocurrir en algún momento | R2: Al menos de 1 vez en los últimos 5 años | U2: 2 | V2: Menor | W2: Si el hecho llegara a presentarse, tendría bajo impacto o efecto sobre la entidad | AN2: Credibilidad o imagen | AR2: RARO | AS2: B: Zona de riesgo baja: Asumir el riesgo | AT2: B: Zona de riesgo baja: Asumir el riesgo | AU2: M: Zona de riesgo moderado: Asumir el riesgo, Reducir el riesgo | AV2: A: Zona de riesgo alta: Reducir el riesgo, Evitar, compartir o transferir | AW2: A: Zona de riesgo alta: Reducir el riesgo, Evitar, compartir o transferir
C3: PLANEACIÓN ESTRATÉGICA | E3: Objetivo Estratégico 2: Acreditar con alta calidad de la educación los programas académicos y la institución. | G3: INSTALACIONES | J3: Riesgo operativo | O3: 3 | P3: POSIBLE | Q3: El evento podría ocurrir en algún momento | R3: Al menos de 1 vez en los últimos 2 años | U3: 3 | V3: Moderado | W3: Si el hecho llegara a presentarse, tendría medianas consecuencias o efectos sobre la entidad | AN3: Legal | AR3: IMPROBABLE | AS3: B: Zona de riesgo baja: Asumir el riesgo | AT3: B: Zona de riesgo baja: Asumir el riesgo | AU3: M: Zona de riesgo moderado: Asumir el riesgo, Reducir el riesgo | AV3: A: Zona de riesgo alta: Reducir el riesgo, Evitar, compartir o transferir | AW3: E: Zona de riesgo Extrema: Reducir el riesgo, evitar , compartir y transferir
C4: COMUNICACIÓN ESTRATÉGICA | E4: Objetivo Estratégico 3: Enfocar la investigación a las necesidades y potencialidades de la sociedad y la región. | G4: ENTORNO | J4: Riesgo financiero | O4: 4 | P4: PROBABLE | Q4: El evento probablemente ocurrirá en la mayoría de las circunstancias | R4: Al menos de 1 vez en el ultimo año | U4: 4 | V4: Mayor | W4: Si el hecho llegara a presentarse, tendría altas consecuencias o efectos sobre la entidad | AN4: Operativo | AR4: POSIBLE | AS4: B: Zona de riesgo baja: Asumir el riesgo | AT4: M: Zona de riesgo moderado: Asumir el riesgo, Reducir el riesgo | AU4: A: Zona de riesgo alta: Reducir el riesgo, Evitar, compartir o transferir | AV4: E: Zona de riesgo Extrema: Reducir el riesgo, evitar , compartir y transferir | AW4: E: Zona de riesgo Extrema: Reducir el riesgo, evitar , compartir y transferir
C5: DOCENCIA | E5: Objetivo Estratégico 4: Formar y capacitar el recurso humano con énfasis en la investigación. | G5: OTROS | J5: Riesgo de cumplimiento | O5: 5 | P5: CASI SEGURO | Q5: Se espera que el evento ocurra en la mayoría de las circunstancias | R5: Mas de 1 vez al año | U5: 5 | V5: Catastrófico | W5: Si el hecho llegara a presentarse, tendría desastrosas consecuencias o efectos sobre la entidad . | AR5: PROBABLE | AS5: M: Zona de riesgo moderado: Asumir el riesgo, Reducir el riesgo | AT5: A: Zona de riesgo alta: Reducir el riesgo, Evitar, compartir o transferir | AU5: A: Zona de riesgo alta: Reducir el riesgo, Evitar, compartir o transferir | AV5: E: Zona de riesgo Extrema: Reducir el riesgo, evitar , compartir y transferir | AW5: E: Zona de riesgo Extrema: Reducir el riesgo, evitar , compartir y transferir
C6: INVESTIGACIÓN | E6: Objetivo Estratégico 5: Satisfacer las necesidades y expectativas de la sociedad a través de la identificación de sus necesidades, requisitos y construcción de soluciones que aporten al desarrollo de la región. | J6: Riesgo de Tecnología | AR6: CASI SEGURO | AS6: A: Zona de riesgo alta: Reducir el riesgo, Evitar, compartir o transferir | AT6: A: Zona de riesgo alta: Reducir el riesgo, Evitar, compartir o transferir | AU6: E: Zona de riesgo Extrema: Reducir el riesgo, evitar , compartir y transferir | AV6: E: Zona de riesgo Extrema: Reducir el riesgo, evitar , compartir y transferir | AW6: E: Zona de riesgo Extrema: Reducir el riesgo, evitar , compartir y transferir
C7: PROYECCIÓN SOCIAL | E7: Objetivo Estratégico 6: Comunicar eficientemente los logros institucionales y mejorar el posicionamiento de la Universidad. | V7: Confidencialidad de la información | W7: 1 | Y7: Personal
C8: ADMINISTRACIÓN DEL CAMPUS | E8: Objetivo Estratégico 7: Intercambiar servicios y productos académicos a nivel internacional. | W8: 2 | Y8: Grupo de trabajo
C9: GESTIÓN HUMANA | E9: Objetivo Estratégico 8: Mejorar la retención de estudiantes y la cobertura de servicios de bienestar institucional. | W9: 3 | Y9: Relativa al proceso | AC9: Posee una herramienta para ejercer el control | AD9: 15 | AN9: Entre 0 - 50 | AO9: 0 | AQ9: 0
C10: GESTION APOYO ACADÉMICO | E10: Objetivo Estratégico 9: Mejorar el desempeño institucional a través de la gestión eficaz, eficiente y efectiva de los procesos internos para alcanzar la acreditación institucional. | W10: 4 | Y10: Institucional | AC10: Existen manuales , instructivos o procedimientos para el manejo de la herramienta | AD10: 15 | AN10: Entre 51 - 75 | AO10: 1 | AQ10: 1
C11: GESTIÓN FINANCIERA | E11: Objetivo Estratégico 10: Incrementar la disponibilidad de recursos tecnológicos para el cumplimiento de los procesos misionales y de apoyo. | W11: 5 | Y11: Estratégica | AC11: En el tiempo que lleva la herramienta ha demostrado ser efectivo | AD11: 30 | AN11: Entre 76 - 100 | AO11: 2 | AQ11: 2
C12: GESTIÓN DE BIENESTAR INSTITUCIONAL | E12: Objetivo Estratégico 11: Mejorar la calidad de los espacios físicos y optimizar su funcionamiento. | V12: Credibilidad o imagen | W12: 1 | Y12: Grupo de Funcionarios | AC12: Están definidos los responsables de la ejecución del control y del seguimiento | AD12: 15
C13: GESTIÓN BIBLIOTECA | E13: Objetivo Estratégico 12: Dotar a la Institución de los equipos y elementos necesarios para el cumplimiento de su misión. | W13: 2 | Y13: Todos los Funcionarios | AC13: la frecuencia de ejecución del control y seguimiento es adecuada | AD13: 25
C14: GESTIÓN RECURSOS ACADÉMICOS | T14: INACEPTABLE E INTOLERABLE | W14: 3 | Y14: Usuarios Ciudad
C15: GESTIÓN DOCUMENTAL | N15: INHERENTE | T15: NO | W15: 4 | Y15: Usuarios Región | AD15: 0 | AE15: 0 | AF15: 0 | AG15: 0 | AH15: 0
C16: GESTIÓN JURÍDICA | N16: CORRUPCION | W16: 5 | Y16: Usuarios País | AD16: 15 | AE16: 15 | AF16: 30 | AG16: 15 | AH16: 25
C17: CONTROL INTERNO | V17: Impacto legal | W17: 1 | Y17: Multas
C18: GESTION TICS | W18: 2 | Y18: Demandas
W19: 3 | Y19: Investigación Disciplinaria
W20: 4 | Y20: Investigación Fiscal
W21: 5 | Y21: Intervención - Sanción
V22: Impacto operativo | W22: 1 | Y22: Ajustes a una actividad concreta
W23: 2 | Y23: Cambios en procedimientos
W24: 3 | Y24: Cambios en la interacción de los procesos
W25: 4 | Y25: Intermitencia en el servicio
W26: 5 | Y26: Paro total del proceso
C34: E.GC-F.02 | H34: Versión: 02 | K34: Fecha: 2015/20/01
B36: IDENTIFICACIÓN DEL RIESGO | O36: ANÁLISIS DEL RIESGO | Z36: VALORACIÓN DEL RIESGO | BE36: POLÍTICAS DE ADMINISTRACIÓN DE RIESGOS
O37: CALIFICACIÓN DE LA PROBABILIDAD | S37: CALIFICACION DEL IMPACTO | Z37: EVALUACION DE LOS CONTROLES EXISTENTES | AS37: NUEVA CALIFICACION
B38: N° | C38: FECHA DE IDENTIFICACIÓN (dd/mm/aaaa) | D38: FECHA DE EVALUACION (dd/mm/aaaa) | E38: MACROPROCESO | F38: OBJETIVO DEL MACROPROCESO U OBJETIVO INSTITUCIONAL AFECTADO | G38: PARTICIPANTES DE LA IDENTIFICACIÓN | H38: CAUSAS | I38: AGENTE GENERADOR | J38: RIESGO | K38: CATEGORIA O CLASE DE RIESGO | L38: DESCRIPCIÓN | M38: EFECTOS (CONSECUENCIAS POTENCIALES ) | N38: TIPO DE RIESGO | O38: NIVEL | P38: DESCRIPTOR | Q38: DESCRIPCION | R38: FRECUENCIA | S38: NIVEL | T38: DESCRIPTOR | U38: DESCRIPCION | W38: TIPO DE IMPACTO | X38: CLADIFICACION DEL IMPACTO RIESGOS DE CORRUPCION | Y38: CLASIFICACION DEL IMPACTO (ir a la tabla Tipo_impacto ). | Z38: CALIFICACION DEL RIESGO (SEMAFORIZACION) | AA38: columna 4 | AB38: Columna 5 | AC38: ACCIONES | AD38: CRITERIOS DE EVALUACIÓN DE LOS CONTROLES | AO38: RANGO DE CALIFICACION DE LOS CONTROLES EN PROBABILIDAD | AP38: RANGO DE CALIFICACION DE LOS CONTROLES EN IMPACTO | AQ38: CUADRANTES EN DISMINUIR EN LA PROBABILIDAD | AR38: CUADRANTES A DISMINUIR EN EL IMPACTO | AS38: NIVEL | AT38: DESCRIPTOR | AU38: DESCRIPCION | AV38: FRECUENCIA | AW38: NIVEL | AX38: DESCRIPTOR | AY38: DESCRIPCION | BC38: NUEVA CALIFICACION DEL RIESGO | BD38: ANALISIS DEL RIESGOS RESIDUAL DESPUES DE APLICAR CONTROLES | BE38: ACCIONES PREVENTIVAS (CONTROLES) | BG38: PRESUPUESTO | BI38: RESPONSABLE | BK38: CRONOGRAMA | BM38: SEGUIMIENTOS
B39: 1 | C39: 41341 | D39: 42858 | E39: GESTIÓN FINANCIERA | F39: Objetivo Estratégico 9: Mejorar el desempeño institucional a través de la gestión eficaz, eficiente y efectiva de los procesos internos para alcanzar la acreditación institucional. | G39: Profesional especializado área Financiera (Líder del macroproceso) Profesional especializado Contador Técnico Operativo Contable Equipo SIG | H39: Inclusión de gastos no autorizados. Inversiones de dinero público en entidades de dudosa solidez financiera, a cambio de beneficios indebidos para servidores públicos encargados de su administración. Inexistencia de registros auxiliares que permitan identificar y controlar los rubros de inversión. Archivos contables con vacíos de información. Afectar rubros que no corresponden con objeto del gasto en beneficio propio o a cambio de una retribución económica | I39: PERSONAS | J39: Movimientos financieros | K39: Riesgo financiero | L39: Debido a la acción u omisión, mediante el uso indebido de poder, de los recursos o de la información, puede ocurrir un riesgo de movimientos financiera de corrupción lo que ocasionaría lesiones en los intereses de la entidad y en consecuencia del estado, para obtener un beneficio en particular esto ocasionaría , mala imagen , perdida de credibilidad y sanciones | M39: Pérdida de oportunidades de mercado Mala imagen institucional sanciones multas Perdida de credibilidad Sanciones | N39: CORRUPCION | O39: 1 | P39: =VLOOKUP(O39,$O$1:$P$5,2,FALSE) -> RARO | Q39: =VLOOKUP(P39,$P$1:$Q$5,2,FALSE) -> El evento puede ocurrir solo en circunstancias excepcionales. | R39: =VLOOKUP(Q39,$Q$1:$R$5,2,FALSE) -> No se ha presentado en los últimos 5 años | S39: 4 | T39: =VLOOKUP(S39,$U$1:$V$5,2,FALSE) -> Mayor | U39: =VLOOKUP(T39,$V$1:$W$5,2,FALSE) -> Si el hecho llegara a presentarse, tendría altas consecuencias o efectos sobre la entidad | W39: Legal | X39: INACEPTABLE E INTOLERABLE | Y39: 5 | Z39: =INDEX($AS$2:$AW$6,AA40,AB40) -> A: Zona de riesgo alta: Reducir el riesgo, Evitar, compartir o transferir | AC39: PREVENTIVOS | AD39: PROBABILIDAD ( califique los criterios que le aplican ) | AN39: TOTAL PROBABILIDAD | AO39: Entre 76 - 100 | AP39: Entre 76 - 100 | AQ39: =VLOOKUP(AO39,$AN$9:$AO$11,2,FALSE) -> 2 | AR39: =VLOOKUP(AP39,$AN$9:$AO$11,2,FALSE) -> 2 | AS39: =O39-AQ39 -> -1 | AT39: =VLOOKUP(AS39,$O$1:$P$5,2,FALSE) -> #N/A | AU39: =VLOOKUP(AT39,$P$1:$Q$5,2,FALSE) -> #N/A | AV39: =VLOOKUP(AU39,$Q$1:$R$5,2,FALSE) -> #N/A | AW39: =S39-AR39 -> 2 | AX39: =VLOOKUP(AW39,$U$1:$V$5,2,FALSE) -> Menor | AY39: =VLOOKUP(AX39,$V$1:$W$5,2,FALSE) -> Si el hecho llegara a presentarse, tendría bajo impacto o efecto sobre la entidad | BC39: =INDEX($AS$2:$AW$6,BA40,BB40) -> #N/A | BD39: Se puede determinar que con los controles existentes en la institución y según su valoración se disminuyen en la frecuencia de ocurrencia y en el impacto por consiguiente dan como resultado riesgos que en el momento no se materializan y que se controlan de manera efectiva. Nota: N/A significa que en la disminución de la calificación se sale de la matriz de calificación no alcanza un nivel medible. | BE39: 1. Fomentar la Cultura del autocontrol y seguimiento entre los supervisores, interventores y responsables de proyectos. (Correos electrónicos). 2. Socializar y capacitar a los Supervisores frente a la responsabilidad que se le asigne. | BG39: N.A | BI39: Clara Inés Aristizabal Roa Daniel Hernández María Cristina Posso Echeverri Juan Carlos Duque Ortiz. Gloria Patricia Villa Monttoya. | BK39: 1. Permanente 2. Permanente 3. Anual | BM39: 1 | BN39: 2 | BO39: 3 | BP39: 4
AA40: =MATCH(P39,$AR$2:$AR$6,0) -> 1 | AB40: =MATCH(T39,$AS$1:$AW$1,0) -> 4 | AC40: Logins de perfiles de usuario para acceder a los diferentes módulos y programas del aplicativo SEVEN Articulación del Comité de inversiones | AD40: Posee una herramienta para ejercer el control | AE40: 15 | AF40: Existen manuales, instructivos o procedimientos para el manejo de la herramienta | AG40: 15 | AH40: En el tiempo que lleva la herramienta ha demostrado ser efectiva. | AI40: 30 | AJ40: Están definidos los responsables de la ejecución del control y del seguimiento | AK40: 15 | AL40: La frecuencia de ejecución del control y seguimiento es adecuada. | AM40: 25 | AN40: =AE40+AG40+AI40+AK40+AM40 -> 100 | BA40: =MATCH(AT39,$AR$2:$AR$6,0) -> #N/A | BB40: =MATCH(AX39,$AS$1:$AW$1,0) -> 2 | BM40: 1. Se entregó informe de seguimiento y ejecuión presupuestal al Consejo Superior con corte a Marzo 31 de 2017. 1. Se elaboró informe de seguimiento a rubros presupuestales a cargo de las Facultades. 2. Desde el área de Compras y suministros se notifica a supervisores informando de sus responsabilidades frente a la ejecución del contrato para el cual ha sido elegido para hacer la supervisión. Actividades relacionadas con aspectos técnicos, presupuetales, jurídicos, administrativos y financieros. 3. Actividad que se adelantará una vez sea aprobado el nuevo manual de contratación.
AC41: CORRECTIVOS | AD41: IMPACTO ( califique los criterios que le aplican ) | AN41: TOTAL IMPACTO
AC42: Generación de reportes oportunos que permitan la identificación de registros equivocados. | AD42: Posee una herramienta para ejercer el control | AE42: 15 | AF42: Existen manuales, instructivos o procedimientos para el manejo de la herramienta | AG42: 15 | AH42: En el tiempo que lleva la herramienta ha demostrado ser efectiva. | AI42: 30 | AJ42: Están definidos los responsables de la ejecución del control y del seguimiento | AK42: 15 | AL42: La frecuencia de ejecución del control y seguimiento es adecuada. | AM42: 25 | AN42: =AE42+AG42+AI42+AK42+AM42 -> 100 | BM42: SEGUIMIENTOS
B43: 2 | C43: 41341 | D43: 42858 | E43: GESTIÓN FINANCIERA | F43: Objetivo Estratégico 9: Mejorar el desempeño institucional a través de la gestión eficaz, eficiente y efectiva de los procesos internos para alcanzar la acreditación institucional. | G43: Profesional especializado área Financiera (Líder del macroproceso) Profesional Líder proceso de contratación. Equipo SIG | H43: Estudios previos o de factibilidad superficiales y/o realizados, sobre estudios de mercados no actualizados. Estudios previos o de factibilidad manipulados por el personal interesado en el futuro proceso de contratación. Pliego de condiciones hechos a la medida de una forma en particular. Disposiciones establecida en los pliegos de condiciones que permiten a los particulares direccionar los procesos hacia un grupo en particular, a la medida geométrica. Adendas que cambian condiciones generales del proceso para favorecer a grupos determinados. Urgencia manifiesta inexistente. Designar supervisores que no cuentan con competencias suficientes para desempeñar la función. Concentrar las labores de supervisión de múltiples contratos en poco personal. Designar la función de elaboración de estudios previos y supervisión en un mismo funcionario. Divulgación de la información en el tiempo adecuado. | I43: PERSONAS | J43: contratación | K43: Riesgo financiero | L43: Debido a la acción u omisión, mediante el uso indebido de poder, de los recursos o de la información, puede ocurrir un riesgo de corrupción lo que ocasionaría lesiones en los intereses de una entidad y en consecuencia del estado, para obtener un beneficio en particular esto ocasionaría , mala imagen , perdida de credibilidad y sanciones | M43: Mala imagen institucional Pérdida de credibilidad Sanciones Multas Demandas | N43: CORRUPCION | O43: 1 | P43: =VLOOKUP(O43,$O$1:$P$5,2,FALSE) -> RARO | Q43: =VLOOKUP(P43,$P$1:$Q$5,2,FALSE) -> El evento puede ocurrir solo en circunstancias excepcionales. | R43: =VLOOKUP(Q43,$Q$1:$R$5,2,FALSE) -> No se ha presentado en los últimos 5 años | S43: 4 | T43: =VLOOKUP(S43,$U$1:$V$5,2,FALSE) -> Mayor | U43: =VLOOKUP(T43,$V$1:$W$5,2,FALSE) -> Si el hecho llegara a presentarse, tendría altas consecuencias o efectos sobre la entidad | W43: Legal | X43: INACEPTABLE E INTOLERABLE | Y43: 5 | Z43: =INDEX($AS$2:$AW$6,AA44,AB44) -> A: Zona de riesgo alta: Reducir el riesgo, Evitar, compartir o transferir | AC43: PREVENTIVOS | AD43: PROBABILIDAD ( califique los criterios que le aplican ) | AN43: TOTAL PROBABILIDAD | AO43: Entre 76 - 100 | AP43: Entre 0 - 50 | AQ43: =VLOOKUP(AO43,$AN$9:$AO$11,2,FALSE) -> 2 | AR43: =VLOOKUP(AP43,$AN$9:$AO$11,2,FALSE) -> 0 | AS43: =O43-AQ43 -> -1 | AT43: =VLOOKUP(AS43,$O$1:$P$5,2,FALSE) -> #N/A | AU43: =VLOOKUP(AT43,$P$1:$Q$5,2,FALSE) -> #N/A | AV43: =VLOOKUP(AU43,$Q$1:$R$5,2,FALSE) -> #N/A | AW43: =S43-AR43 -> 4 | AX43: =VLOOKUP(AW43,$U$1:$V$5,2,FALSE) -> Mayor | AY43: =VLOOKUP(AX43,$V$1:$W$5,2,FALSE) -> Si el hecho llegara a presentarse, tendría altas consecuencias o efectos sobre la entidad | BC43: =INDEX($AS$2:$AW$6,BA44,BB44) -> #N/A | BD43: Se puede determinar que con los controles existentes en la institución y según su valoración se disminuyen en la frecuencia de ocurrencia y en el impacto por consiguiente dan como resultado riesgos que en el momento no se materializan y que se controlan de manera efectiva. Nota: N/A significa que en la disminución de la calificación se sale de la matriz de calificación no alcanza un nivel medible. | BE43: 1. Solicitar Socialización del nuevo manual de contratación. 2. Capacitación de la ley 734 de 2002 en armonia con la ley 1474 de 2011 ( Estatuto Anticorrupción). | BG43: N.A | BI43: Gloria Patricia Villa Montoya. Acompañamiento de la Oficina Asesora Jurídica. Oficina de Control de Asuntos disciplinarios | BK43: Segundo semestre del 2017 1 cada semestre | BM43: 1 | BN43: 2 | BO43: 3 | BP43: 4
AA44: =MATCH(P43,$AR$2:$AR$6,0) -> 1 | AB44: =MATCH(T43,$AS$1:$AW$1,0) -> 4 | AC44: Manual de contratación de la Institución. Información en línea ERP Seven. Formatos soportes para el proceso de contratación. Publicación en la web de los diferentes tipos de contratación ( transparencia). | AD44: Posee una herramienta para ejercer el control | AE44: 15 | AF44: Existen manuales, instructivos o procedimientos para el manejo de la herramienta | AG44: 15 | AH44: En el tiempo que lleva la herramienta ha demostrado ser efectiva. | AI44: 30 | AJ44: Están definidos los responsables de la ejecución del control y del seguimiento | AK44: 15 | AL44: La frecuencia de ejecución del control y seguimiento es adecuada. | AM44: 25 | AN44: =AE44+AG44+AI44+AK44+AM44 -> 100 | BA44: =MATCH(AT43,$AR$2:$AR$6,0) -> #N/A | BB44: =MATCH(AX43,$AS$1:$AW$1,0) -> 4 | BM44: 1. Después de aprobado el nuevo manual de contratación y una vez se retomen las actividades academico adminstrativas del segundo semestre de 2017se programará la capacitación referida, con el apoyo de la oficina asesora jurídica. 2. Se han realizado capacitaciones en temas del régimen disciplinario, capacitación estudiantes, inhabilidades, incompatibilidades y prohibiciones del servidor público. Acciones de repetición. Se realizó impresión del boletín disciplinario, el cual fue entregado en las porterías de la institución. Inducción nuevo Código de Policía. Instrucciones calidad del servicio, contrato de vigilancia y seguridad (Febrero 13 de 2017), se realizo de manera masiva en el auditorio del bloque de Ciencias Básicas . Por otra parte se realiza acciones Preventivas enviando memorando generales y actualización de temas en la página web.
AC45: CORRECTIVOS | AD45: IMPACTO ( califique los criterios que le aplican ) | AN45: TOTAL IMPACTO
AC46: Dar traslado a la autoridad competente para determinar la gravedad de la conducta. | AD46: Posee una herramienta para ejercer el control | AE46: 15 | AF46: Existen manuales, instructivos o procedimientos para el manejo de la herramienta | AG46: 15 | AH46: En el tiempo que lleva la herramienta ha demostrado ser efectiva. | AI46: 0 | AJ46: Están definidos los responsables de la ejecución del control y del seguimiento | AK46: 15 | AL46: La frecuencia de ejecución del control y seguimiento es adecuada. | AM46: 0 | AN46: =AE46+AG46+AI46+AK46+AM46 -> 45 | BM46: SEGUIMIENTOS
B47: 3 | C47: 41341 | D47: 42858 | E47: TODOS LOS PROCESOS | F47: Objetivo Estratégico 9: Mejorar el desempeño institucional a través de la gestión eficaz, eficiente y efectiva de los procesos internos para alcanzar la acreditación institucional. | G47: Profesional especializado área gestión Documental (Líder del macroproceso) Profesional Personal de apoyo Técnico operativo . Equipo SIG Profesional y líder del proceso de Control de asuntos disciplinarios | H47: Concentración de información de determinadas actividades o procesos en una persona. Sistemas de información susceptibles de manipulación o adulteración. Ocultar a la ciudadanía la información considerada publica. Deficiencias en el manejo documental y de archivo. Desconocimiento de la información de reserva. Custodia y cuidado de documentación Información concentrada en cada equipo asignado al funcionario Falta de un sistema para guardar la información de una manera optima y confiable. | I47: PERSONAS | J47: Manejo de información | K47: Riesgo financiero | L47: Debido a la acción u omisión, mediante el uso indebido de poder, de los recursos o de la información, puede ocurrir un riesgo de corrupción lo que ocasionaría lesiones en los intereses de una entidad y en consecuencia del estado, para obtener un beneficio en particular esto ocasionaría , mala imagen , pérdida de credibilidad y sanciones | M47: Mala imagen institucional Pérdida de credibilidad Sanciones Multas | N47: CORRUPCION | O47: 2 | P47: =VLOOKUP(O47,$O$1:$P$5,2,FALSE) -> IMPROBABLE | Q47: =VLOOKUP(P47,$P$1:$Q$5,2,FALSE) -> El evento puede ocurrir en algún momento | R47: =VLOOKUP(Q47,$Q$1:$R$5,2,FALSE) -> Al menos de 1 vez en los últimos 5 años | S47: 4 | T47: =VLOOKUP(S47,$U$1:$V$5,2,FALSE) -> Mayor | U47: =VLOOKUP(T47,$V$1:$W$5,2,FALSE) -> Si el hecho llegara a presentarse, tendría altas consecuencias o efectos sobre la entidad | W47: Legal | X47: INACEPTABLE E INTOLERABLE | Y47: 5 | Z47: =INDEX($AS$2:$AW$6,AA48,AB48) -> A: Zona de riesgo alta: Reducir el riesgo, Evitar, compartir o transferir | AC47: PREVENTIVOS | AD47: PROBABILIDAD ( califique los criterios que le aplican ) | AN47: TOTAL PROBABILIDAD | AO47: Entre 76 - 100 | AP47: Entre 0 - 50 | AQ47: =VLOOKUP(AO47,$AN$9:$AO$11,2,FALSE) -> 2 | AR47: =VLOOKUP(AP47,$AN$9:$AO$11,2,FALSE) -> 0 | AS47: =O47-AQ47 -> 0 | AT47: =VLOOKUP(AS47,$O$1:$P$5,2,FALSE) -> #N/A | AU47: =VLOOKUP(AT47,$P$1:$Q$5,2,FALSE) -> #N/A | AV47: =VLOOKUP(AU47,$Q$1:$R$5,2,FALSE) -> #N/A | AW47: =S47-AR47 -> 4 | AX47: =VLOOKUP(AW47,$U$1:$V$5,2,FALSE) -> Mayor | AY47: =VLOOKUP(AX47,$V$1:$W$5,2,FALSE) -> Si el hecho llegara a presentarse, tendría altas consecuencias o efectos sobre la entidad | BC47: =INDEX($AS$2:$AW$6,BA48,BB48) -> #N/A | BD47: Se puede determinar que con los controles existentes en la institución y según su valoración se disminuyen en la frecuencia de ocurrencia y en el impacto por consiguiente dan como resultado riesgos que en el momento no se materializan y que se controlan de manera efectiva. Nota: N/A significa que en la disminución de la calificación se sale de la matriz de calificación no alcanza un nivel medible. | BE47: 1. Socializar la política de información confidencial. 2. Gestionar e implementar sistema de seguridad para el archivo histórico. 3. Solicitar al centro de sistemas el levantamiento del software para manejo de documentación en el proceso de asuntos disciplinarios. 4. Solicitar al proceso de planeación física espacio para la implementación del sistema oral en materia disciplinaria. | BG47: N.A | BI47: 1. y 2. Líder macroproceso Gestión Documental Oficina de Control de asuntos disciplinarios | BK47: 1. julio - diciembre 2017 3.Trimestral 4.primer semestre del 2017 | BM47: 1 | BN47: 2 | BO47: 3 | BP47: 4
AA48: =MATCH(P47,$AR$2:$AR$6,0) -> 2 | AB48: =MATCH(T47,$AS$1:$AW$1,0) -> 4 | AC48: Políticas de información confidencial. Roles de usuarios para manejo de información. Todo documento en sobre cerrado dirigido a la oficina de asuntos disciplinarios no se abrirán en el proceso de Gestión Documental | AD48: Posee una herramienta para ejercer el control | AE48: 15 | AF48: Existen manuales, instructivos o procedimientos para el manejo de la herramienta | AG48: 15 | AH48: En el tiempo que lleva la herramienta ha demostrado ser efectiva. | AI48: 30 | AJ48: Están definidos los responsables de la ejecución del control y del seguimiento | AK48: 15 | AL48: La frecuencia de ejecución del control y seguimiento es adecuada. | AM48: 25 | AN48: =AE48+AG48+AI48+AK48+AM48 -> 100 | BA48: =MATCH(AT47,$AR$2:$AR$6,0) -> #N/A | BB48: =MATCH(AX47,$AS$1:$AW$1,0) -> 4 | BM48: Seguimientos 1 y 2 de 2017: 1. Registros de asistencia y presentación a once (11) dependencias de marzo a junio de 2017, sobre producción documental que incluye norma interna y aspectos importantes sobre la "confidencialidad". 2. Puerta de seguridad instalada, para protección y seguridad del archivo histórico.
...

Sheet Evaluación_Respuesta.
C3: IMPACTO
B4: PROBABILIDAD | C4: 1 (INSIGNIFICANTE) | D4: 2 (MENOR) | E4: 3 (MODERADO) | F4: 4 (MAYOR) | G4: 5 (CATASTROFICO)
B5: RARO (1) | C5: B | D5: B | E5: M | F5: A | G5: A
B6: IMPROBABLE (2) | C6: B | D6: B | E6: M | F6: A | G6: E
B7: POSIBLE (3) | C7: B | D7: M | E7: A | F7: E | G7: E
B8: PROBABLE (4) | C8: M | D8: A | E8: A | F8: E | G8: E
B9: CASI SEGURO (5) | C9: A | D9: A | E9: E | F9: E | G9: E
B12: COLOR | C12: EVALUACION | D12: RESPUESTA A LOS RIESGOS
B13: AZUL ( B) | C13: Zona de riesgo baja | D13: Asumir el riesgo
B14: AMARILLO ( M) | C14: Zona de riesgo moderada | D14: Asumir el riesgo, reducir el riesgo
B15: NARANJA ( A) | C15: Zona de riesgo alta | D15: Reducir el riesgo, Evitar, Compartir o transferir
B16: ROJO ( E) | C16: Zona de riesgo extrema | D16: Reducir el riesgo, Evitar, Compartir o transferir

Sheet Tipo_impacto 
C3: IMPACTO DE CONFIENCIALIDAD DE LA INFORMACION
C5: NIVEL | D5: CONCEPTO
C6: 1 | D6: PERSONAL
C7: 2 | D7: GRUPO DE TRABAJO
C8: 3 | D8: RELATIVA AL PROCESO
C9: 4 | D9: INSTITUCIONAL
C10: 5 | D10: ESTRATEGICA
C12: IMPACTO DE CREDIBILIDAD O IMAGEN
C14: NIVEL | D14: CONCEPTO
C15: 1 | D15: GRUPO DE FUNCIONARIOS
C16: 2 | D16: TODOS LOS FUNCIONARIOS
C17: 3 | D17: USUARIOS DE LA CIUDAD
C18: 4 | D18: USUARIOS REGION
C19: 5 | D19: USUARIOS PAIS
C21: IMPACTO DE LEGAL
C23: NIVEL | D23: CONCEPTO
C24: 1 | D24: MULTAS
C25: 2 | D25: DEMANDAS
C26: 3 | D26: INVESTIGACION DISCIPLINARIA
C27: 4 | D27: INVESTIGACION FISCAL
C28: 5 | D28: INTERVENCION - SANCION
C30: IMPACTO OPERATIVO
C32: NIVEL | D32: CONCEPTO
C33: 1 | D33: AJUSTES A UNA ACTIVIDAD CONCRETA
C34: 2 | D34: CAMBIOS EN PROCEDIMIENTOS
C35: 3 | D35: CAMBIOS EN LA INTERACCION DE LOS PROCESOS
C36: 4 | D36: IINTERMITENCIA EN EL SERVICIO
C37: 5 | D37: PARO TOTAL DEL PROCESO

Sheet GRAFICA 
A27: N° | B27: FECHA REGISTRO (dd/mm/aaaa) | C27: CALIFICACION DE LA PROBABILIDAD | D27: CALIFICACION DEL IMPACTO | E27: VALOR Y UBICACIÓN DEL RIESGO EN LA MATRIZ = PROBABILIDAD X IMPACTO | F27: SEMAFORIZACION | G27: ANALISIS Y OBSERVACIONES DEL COMPORTAMIENTO DEL RIESGO
A28: 1 | B28: =matriz_riesgos_macroprocesos!D39 -> 42858 | C28: =matriz_riesgos_macroprocesos!AS39 -> -1 | D28: =matriz_riesgos_macroprocesos!AW39 -> 2 | E28: =C28*D28 -> -2 | F28: =matriz_riesgos_macroprocesos!BC39 -> #N/A
A29: 2 | B29: =matriz_riesgos_macroprocesos!D43 -> 42858 | C29: =matriz_riesgos_macroprocesos!AS43 -> -1 | D29: =matriz_riesgos_macroprocesos!AW43 -> 4 | E29: =C29*D29 -> -4 | F29: =matriz_riesgos_macroprocesos!BC43 -> #N/A
A30: 3 | B30: =matriz_riesgos_macroprocesos!D47 -> 42858 | C30: =matriz_riesgos_macroprocesos!AS47 -> 0 | D30: =matriz_riesgos_macroprocesos!AW47 -> 4 | E30: =C30*D30 -> 0 | F30: =matriz_riesgos_macroprocesos!BC47 -> #N/A
A31: 4 | B31: =matriz_riesgos_macroprocesos!D51 -> 42858 | C31: =matriz_riesgos_macroprocesos!AS51 -> 0 | D31: =matriz_riesgos_macroprocesos!AW51 -> 5 | E31: =C31*D31 -> 0 | F31: =matriz_riesgos_macroprocesos!BC51 -> #N/A
A32: 5 | B32: =matriz_riesgos_macroprocesos!D51 -> 42858 | C32: =matriz_riesgos_macroprocesos!AS55 -> 0 | D32: =matriz_riesgos_macroprocesos!AW55 -> 3 | E32: =C32*D32 -> 0 | F32: =matriz_riesgos_macroprocesos!BC55 -> #N/A
A33: 6 | B33: =matriz_riesgos_macroprocesos!D59 -> 42858 | C33: =matriz_riesgos_macroprocesos!AS59 -> 0 | D33: =matriz_riesgos_macroprocesos!AW59 -> 4 | E33: =C33*D33 -> 0 | F33: =matriz_riesgos_macroprocesos!BC59 -> #N/A
A34: 7 | B34: =matriz_riesgos_macroprocesos!D63 -> 42858 | C34: =matriz_riesgos_macroprocesos!AS63 -> 0 | D34: =matriz_riesgos_macroprocesos!AW63 -> 4 | E34: =C34*D34 -> 0 | F34: =matriz_riesgos_macroprocesos!BC63 -> #N/A
A37: B: Zona de riesgo baja: Asumir el riesgo
A38: M: Zona de riesgo moderado: Asumir el riesgo, Reducir el riesgo
A39: A: Zona de riesgo alta: Reducir el riesgo, Evitar, compartir o transferir
A40: E: Zona de riesgo Extrema: Reducir el riesgo, evitar , compartir y transferir
